BEGIN:VCALENDAR
VERSION:2.0
PRODID:-//UP BAR REVIEW - ECPv6.14.2//NONSGML v1.0//EN
CALSCALE:GREGORIAN
METHOD:PUBLISH
X-ORIGINAL-URL:https://upbarreview.com
X-WR-CALDESC:Events for UP BAR REVIEW
REFRESH-INTERVAL;VALUE=DURATION:PT1H
X-Robots-Tag:noindex
X-PUBLISHED-TTL:PT1H
BEGIN:VTIMEZONE
TZID:UTC
BEGIN:STANDARD
TZOFFSETFROM:+0000
TZOFFSETTO:+0000
TZNAME:UTC
DTSTART:20240101T000000
END:STANDARD
END:VTIMEZONE
BEGIN:VEVENT
DTSTART;TZID=UTC:20241207T080000
DTEND;TZID=UTC:20241207T110000
DTSTAMP:20260420T125900
CREATED:20241202T195822Z
LAST-MODIFIED:20241202T195822Z
UID:10002460-1733558400-1733569200@upbarreview.com
SUMMARY:Menominee/Marinette Twin County Airport - Breakfast with Santa
DESCRIPTION:Mark your calendars for a festive morning at the Menominee Regional Airport! Come welcome Santa and share your Christmas wishes with him!\n\n Event Highlights:\nThe event starts at 8AM with Santa arriving at 8:30\nMeet Santa: Get a chance to share your Christmas list directly with the man in red!\nPhoto Opportunities: Capture magical moments with Santa after his grand arrival.\nDelicious Pancake Breakfast: Enjoy a scrumptious pancake breakfast\, with all proceeds supporting the Menominee EAA Chapter.\n\n\nYour support makes a difference! The funds raised will help our local aviation community thrive. This past year\, we proudly awarded three scholarships to deserving local students\, helping them on their journey to obtain their pilot certificates.\n\nJoin us for a morning filled with joy\, community spirit\, and the magic of flight! Your participation ensures that we can continue to provide access to aviation and inspire the next generation of aviators.\n\nThank you for your support! We can’t wait to see you there! 
URL:https://upbarreview.com/event/menominee-marinette-twin-county-airport-breakfast-with-santa/
LOCATION:Menominee-Marinette Twin County Airport\, 2801 22nd St\, Menominee\, MI\, 49858
CATEGORIES:Menominee
END:VEVENT
BEGIN:VEVENT
DTSTART;TZID=UTC:20241207T080000
DTEND;TZID=UTC:20241207T170000
DTSTAMP:20260420T125900
CREATED:20241202T201247Z
LAST-MODIFIED:20241202T201247Z
UID:10002470-1733558400-1733590800@upbarreview.com
SUMMARY:YMCA Marinette/Menominee - Gliders Gymnastics Home Meet - Menominee
DESCRIPTION:Our Gliders Gymnastics team is hosting multiple YMCAs right here in our facility December 7-8\, 2024. Raffles\, gymnastics\, half pig raffle\, and more!\nThe YMCA will be open as normal but some spaces due to the event will be closed.\nGymnasium & all racquetball courts closed starting Friday at 7:00 AM through Sunday 5:00 PM\n*this is a public event
URL:https://upbarreview.com/event/ymca-marinette-menominee-gliders-gymnastics-home-meet-menominee/2024-12-07/
LOCATION:YMCA Menominee/Marinette\, 1600 West Dr\, Menominee\, MI\, 49858\, United States
CATEGORIES:Menominee
END:VEVENT
BEGIN:VEVENT
DTSTART;TZID=UTC:20241207T080000
DTEND;TZID=UTC:20241207T183000
DTSTAMP:20260420T125900
CREATED:20241202T203735Z
LAST-MODIFIED:20241202T203735Z
UID:10002488-1733558400-1733596200@upbarreview.com
SUMMARY:Rec Center - Christmas in Marinette - Marinette
DESCRIPTION:Get ready to experience a day overflowing with Christmas spirit at the Marinette Rec Center! This year’s celebration promises to be bigger and better than ever\, packed with activities and events for all ages. From fun crafts and games for the little ones to holiday entertainment for the adults\, there’s something for everyone to enjoy. The highlight of the day will be our annual Christmas Parade\, with this year’s theme being “It’s a Zany Zoo Christmas 2024!” Join us for an unforgettable day of holiday magic\, laughter\, and festive fun as we kick off the season together! \nIf your business would like to join our parade please fill out this form: https://www.marinette.wi.us/431/Parade-Application\nThe events are as follows:8am – 10am – Christmas Cookie Decorating with Mrs. Claus ($5 per child\, must pre-register.)9am – 3:30pm – Christmas Craft Show10am – 2pm – Christmas Music and Carolers (Tentative)1 pm – 3:30pm – Christmas Pictures with Santa5pm – 6pm – Christmas Parade6pm – 6:30pm – Marinette Marching Band/lighting of MerchantsPark/Laser Light Show6:30pm – 8pm – FREE Christmas Movie at the Mariner Theatre
URL:https://upbarreview.com/event/rec-center-christmas-in-marinette-marinette/
LOCATION:Marinette Recreation Center\, 2501 Pierce Avenue\, Marinette\, WI\, 54143\, United States
CATEGORIES:Menominee
END:VEVENT
BEGIN:VEVENT
DTSTART;TZID=UTC:20241207T090000
DTEND;TZID=UTC:20241207T103000
DTSTAMP:20260420T125900
CREATED:20241202T210925Z
LAST-MODIFIED:20241202T210925Z
UID:10002512-1733562000-1733567400@upbarreview.com
SUMMARY:NWTC Marinette - Hour of Code
DESCRIPTION:Hour of Code is a hands-on event that aims to make computer programming accessible to people of all ages. It offers fun and interactive coding activities using easy-to-learn platforms\, encouraging critical thinking and problem-solving skills. Join us and explore the world of coding and technology in an inclusive and encouraging environment.\nWho should attend?Students\, parents\, guardians\, grandparents\, and learners of all ages.\n*ALL NWTC Campuses and Regional Centers will be hosting! Finda location close to home to participate.*No experience in programming is needed.*Our instructors will guide you through simple and fun tutorialsfeaturing familiar characters.*T-shirts for participants and drawings for prizes are part of thefun!\n*Spots are limited. Registration is required by December 2nd\, 2024.\nAdmission is FREE\nRegistration Link: https://www.nwtc.edu/events/2024/12/hour-of-code
URL:https://upbarreview.com/event/nwtc-marinette-hour-of-code/
LOCATION:NWTC\, 1601 University Dr\, Marinette\, WI\, 54143
CATEGORIES:Menominee
END:VEVENT
BEGIN:VEVENT
DTSTART;TZID=UTC:20241207T090000
DTEND;TZID=UTC:20241207T150000
DTSTAMP:20260420T125900
CREATED:20241203T015926Z
LAST-MODIFIED:20241203T015926Z
UID:10002694-1733562000-1733583600@upbarreview.com
SUMMARY:Machichanee Players - Christmas Artisan Craft Fair - Oconto
DESCRIPTION:Vendors welcome. Contact cathy.machickaneeplayers@gmail.com for more information.
URL:https://upbarreview.com/event/machichanee-players-christmas-artisan-craft-fair-oconto/
LOCATION:Park Avenue Playhouse\, 408 Park Ave\, Oconto
CATEGORIES:Menominee
END:VEVENT
BEGIN:VEVENT
DTSTART;TZID=UTC:20241207T090000
DTEND;TZID=UTC:20241207T160000
DTSTAMP:20260420T125900
CREATED:20241203T020134Z
LAST-MODIFIED:20241203T020134Z
UID:10002696-1733562000-1733587200@upbarreview.com
SUMMARY:Oconto High School - Vendor Crafter Line Up - Oconto
DESCRIPTION:Check out the vendor crafter line up. So many awesome things to see and help with your holiday gifts!
URL:https://upbarreview.com/event/oconto-high-school-vendor-crafter-line-up-oconto/
LOCATION:Oconto High School
CATEGORIES:Menominee
END:VEVENT
BEGIN:VEVENT
DTSTART;TZID=UTC:20241207T090000
DTEND;TZID=UTC:20241207T180000
DTSTAMP:20260420T125900
CREATED:20241203T014201Z
LAST-MODIFIED:20241203T014201Z
UID:10002673-1733562000-1733594400@upbarreview.com
SUMMARY:Daily Press - NIE Wonderland Craft and Bake Sale - Escanaba
DESCRIPTION:Join us on Saturday\, December 7th. Come out and shop the day away with some amazing crafts and goods for the holidays!\nIf you’re interested in becoming a vendor\, please send an email with your business description to dwodrich@dailypress.net for more information and the application. DEADLINE IS 11/25 to get a spot!\nDate: Saturday\, December 7th\, 2024.Location: Delta Plaza Mall\, 301 North Lincoln Road\, Escanaba MIUse the entrance by Dunhams\nBooth Fees start at $50\nPublic welcome at no charge but we are asking for a canned good donation to be donated to a local food pantry.\nWe look forward to having you join us!!
URL:https://upbarreview.com/event/daily-press-nie-wonderland-craft-and-bake-sale-escanaba/
LOCATION:The Daily Press\, 301 N Lincoln Rd\, Escanaba
CATEGORIES:Menominee
END:VEVENT
BEGIN:VEVENT
DTSTART;TZID=UTC:20241207T093000
DTEND;TZID=UTC:20241207T110000
DTSTAMP:20260420T125900
CREATED:20240827T021110Z
LAST-MODIFIED:20240827T021110Z
UID:10001600-1733563800-1733569200@upbarreview.com
SUMMARY:Ink Society - Local Writers Group - Escanaba
DESCRIPTION:Ink Society is an informal group of local writers that connect at the library monthly to discuss their current work\, seek feedback\, and share ideas. Bring your work and prepare to be inspired!\nThe Ink Society meets the first Saturday of each month at 10:30 a.m.
URL:https://upbarreview.com/event/ink-society-local-writers-group-escanaba/2024-12-07/
LOCATION:Escanaba Public Library\, 400 Ludington St\, Escanaba\, WI\, 49829
CATEGORIES:Menominee
END:VEVENT
BEGIN:VEVENT
DTSTART;TZID=UTC:20241207T093000
DTEND;TZID=UTC:20241207T110000
DTSTAMP:20260420T125900
CREATED:20241203T014614Z
LAST-MODIFIED:20241203T014614Z
UID:10002680-1733563800-1733569200@upbarreview.com
SUMMARY:The Bar - Inversion Workshop and Flow - Escanaba
DESCRIPTION:After a warmup we will focus on progressions into a variety of inverted poses\, including headstands\, handstands\, crow\, and more.We will follow that will a flow using the inversions and end with savasana!\nWe have blocks\, and some mats\, but feel free to bring your own.
URL:https://upbarreview.com/event/the-bar-inversion-workshop-and-flow-escanaba/
LOCATION:The Bar\, 3400 Ludington St\, Escanaba\, MI
CATEGORIES:Menominee
END:VEVENT
BEGIN:VEVENT
DTSTART;TZID=UTC:20241207T100000
DTEND;TZID=UTC:20241207T150000
DTSTAMP:20260420T125900
CREATED:20241202T203842Z
LAST-MODIFIED:20241202T203842Z
UID:10002489-1733565600-1733583600@upbarreview.com
SUMMARY:The Goose & Gander Finery - Small Business Saturday - Marinette
DESCRIPTION:Head out to show some love to your local businesses on this Small Business Saturday!\nThe Finery will be having specials on Holiday decor and FREE reusable Happy Bag with $20 purchase (while supplies last)!
URL:https://upbarreview.com/event/the-goose-gander-finery-small-business-saturday-marinette/
LOCATION:The Goose & Gander Finery\, 1712 Dunlap Ave\, Marinette\, WI\, 54143
CATEGORIES:Menominee
END:VEVENT
BEGIN:VEVENT
DTSTART;TZID=UTC:20241207T100000
DTEND;TZID=UTC:20241207T170000
DTSTAMP:20260420T125900
CREATED:20241203T004804Z
LAST-MODIFIED:20241203T004804Z
UID:10002627-1733565600-1733590800@upbarreview.com
SUMMARY:Forgotten Fire Winery - Jingle & Mingle Holiday Celebration - Peshtigo
DESCRIPTION:Celebrate the holiday season with us! Share a glass or a flight with friends and take advantage of holiday shopping deals.\nOur in-store sales feature double bottle discounts– $10 off 4 bottles (vs $5)– $20 off 6 bottles (vs $10)– $30 off 12 bottles (vs $15)\nWine club members receive an exclusive 25% discount on all bottle purchases.\nEnjoy warm mulled wine or hot cocoa.
URL:https://upbarreview.com/event/forgotten-fire-winery-jingle-mingle-holiday-celebration-peshtigo/
LOCATION:Forgotten Fire Winery\, N2393 Schacht Road\, Marinette\, WI\, 54143\, United States
CATEGORIES:Menominee
END:VEVENT
BEGIN:VEVENT
DTSTART;TZID=UTC:20241207T110000
DTEND;TZID=UTC:20241207T130000
DTSTAMP:20260420T125900
CREATED:20241202T212447Z
LAST-MODIFIED:20241202T212447Z
UID:10002522-1733569200-1733576400@upbarreview.com
SUMMARY:Calvary Church - Limitless Love Christmas Tea - Marinette
DESCRIPTION:Limitless Love invites women and girls age 6 and over to this year’s Limitless Christmas Tea hosted by the Women of Calvary Church and Cookie Exchange.\nThe cost is $5.00 per person.\nPlease follow the link to buy your ticket.\nTickets must be purchased before December 1st.\nInvite your friends for a memorable time filled with laughter\, joy and fun.\n**If you have questions about this event please call the church at 715-735-7289.\n**Cookie Exchange Optional**\nThis bonus event part of the Christmas Tea is designed for those who enjoy baking and sharing their creations with others. We kindly request that you refrain from bringing store-bought items; please only bring dishes made by you. Feel free to contribute cookies\, bars\, bagged treats\, homemade candies\, truffles\, and similar goodies! The quantity of items you bring will determine how many you can take home.\nTo participate in the cookie exchange\, please bring:\n-2 – 4 dozen cookies (or other small treats like brownies) to share in a disposable container.\n-a container that you can use to bring cookies home with you\nDrop your items off in the ministry room prior to the Christmas Tea\, and you may make your selections to take home after the event.
URL:https://upbarreview.com/event/calvary-church-limitless-love-christmas-tea-marinette/
LOCATION:Calvary Church\, W1498 State Highway 64\, Marinette\, WI
CATEGORIES:Menominee
END:VEVENT
BEGIN:VEVENT
DTSTART;TZID=UTC:20241207T110000
DTEND;TZID=UTC:20241207T163000
DTSTAMP:20260420T125900
CREATED:20241202T203341Z
LAST-MODIFIED:20241202T203341Z
UID:10002484-1733569200-1733589000@upbarreview.com
SUMMARY:CJ's Glass - Stained Glass Christmas Triangle Tree - Marinette
DESCRIPTION:You choose between the pumpkin or the feather! An abundance of colors will be available.!$65 includes everythingages 12+. no prior experience neededPre-registration Required.call or msg Cj 608-354-2303class size 6Come learn something new today! You will have hands on teaching in the copper foil method of stained glass to create a beautiful Suncatcher. Participants will score and break glass\, grind\, foil and solder. please wear closed toed shoes.
URL:https://upbarreview.com/event/cjs-glass-stained-glass-christmas-triangle-tree-marinette/
LOCATION:CJ’s Glass\, 802 Main St\, Marinette\, WI\, 54143
CATEGORIES:Menominee
END:VEVENT
BEGIN:VEVENT
DTSTART;TZID=UTC:20241207T120000
DTEND;TZID=UTC:20241207T140000
DTSTAMP:20260420T125900
CREATED:20241203T003812Z
LAST-MODIFIED:20241203T003812Z
UID:10002620-1733572800-1733580000@upbarreview.com
SUMMARY:Peshtigo Elementary School - Community Christmas 2024 - Peshtigo
DESCRIPTION:Save the date for our annual Christmas event.Photos with Santa\, Crafts/Activities\, and Treats!Free! Donations accepted!
URL:https://upbarreview.com/event/peshtigo-elementary-school-community-christmas-2024-peshtigo/
LOCATION:Peshtigo Elementary\, 341 N Emery Ave\, Peshtigo\, WI
CATEGORIES:Menominee
END:VEVENT
BEGIN:VEVENT
DTSTART;TZID=UTC:20241207T130000
DTEND;TZID=UTC:20241207T150000
DTSTAMP:20260420T125900
CREATED:20241202T211430Z
LAST-MODIFIED:20241202T211452Z
UID:10002514-1733576400-1733583600@upbarreview.com
SUMMARY:The Craft Cave - Wood Tree - Marinette
DESCRIPTION:Come make your own wood Christmas tree. Approximately 15 inch tall\, painted and bedazzled ! Call to pre pay and sign up at 715-587-4643.
URL:https://upbarreview.com/event/the-craft-cave-wood-tree-marinette-2/2024-12-07/
LOCATION:The Craft Cave\, 605 Main St.\, Marinette\, WI\, 54143\, United States
CATEGORIES:Menominee
END:VEVENT
BEGIN:VEVENT
DTSTART;TZID=UTC:20241207T150000
DTEND;TZID=UTC:20241207T170000
DTSTAMP:20260420T125900
CREATED:20241202T201048Z
LAST-MODIFIED:20241202T201048Z
UID:10002469-1733583600-1733590800@upbarreview.com
SUMMARY:McCrafties - Paint with Santa - Menominee
DESCRIPTION:Santa Claus is making a special trip to McCraftie’s on December 7th from 3:00 – 5:00! Join us for a festive afternoon of fun and creativity. Paint 2 ceramics while enjoying delicious cookie’s and hot cocoa for $25 per child. We will have festive coloring pages available for those that want to participate and be entered to win a gift certificate to be used at the studio.\nWe will be doing things a little different this year. No appointment needed. Just walk in and our staff will help you with painting along Santa waiting to greet the kiddos.\nParents don’t miss the chance to capture that magical moment with Santa himself by the talented Desiree Hornick Photography for $5. You can also have an individual family session for an additional fee.\nFeel free to call the studio with any further questions 715-440-5959.
URL:https://upbarreview.com/event/mccrafties-paint-with-santa-menominee/
LOCATION:McCrafties\, 625 1st St\, Menominee\, MI\, 49858\, United States
CATEGORIES:Menominee
END:VEVENT
BEGIN:VEVENT
DTSTART;TZID=UTC:20241207T160000
DTEND;TZID=UTC:20241207T190000
DTSTAMP:20260420T125900
CREATED:20241203T010209Z
LAST-MODIFIED:20241203T010209Z
UID:10002633-1733587200-1733598000@upbarreview.com
SUMMARY:The Timbers - Christmas - Crivitz
DESCRIPTION: Christmas at the Timbers! \nBring the whole family for a magical evening at the Timbers on December 7th from 4-7 PM!\n Enjoy an Evening of:\nPhotos with Santa – Capture the magic of the season!Holiday Shopping – Find unique gifts and support local vendors.Tours of the Timbers – Explore this beautiful property decked out for the holidays.Festive Food & Drinks – Enjoy treats\, hot cocoa\, and warm drinks by the fire.\n Location: The Timbers\, South Street Entrance\, Crivitz\, WI\nCome for Santa\, stay for the holiday cheer! Join us as we kick off the season with a night of fun\, food\, and festivities. Don’t miss this opportunity to make holiday memories at the Timbers!
URL:https://upbarreview.com/event/the-timbers-christmas-crivitz/
LOCATION:The Timbers\, 104 South Ave\, Crivitz
CATEGORIES:Menominee
END:VEVENT
BEGIN:VEVENT
DTSTART;TZID=UTC:20241207T170000
DTEND;TZID=UTC:20241207T190000
DTSTAMP:20260420T125900
CREATED:20241016T012208Z
LAST-MODIFIED:20241016T012246Z
UID:10002081-1733590800-1733598000@upbarreview.com
SUMMARY:Store House Community Center - Community Meal - Stephenson
DESCRIPTION:We would love to see you and fellowship with you! As always it’s a free will donation.
URL:https://upbarreview.com/event/store-house-community-center-community-meal-stephenson/2024-12-07/
LOCATION:The Storehouse Community Center\, 299 Solander St\, Stephenson\, MI\, 49887
CATEGORIES:Menominee
END:VEVENT
BEGIN:VEVENT
DTSTART;TZID=UTC:20241207T170000
DTEND;TZID=UTC:20241207T190000
DTSTAMP:20260420T125900
CREATED:20241202T195917Z
LAST-MODIFIED:20241202T195917Z
UID:10002461-1733590800-1733598000@upbarreview.com
SUMMARY:Spirit House - Pierogi Night - Menominee
DESCRIPTION:Each ticket comes with a cocktail  of your choice\, plate of 5 pierogies (meat or potato and cheese) sides AND access to have your holiday presents wrapped! Tickets display entry time and allow sufficient time for present wrappers but rest assured you can sip and enjoy all night long.\nPierogis will be available to purchase day of!5 for $15!\nFor this fundraiser\, proceeds will benefit Abundant Life Mission!
URL:https://upbarreview.com/event/spirit-house-pierogi-night-menominee/
LOCATION:Spirit House\, 533 10th Ave\, Menominee\, MI 49858\, Menominee\, MI\, 49858\, United States
CATEGORIES:Menominee
END:VEVENT
BEGIN:VEVENT
DTSTART;TZID=UTC:20241207T170000
DTEND;TZID=UTC:20241207T200000
DTSTAMP:20260420T125900
CREATED:20241202T210533Z
LAST-MODIFIED:20241202T210533Z
UID:10002508-1733590800-1733601600@upbarreview.com
SUMMARY:Trinity Evangelical Lutheran Church - Living Nativity - Marinette
DESCRIPTION:Praise be to God! On that first Christmas morning He sent His Son into the world to live\, to die\, and to rise so that you would be with him for eternity. Bring your family and friends and celebrate the birth of our Savior\, Jesus Christ. There will be hot cocoa to enjoy while you watch!
URL:https://upbarreview.com/event/trinity-evangelical-lutheran-church-living-nativity-marinette/
LOCATION:Trinity Evangelical Lutheran Church\, 1216 Colfax St\, Marinette\, WI
CATEGORIES:Menominee
END:VEVENT
BEGIN:VEVENT
DTSTART;TZID=UTC:20241207T173000
DTEND;TZID=UTC:20241207T190000
DTSTAMP:20260420T125900
CREATED:20241203T010026Z
LAST-MODIFIED:20241203T010026Z
UID:10002632-1733592600-1733598000@upbarreview.com
SUMMARY:Crivitz Christmas Parade
DESCRIPTION:Annual Christmas Parade with festive floats\, bright lights\, and holiday cheer. Following Live Nativity from 3-5 PM and Christmas Tree Lighting at 5 PM at Grace Evangelical Lutheran Church
URL:https://upbarreview.com/event/crivitz-christmas-parade/
LOCATION:Grace Lutheran Church\, 716 Henriette Ave\, Crivitz\, WI\, 54114
CATEGORIES:Menominee
END:VEVENT
BEGIN:VEVENT
DTSTART;TZID=UTC:20241207T183000
DTEND;TZID=UTC:20241207T203000
DTSTAMP:20260420T125900
CREATED:20241202T195712Z
LAST-MODIFIED:20241202T195712Z
UID:10002459-1733596200-1733603400@upbarreview.com
SUMMARY:Blesch Auditorium - The Nutcracker Ballet - Menominee
DESCRIPTION:Experience the magic of the holiday season by joining Bay Area Academy of Dance for a mesmerizing Nutcracker performance presented by our talented community’s youth. This beloved tradition is the perfect way to kick off the festivities and immerse yourself in the joyful holiday spirit. Come and celebrate the season through dance!\nGet your tickets by clicking the link provided here: http://www.recitalticketing.com/26842/
URL:https://upbarreview.com/event/blesch-auditorium-the-nutcracker-ballet-menominee/
LOCATION:Blesch Auditorium\, 1200 11th Ave\, Menominee\, MI\, 49858\, United States
CATEGORIES:Menominee
END:VEVENT
BEGIN:VEVENT
DTSTART;TZID=UTC:20241207T190000
DTEND;TZID=UTC:20241207T230000
DTSTAMP:20260420T125900
CREATED:20241203T012610Z
LAST-MODIFIED:20241203T012610Z
UID:10002661-1733598000-1733612400@upbarreview.com
SUMMARY:Island Resort & Casino - Melanies Debut w/ 141 North Band - Escanaba
DESCRIPTION:Join us for Melanies debut with the 141 North Band at the Island casino in club 41!
URL:https://upbarreview.com/event/island-resort-casino-melanies-debut-w-141-north-band-escanaba/2024-12-07/
LOCATION:Island Resort & Casino\, W 399 US-2\, Harris\, MI\, 49845\, United States
CATEGORIES:Menominee
END:VEVENT
BEGIN:VEVENT
DTSTART;TZID=UTC:20241207T210000
DTEND;TZID=UTC:20241207T233000
DTSTAMP:20260420T125900
CREATED:20240728T201250Z
LAST-MODIFIED:20240728T201250Z
UID:10001154-1733605200-1733614200@upbarreview.com
SUMMARY:Four Seasons Island Resort - Mane Event Karaoke - Pembine
DESCRIPTION:Join us in Boundary Waters Sports Bar for a night full of laughter\, food\, drinks AND KARAOKE! Brad\, Mane Event Karaoke will be here once again doing his thing! 9pm-1am.
URL:https://upbarreview.com/event/four-seasons-island-resort-mane-event-karaoke-pembine/2024-12-07/
LOCATION:Four Seasons Island Resort\, 16800 Shoreline Dr\, Pembine\, WI\, 54156\, United States
CATEGORIES:Menominee
END:VEVENT
END:VCALENDAR