BEGIN:VCALENDAR
VERSION:2.0
PRODID:-//UP BAR REVIEW - ECPv6.14.2//NONSGML v1.0//EN
CALSCALE:GREGORIAN
METHOD:PUBLISH
X-WR-CALNAME:UP BAR REVIEW
X-ORIGINAL-URL:https://upbarreview.com
X-WR-CALDESC:Events for UP BAR REVIEW
REFRESH-INTERVAL;VALUE=DURATION:PT1H
X-Robots-Tag:noindex
X-PUBLISHED-TTL:PT1H
BEGIN:VTIMEZONE
TZID:UTC
BEGIN:STANDARD
TZOFFSETFROM:+0000
TZOFFSETTO:+0000
TZNAME:UTC
DTSTART:20240101T000000
END:STANDARD
END:VTIMEZONE
BEGIN:VEVENT
DTSTART;TZID=UTC:20241130T093000
DTEND;TZID=UTC:20241130T140000
DTSTAMP:20260420T125452
CREATED:20241029T133552Z
LAST-MODIFIED:20241029T133552Z
UID:10002189-1732959000-1732975200@upbarreview.com
SUMMARY:Athelstane Town Hall - Christmas Craft Show & Cookies 1/ Mrs Clause - Athelstane
DESCRIPTION:Local crafters and Vendor show\nPhotos and Cookies with Mrs. Claus \nBring your letters for Santa! \nMrs. Claus will deliver them to the North Pole!
URL:https://upbarreview.com/event/athelstane-town-hall-christmas-craft-show-cookies-1-mrs-clause-athelstane/
LOCATION:Athelstane Town Hall\, N12244 County A&C\, Athelstane\, WI\, 54104
CATEGORIES:Menominee
END:VEVENT
BEGIN:VEVENT
DTSTART;TZID=UTC:20241130T120000
DTEND;TZID=UTC:20241130T180000
DTSTAMP:20260420T125452
CREATED:20241029T201127Z
LAST-MODIFIED:20241029T201203Z
UID:10002313-1732968000-1732989600@upbarreview.com
SUMMARY:Dug-E-Fresh Outfitters - Annual Saturday After Thanksgiving Party - Crivtiz
DESCRIPTION:Annual party! Prizes! Beer! Food! Live entertainment! Dancing around the Christmas tree! Cribbage tournament! Deer hunting stories! Big buck contest!\nBring a dish to pass but bring leftovers go home with ya…I always gain 5 pounds the week after. Overnight accommodations available if necessary .
URL:https://upbarreview.com/event/dug-e-fresh-outfitters-annual-saturday-after-thanksgiving-party-crivtiz/
LOCATION:Dug-E-Fresh Outfitters\, N10724 Murphy Lane\, Crivitz\, WI
CATEGORIES:Menominee
END:VEVENT
BEGIN:VEVENT
DTSTART;TZID=UTC:20241130T190000
DTEND;TZID=UTC:20241130T230000
DTSTAMP:20260420T125452
CREATED:20241029T125301Z
LAST-MODIFIED:20241029T125311Z
UID:10002131-1732993200-1733007600@upbarreview.com
SUMMARY:The Lodge - The Bad Mother Truckers - Marinette
DESCRIPTION:What’s up Marinette! We’re bringing the heat with your favorite 90s and 2000s beats at The Lodge on Main (formerly IRONWORKS) November 30th from 7-11pm! We’ll see you there!
URL:https://upbarreview.com/event/the-lodge-the-bad-mother-truckers-marinette/
LOCATION:Ironworks\, 1333 Main St.\, Marinette\, WI\, 54143\, United States
CATEGORIES:Menominee
END:VEVENT
END:VCALENDAR