BEGIN:VCALENDAR
VERSION:2.0
PRODID:-//UP BAR REVIEW - ECPv6.14.2//NONSGML v1.0//EN
CALSCALE:GREGORIAN
METHOD:PUBLISH
X-ORIGINAL-URL:https://upbarreview.com
X-WR-CALDESC:Events for UP BAR REVIEW
REFRESH-INTERVAL;VALUE=DURATION:PT1H
X-Robots-Tag:noindex
X-PUBLISHED-TTL:PT1H
BEGIN:VTIMEZONE
TZID:UTC
BEGIN:STANDARD
TZOFFSETFROM:+0000
TZOFFSETTO:+0000
TZNAME:UTC
DTSTART:20240101T000000
END:STANDARD
END:VTIMEZONE
BEGIN:VEVENT
DTSTART;TZID=UTC:20241129T080000
DTEND;TZID=UTC:20241129T090000
DTSTAMP:20260420T125902
CREATED:20241029T200811Z
LAST-MODIFIED:20241029T200811Z
UID:10002307-1732867200-1732870800@upbarreview.com
SUMMARY:NSRCC - Beginner Yoga - Pembine
DESCRIPTION:Join us for our beginner yoga class! Never tried yoga before? That’s okay! Learn about what yoga is and how it helps your body. If you have any questions\, contact your trainer\, Brenda Rosenstiel: (920) 327-9981 or brosenstiel@nsrccwi.com\nWe hope to see you there!
URL:https://upbarreview.com/event/nsrcc-beginner-yoga-pembine/2024-11-29/
LOCATION:NSRCC\, 17112 US-141\, Pembine\, WI\, 54156
CATEGORIES:Menominee
END:VEVENT
BEGIN:VEVENT
DTSTART;TZID=UTC:20241129T173000
DTEND;TZID=UTC:20241129T203000
DTSTAMP:20260420T125902
CREATED:20240827T012633Z
LAST-MODIFIED:20240827T012633Z
UID:10001526-1732901400-1732912200@upbarreview.com
SUMMARY:NSRCC BINGO - Pembine
DESCRIPTION:Join us for a fun-filled evening of bingo!Doors open at 5:30pmGames start at 6:00pm\nFood\, drinks\, and daubers will be available for purchase.This event is fun for the whole family! – We look forward to seeing you soon!\nTHIS EVENT HAS FREE WIFI
URL:https://upbarreview.com/event/nsrcc-bingo-pembine/2024-11-29/
LOCATION:NSRCC\, 17112 US-141\, Pembine\, WI\, 54156
CATEGORIES:Menominee
END:VEVENT
BEGIN:VEVENT
DTSTART;TZID=UTC:20241129T180000
DTEND;TZID=UTC:20241129T210000
DTSTAMP:20260420T125902
CREATED:20240728T193648Z
LAST-MODIFIED:20240728T193838Z
UID:10001141-1732903200-1732914000@upbarreview.com
SUMMARY:Four Seasons Island Resort - Melanie Rose in The Lounge Bar - Pembine
DESCRIPTION:Join us in The Lounge Bar from 6:00 PM – 9:00 PM with a live performance by Melanie Rose!\nMelanie Rose is a Singer/Songwriter out of the Upper Peninsula of Michigan. Her passion for music has encouraged her to perform Live cover shows\, as well as write and perform her own songs. Melanie has released one album “So Long” within the last 2 years\, and is currently recording her second!
URL:https://upbarreview.com/event/four-seasons-island-resort-melanie-rose-in-the-lounge-bar-pembine/2024-11-29/
LOCATION:Four Seasons Island Resort\, 16800 Shoreline Dr\, Pembine\, WI\, 54156\, United States
CATEGORIES:Menominee
END:VEVENT
BEGIN:VEVENT
DTSTART;TZID=UTC:20241129T200000
DTEND;TZID=UTC:20241129T233000
DTSTAMP:20260420T125902
CREATED:20241029T135311Z
LAST-MODIFIED:20241029T135311Z
UID:10002202-1732910400-1732923000@upbarreview.com
SUMMARY:Uncle Mikes Corner Pub & Grill - Hunters Night w/ Paris Nights - Crivitz
DESCRIPTION:Hunter’s NightFood and Drink SpecialsParis Nights Entertainment
URL:https://upbarreview.com/event/uncle-mikes-corner-pub-grill-hunters-night-w-paris-nights-crivitz/
LOCATION:Uncle Mikes Corner Pub & Grill\, N9686 Co Hwy X\, Crivitz\, WI\, 54114
CATEGORIES:Menominee
END:VEVENT
END:VCALENDAR