BEGIN:VCALENDAR
VERSION:2.0
PRODID:-//UP BAR REVIEW - ECPv6.14.2//NONSGML v1.0//EN
CALSCALE:GREGORIAN
METHOD:PUBLISH
X-WR-CALNAME:UP BAR REVIEW
X-ORIGINAL-URL:https://upbarreview.com
X-WR-CALDESC:Events for UP BAR REVIEW
REFRESH-INTERVAL;VALUE=DURATION:PT1H
X-Robots-Tag:noindex
X-PUBLISHED-TTL:PT1H
BEGIN:VTIMEZONE
TZID:UTC
BEGIN:STANDARD
TZOFFSETFROM:+0000
TZOFFSETTO:+0000
TZNAME:UTC
DTSTART:20240101T000000
END:STANDARD
END:VTIMEZONE
BEGIN:VEVENT
DTSTART;TZID=UTC:20241125T083000
DTEND;TZID=UTC:20241125T093000
DTSTAMP:20260420T130407
CREATED:20240827T014121Z
LAST-MODIFIED:20240827T014121Z
UID:10001556-1732523400-1732527000@upbarreview.com
SUMMARY:NSRCC - Open Workout & Meet the Instructor - Pembine
DESCRIPTION:Meet our fitness class instructor\, Brenda Rosenstiel. There will be information about all of our fitness classes as well as a place for open workout. Contact Brenda for more details: (920) 327-9981 or brosenstiel@nsrccwi.com
URL:https://upbarreview.com/event/nsrcc-open-workout-meet-the-instructor-pembine/2024-11-25/
LOCATION:NSRCC\, 17112 US-141\, Pembine\, WI\, 54156
CATEGORIES:Menominee
END:VEVENT
BEGIN:VEVENT
DTSTART;TZID=UTC:20241125T170000
DTEND;TZID=UTC:20241125T183000
DTSTAMP:20260420T130408
CREATED:20241029T141925Z
LAST-MODIFIED:20241029T141925Z
UID:10002215-1732554000-1732559400@upbarreview.com
SUMMARY:Bellin Health Fitness - Kickboxing\, Core\, & Strength - Oconto
DESCRIPTION:Prepare for turkey day with Kasey\, Jessica\, & Jamie!Alternating between intervals of cardio kickboxing\, core\, and strength training\, this special one-time class is sure to fire up the muscles & get you sweating!\n    \nALL LEVELS WELCOME – Kickboxing\, Core\, & Strength is the perfect class for all levels as our instructors will tag team demonstrating modified/low-impact versions of every single move! *Those under the age of 18 years old will need instructor permission to register.*\nFREE for Bellin Fitness members. Non-members can participate with the purchase of a guest pass. Pre-registration not required\, but highly encouraged due to limited space.\n*There will be no 5pm PowerCycle on 11/25.
URL:https://upbarreview.com/event/bellin-health-fitness-kickboxing-core-strength-oconto/
LOCATION:Bellin Health Fitness Oconto\, 1201 Park Ave\, Oconto\, WI
CATEGORIES:Menominee
END:VEVENT
BEGIN:VEVENT
DTSTART;TZID=UTC:20241125T180000
DTEND;TZID=UTC:20241125T190000
DTSTAMP:20260420T130408
CREATED:20241029T123253Z
LAST-MODIFIED:20241029T123253Z
UID:10002096-1732557600-1732561200@upbarreview.com
SUMMARY:Military 20 Year Club - Monthly Meeting - Menominee
DESCRIPTION:Open to any honor discharged Veteran. Meeting at Menominee American Legion. New members are always welcome.
URL:https://upbarreview.com/event/military-20-year-club-monthly-meeting-menominee/2024-11-25/
LOCATION:American Legion Post 146\, 818 1st St\, Menominee\, MI\, 49858
CATEGORIES:Menominee
END:VEVENT
BEGIN:VEVENT
DTSTART;TZID=UTC:20241125T180000
DTEND;TZID=UTC:20241125T220000
DTSTAMP:20260420T130408
CREATED:20241029T132219Z
LAST-MODIFIED:20241029T132219Z
UID:10002180-1732557600-1732572000@upbarreview.com
SUMMARY:Game Knights - Monday Night Magic The Gathering - Marinette
DESCRIPTION: Commander Clash: Weekly Magic Tournament \nWelcome\, Planeswalkers\, to the battleground of strategy and sorcery! Dive into the exhilarating realm of Magic: The Gathering with our weekly Commander Clash tournament\, where the mightiest decks clash for supremacy.\nEvent Highlights:\nEpic Battles: Engage in thrilling multiplayer matches where every card played could tip the scales of victory.Deck Diversity: Explore the vast array of strategies and commanders available in the Commander format\, from cunning combos to rampaging hordes.Friendly Competition: Forge new alliances and rivalries as you navigate the ever-changing landscape of the battlefield.Community Spirit: Join a vibrant community of Magic enthusiasts\, sharing insights\, deck ideas\, and camaraderie.Casual or Competitive: Whether you’re a seasoned veteran or a novice mage\, our tournament offers an inclusive environment for all skill levels.Prepare your decks\, summon your commanders\, and let the spells fly as you vie for dominance in our weekly Commander Clash tournament! Will you emerge as the ultimate champion\, or will your opponents rewrite the fate of the multiverse? Only one way to find out—join us for an unforgettable Magic experience!
URL:https://upbarreview.com/event/game-knights-monday-night-magic-the-gathering-marinette/2024-11-25/
LOCATION:Game Knights\, 2035 Marinette Ave\, Marinette\, WI\, 54143
CATEGORIES:Menominee
END:VEVENT
END:VCALENDAR