BEGIN:VCALENDAR
VERSION:2.0
PRODID:-//UP BAR REVIEW - ECPv6.14.2//NONSGML v1.0//EN
CALSCALE:GREGORIAN
METHOD:PUBLISH
X-ORIGINAL-URL:https://upbarreview.com
X-WR-CALDESC:Events for UP BAR REVIEW
REFRESH-INTERVAL;VALUE=DURATION:PT1H
X-Robots-Tag:noindex
X-PUBLISHED-TTL:PT1H
BEGIN:VTIMEZONE
TZID:UTC
BEGIN:STANDARD
TZOFFSETFROM:+0000
TZOFFSETTO:+0000
TZNAME:UTC
DTSTART:20240101T000000
END:STANDARD
END:VTIMEZONE
BEGIN:VEVENT
DTSTART;TZID=UTC:20241120T130000
DTEND;TZID=UTC:20241120T160000
DTSTAMP:20260420T144919
CREATED:20241029T134444Z
LAST-MODIFIED:20241029T134444Z
UID:10002197-1732107600-1732118400@upbarreview.com
SUMMARY:Judy Bloom Studio - Beginner Acrylic Painting Class - Football Gnome
DESCRIPTION:Have you ever wanted to learn to paint? This easy acrylic class will have you making your favorite teams artwork. Cost is $40. and all materials will be provided for you to create this 11×14 painting. Bring a friend\, snacks and drink. Please call or text Judy Bloom at 931-787-6559 to pre-register. Payment is cash or check at time of class. Class is at Crivitz Village Hall.
URL:https://upbarreview.com/event/judy-bloom-studio-beginner-acrylic-painting-class-football-gnome/
LOCATION:Judy Bloom Studio\, 800 Henriette Ave\, Peshtigo\, WI
CATEGORIES:Menominee
END:VEVENT
BEGIN:VEVENT
DTSTART;TZID=UTC:20241120T173000
DTEND;TZID=UTC:20241120T193000
DTSTAMP:20260420T144919
CREATED:20241029T130733Z
LAST-MODIFIED:20241029T130733Z
UID:10002147-1732123800-1732131000@upbarreview.com
SUMMARY:The Craft Cave - Santa Ho Ho - Marinette
DESCRIPTION:Pizza pan Santa \, you paint and decorate. Shown on stand but is a hanging piece. Adult class\, BYOB\, cost 25$. Call to pre pay and sign up at 715-587-4643
URL:https://upbarreview.com/event/the-craft-cave-santa-ho-ho-marinette-3/
LOCATION:The Craft Cave\, 605 Main St.\, Marinette\, WI\, 54143\, United States
CATEGORIES:Menominee
END:VEVENT
END:VCALENDAR