BEGIN:VCALENDAR
VERSION:2.0
PRODID:-//UP BAR REVIEW - ECPv6.14.2//NONSGML v1.0//EN
CALSCALE:GREGORIAN
METHOD:PUBLISH
X-WR-CALNAME:UP BAR REVIEW
X-ORIGINAL-URL:https://upbarreview.com
X-WR-CALDESC:Events for UP BAR REVIEW
REFRESH-INTERVAL;VALUE=DURATION:PT1H
X-Robots-Tag:noindex
X-PUBLISHED-TTL:PT1H
BEGIN:VTIMEZONE
TZID:UTC
BEGIN:STANDARD
TZOFFSETFROM:+0000
TZOFFSETTO:+0000
TZNAME:UTC
DTSTART:20240101T000000
END:STANDARD
END:VTIMEZONE
BEGIN:VEVENT
DTSTART;TZID=UTC:20241118T083000
DTEND;TZID=UTC:20241118T093000
DTSTAMP:20260420T144609
CREATED:20240827T014121Z
LAST-MODIFIED:20240827T014121Z
UID:10001555-1731918600-1731922200@upbarreview.com
SUMMARY:NSRCC - Open Workout & Meet the Instructor - Pembine
DESCRIPTION:Meet our fitness class instructor\, Brenda Rosenstiel. There will be information about all of our fitness classes as well as a place for open workout. Contact Brenda for more details: (920) 327-9981 or brosenstiel@nsrccwi.com
URL:https://upbarreview.com/event/nsrcc-open-workout-meet-the-instructor-pembine/2024-11-18/
LOCATION:NSRCC\, 17112 US-141\, Pembine\, WI\, 54156
CATEGORIES:Menominee
END:VEVENT
BEGIN:VEVENT
DTSTART;TZID=UTC:20241118T180000
DTEND;TZID=UTC:20241118T200000
DTSTAMP:20260420T144609
CREATED:20241016T010244Z
LAST-MODIFIED:20241016T010244Z
UID:10002076-1731952800-1731960000@upbarreview.com
SUMMARY:Spartan Solutions - Non Lethal Tools Class - Peshtigo
DESCRIPTION:Practical Tools for Any Protector\n\nNon-Lethal Tools For Self-Defense bridges the gap between doing nothing and using deadly force\, an option that is vital for all protectors to have. Whether you need an alternative to firearms for personal reasons\, or you’re a concealed carrier who wants the ability to protect in a wider variety of settings\, this class is the perfect solution for those who seek an effective method for non-lethal self-defense.
URL:https://upbarreview.com/event/spartan-solutions-non-lethal-tools-class-peshtigo/
LOCATION:Peshtigo Elementary\, 341 N Emery Ave\, Peshtigo\, WI
CATEGORIES:Menominee
END:VEVENT
BEGIN:VEVENT
DTSTART;TZID=UTC:20241118T180000
DTEND;TZID=UTC:20241118T220000
DTSTAMP:20260420T144609
CREATED:20241029T132219Z
LAST-MODIFIED:20241029T132219Z
UID:10002179-1731952800-1731967200@upbarreview.com
SUMMARY:Game Knights - Monday Night Magic The Gathering - Marinette
DESCRIPTION: Commander Clash: Weekly Magic Tournament \nWelcome\, Planeswalkers\, to the battleground of strategy and sorcery! Dive into the exhilarating realm of Magic: The Gathering with our weekly Commander Clash tournament\, where the mightiest decks clash for supremacy.\nEvent Highlights:\nEpic Battles: Engage in thrilling multiplayer matches where every card played could tip the scales of victory.Deck Diversity: Explore the vast array of strategies and commanders available in the Commander format\, from cunning combos to rampaging hordes.Friendly Competition: Forge new alliances and rivalries as you navigate the ever-changing landscape of the battlefield.Community Spirit: Join a vibrant community of Magic enthusiasts\, sharing insights\, deck ideas\, and camaraderie.Casual or Competitive: Whether you’re a seasoned veteran or a novice mage\, our tournament offers an inclusive environment for all skill levels.Prepare your decks\, summon your commanders\, and let the spells fly as you vie for dominance in our weekly Commander Clash tournament! Will you emerge as the ultimate champion\, or will your opponents rewrite the fate of the multiverse? Only one way to find out—join us for an unforgettable Magic experience!
URL:https://upbarreview.com/event/game-knights-monday-night-magic-the-gathering-marinette/2024-11-18/
LOCATION:Game Knights\, 2035 Marinette Ave\, Marinette\, WI\, 54143
CATEGORIES:Menominee
END:VEVENT
BEGIN:VEVENT
DTSTART;TZID=UTC:20241118T190000
DTEND;TZID=UTC:20241118T210000
DTSTAMP:20260420T144609
CREATED:20241016T011755Z
LAST-MODIFIED:20241016T011755Z
UID:10002079-1731956400-1731963600@upbarreview.com
SUMMARY:River City Concert - The Nayo Jones Experience - Menominee
DESCRIPTION:The Nayo Jones Experience | Monday\, November 18\, 2024\nby Webmaster | Jun 5\, 2024 | 2024-2025\, Current Concert Season Series \nSponsored by: Stephenson National Bank & Trust & Rennes Group
URL:https://upbarreview.com/event/river-city-concert-the-nayo-jones-experience-menominee/
LOCATION:Blesch Auditorium\, 1200 11th Ave\, Menominee\, MI\, 49858\, United States
CATEGORIES:Menominee
END:VEVENT
END:VCALENDAR