BEGIN:VCALENDAR
VERSION:2.0
PRODID:-//UP BAR REVIEW - ECPv6.14.2//NONSGML v1.0//EN
CALSCALE:GREGORIAN
METHOD:PUBLISH
X-ORIGINAL-URL:https://upbarreview.com
X-WR-CALDESC:Events for UP BAR REVIEW
REFRESH-INTERVAL;VALUE=DURATION:PT1H
X-Robots-Tag:noindex
X-PUBLISHED-TTL:PT1H
BEGIN:VTIMEZONE
TZID:UTC
BEGIN:STANDARD
TZOFFSETFROM:+0000
TZOFFSETTO:+0000
TZNAME:UTC
DTSTART:20240101T000000
END:STANDARD
END:VTIMEZONE
BEGIN:VEVENT
DTSTART;TZID=UTC:20241115T080000
DTEND;TZID=UTC:20241115T090000
DTSTAMP:20260420T145040
CREATED:20241029T200811Z
LAST-MODIFIED:20241029T200811Z
UID:10002305-1731657600-1731661200@upbarreview.com
SUMMARY:NSRCC - Beginner Yoga - Pembine
DESCRIPTION:Join us for our beginner yoga class! Never tried yoga before? That’s okay! Learn about what yoga is and how it helps your body. If you have any questions\, contact your trainer\, Brenda Rosenstiel: (920) 327-9981 or brosenstiel@nsrccwi.com\nWe hope to see you there!
URL:https://upbarreview.com/event/nsrcc-beginner-yoga-pembine/2024-11-15/
LOCATION:NSRCC\, 17112 US-141\, Pembine\, WI\, 54156
CATEGORIES:Menominee
END:VEVENT
BEGIN:VEVENT
DTSTART;TZID=UTC:20241115T150000
DTEND;TZID=UTC:20241115T180000
DTSTAMP:20260420T145040
CREATED:20241031T190727Z
LAST-MODIFIED:20241031T190727Z
UID:10002451-1731682800-1731693600@upbarreview.com
SUMMARY:Upper Hand Brewery - Lets Get Lit With Lumen! - Escanaba
DESCRIPTION:You’ve been patiently waiting\, and now the time has come! Join us for the re-release of our India Pale Lager\, Lumen. We will have it on draft and in 6-packs\, so you can enjoy a pint in the Taproom and buy some for later. This is a 21+ event\, so please leave the kids at home.
URL:https://upbarreview.com/event/upper-hand-brewery-lets-get-lit-with-lumen-escanaba/
LOCATION:Upper Hand Brewery\, 3525 Airport Rd\, Escanaba\, WI\, 49829
CATEGORIES:Menominee
END:VEVENT
BEGIN:VEVENT
DTSTART;TZID=UTC:20241115T173000
DTEND;TZID=UTC:20241115T203000
DTSTAMP:20260420T145040
CREATED:20240827T012633Z
LAST-MODIFIED:20240827T012633Z
UID:10001524-1731691800-1731702600@upbarreview.com
SUMMARY:NSRCC BINGO - Pembine
DESCRIPTION:Join us for a fun-filled evening of bingo!Doors open at 5:30pmGames start at 6:00pm\nFood\, drinks\, and daubers will be available for purchase.This event is fun for the whole family! – We look forward to seeing you soon!\nTHIS EVENT HAS FREE WIFI
URL:https://upbarreview.com/event/nsrcc-bingo-pembine/2024-11-15/
LOCATION:NSRCC\, 17112 US-141\, Pembine\, WI\, 54156
CATEGORIES:Menominee
END:VEVENT
BEGIN:VEVENT
DTSTART;TZID=UTC:20241115T180000
DTEND;TZID=UTC:20241115T210000
DTSTAMP:20260420T145040
CREATED:20240728T174323Z
LAST-MODIFIED:20240728T174323Z
UID:10001110-1731693600-1731704400@upbarreview.com
SUMMARY:Four Seasons Island Resort - Todd Wanger in The Lounge Bar - Pembine
DESCRIPTION:Todd Wangerin in The Lounge from 6:00 PM – 9:00 PM!\nTodd Wangerin is a singer/songwriter from Iron Mountain who performs indie and alternative pop/rock originals and covers. Heavily influenced by contemporary 90’s/00’s artists such as John Mayer\, Pearl Jam\, Matchbox Twenty\, Hootie & The Blowfish\, his performances usually feature bandmate Evan Blagec on percussion and create a great atmosphere for a night of great music and a lot of fun!
URL:https://upbarreview.com/event/four-seasons-island-resort-todd-wanger-in-the-lounge-bar-pembine/2024-11-15/
LOCATION:Four Seasons Island Resort\, 16800 Shoreline Dr\, Pembine\, WI\, 54156\, United States
CATEGORIES:Menominee
END:VEVENT
BEGIN:VEVENT
DTSTART;TZID=UTC:20241115T200000
DTEND;TZID=UTC:20241115T230000
DTSTAMP:20260420T145040
CREATED:20240626T193739Z
LAST-MODIFIED:20240626T193739Z
UID:10000850-1731700800-1731711600@upbarreview.com
SUMMARY:Island Resort & Casino - Connor Smith - Harris
DESCRIPTION:Conner Smith has emerged as one of Country’s most hotly-anticipated artists – his authentic storytelling and rich\, soulful voice resonating with audiences nationwide\, earning him a dedicated and passionate following.\nAt just 23 years old\, Smith is already a seasoned veteran of Nashville’s elite songwriting community – realizing the past can still inspire the present\, and that good things come to those who wait. The rising singer/songwriter has spent 15 years matching a honeyed vocal to propulsive hints of bluegrass and the warmth of ‘90s Country\, an instant-classic sound infused with riveting modern appeal.\nMoving Country music forward while remembering its all-natural roots\, Smith’s critically acclaimed full-length debut album SMOKY MOUNTAINS (The Valory Music Co.) is meant to stand the test of time. Featuring GOLD-certified “Take It Slow\,” viral hit “I Hate Alabama\,” multi-week UK chart-topper “Creek Will Rise” and new single “Roulette On The Heart” featuring Hailey Whitters\, his deeply personal 12-song project is one of classic style and contemporary spirit\, and a reflection of the artist himself. These songs\, among others\, laid an artistic foundation that earned Smith Artist to Watch status from Spotify\, Amazon Music and Opry NextStage\, while also making him the only Country artist on Pandora’s Ten List 2022 and secured 2023 recognition from MusicRow Next Big Thing and CMT Listen Up as well as joining the CRS New Faces Class of 2024. These milestones led Smith to earn his first-ever ACM Awards nomination for New Male Artist of the Year ahead of the 59th annual show.
URL:https://upbarreview.com/event/island-resort-casino-connor-smith-harris/2024-11-15/
LOCATION:Four Seasons Island Resort\, 16800 Shoreline Dr\, Pembine\, WI\, 54156\, United States
CATEGORIES:Menominee
END:VEVENT
END:VCALENDAR