BEGIN:VCALENDAR
VERSION:2.0
PRODID:-//UP BAR REVIEW - ECPv6.14.2//NONSGML v1.0//EN
CALSCALE:GREGORIAN
METHOD:PUBLISH
X-WR-CALNAME:UP BAR REVIEW
X-ORIGINAL-URL:https://upbarreview.com
X-WR-CALDESC:Events for UP BAR REVIEW
REFRESH-INTERVAL;VALUE=DURATION:PT1H
X-Robots-Tag:noindex
X-PUBLISHED-TTL:PT1H
BEGIN:VTIMEZONE
TZID:UTC
BEGIN:STANDARD
TZOFFSETFROM:+0000
TZOFFSETTO:+0000
TZNAME:UTC
DTSTART:20240101T000000
END:STANDARD
END:VTIMEZONE
BEGIN:VEVENT
DTSTART;TZID=UTC:20241112T110000
DTEND;TZID=UTC:20241112T140000
DTSTAMP:20260420T144608
CREATED:20241029T131729Z
LAST-MODIFIED:20241029T131729Z
UID:10002174-1731409200-1731420000@upbarreview.com
SUMMARY:The Craft Cave - Exploding Canvas - Marinette
DESCRIPTION:Santa is ready to go ! Make your canvas and decorate for Christmas. You will have choice of Santa or Snowmen. BYOB\, Cost 20$. Call to pre pay and sign up at 715-587-4643
URL:https://upbarreview.com/event/the-craft-cave-exploding-canvas-marinette-4/
LOCATION:The Craft Cave\, 605 Main St.\, Marinette\, WI\, 54143\, United States
CATEGORIES:Menominee
END:VEVENT
BEGIN:VEVENT
DTSTART;TZID=UTC:20241112T170000
DTEND;TZID=UTC:20241112T200000
DTSTAMP:20260420T144608
CREATED:20241029T131610Z
LAST-MODIFIED:20241029T131610Z
UID:10002154-1731430800-1731441600@upbarreview.com
SUMMARY:Biehl Bridges to Recovery - All Recovery Meeting - Marinette
DESCRIPTION:This is a meeting for anyone in recovery to talk about Recovery!
URL:https://upbarreview.com/event/biehl-bridges-to-recovery-all-recovery-meeting-marinette/2024-11-12/
LOCATION:Biehl Bridge To Recovery\, 3123 Shore Dr\, Marinette\, WI\, 54143
CATEGORIES:Menominee
END:VEVENT
BEGIN:VEVENT
DTSTART;TZID=UTC:20241112T180000
DTEND;TZID=UTC:20241112T200000
DTSTAMP:20260420T144608
CREATED:20241029T123825Z
LAST-MODIFIED:20241029T123825Z
UID:10002114-1731434400-1731441600@upbarreview.com
SUMMARY:Small Business Meeting - November Network Meeting
DESCRIPTION:You are INVITED to Join us for the November Networking Meeting on Tuesday November 12th from 6p-8p at our November Venue- The Cottages at Lake Park Senior Living in Marinette\, WI. In addition we will have our Featured Topic to discuss as a group.\nANY & ALL Local Small Business Owners and/or Managers are INVITED. Learn more about our November Venue and engage in a group discussion with our Featured Topic for November. Followed by some good old fashion networking with a fun group of businesses. This is a Casual Meeting and you truly are only a stranger once with our group.
URL:https://upbarreview.com/event/small-business-meeting-november-network-meeting/
LOCATION:The Cottages\, 2006 Lake Park Dr\, Marinette\, WI
CATEGORIES:Menominee
END:VEVENT
END:VCALENDAR