BEGIN:VCALENDAR
VERSION:2.0
PRODID:-//UP BAR REVIEW - ECPv6.14.2//NONSGML v1.0//EN
CALSCALE:GREGORIAN
METHOD:PUBLISH
X-WR-CALNAME:UP BAR REVIEW
X-ORIGINAL-URL:https://upbarreview.com
X-WR-CALDESC:Events for UP BAR REVIEW
REFRESH-INTERVAL;VALUE=DURATION:PT1H
X-Robots-Tag:noindex
X-PUBLISHED-TTL:PT1H
BEGIN:VTIMEZONE
TZID:UTC
BEGIN:STANDARD
TZOFFSETFROM:+0000
TZOFFSETTO:+0000
TZNAME:UTC
DTSTART:20240101T000000
END:STANDARD
END:VTIMEZONE
BEGIN:VEVENT
DTSTART;TZID=UTC:20241110T090000
DTEND;TZID=UTC:20241110T163000
DTSTAMP:20260420T144558
CREATED:20241029T141227Z
LAST-MODIFIED:20241029T141227Z
UID:10002214-1731229200-1731256200@upbarreview.com
SUMMARY:Crivellos - Fall Excursion to North Star Casino - Oconto
DESCRIPTION:SUNDAY\, NOVEMBER 10TH\, 2024 (PACKERS BYE WEEK)$23 per person includes:-Transportation and $5.00 meal voucher for Crivello’s-$20 coupon for casino and $10 voucher for food (based on your play)Bus Departs Crivellos at 9am\, returns around 4pmCall 920-834-3769 for more details and sign up
URL:https://upbarreview.com/event/crivellos-fall-excursion-to-north-star-casino-oconto/
LOCATION:Crivello’s\, 818 Main St\, Oconto\, WI\, 54153
CATEGORIES:Menominee
END:VEVENT
BEGIN:VEVENT
DTSTART;TZID=UTC:20241110T110000
DTEND;TZID=UTC:20241110T130000
DTSTAMP:20260420T144558
CREATED:20241029T131322Z
LAST-MODIFIED:20241029T131322Z
UID:10002152-1731236400-1731243600@upbarreview.com
SUMMARY:Moose Lodge 2327 - Veterans Day Brunch - Marinette
DESCRIPTION:Marinette Moose Lodge is having a Veterans Day Brunch for Members and Qualified Guest on Sunday 11-10-24 from 11am – 1pm. Free to Valued Veterans – $14.00 (includes tax) for Members and Qualified Guest – Kids 5-11-1/2 priced – Kids 4 & under free.Buffet includes eggs\, sausage\, ham\, hash browns\, toast\, chicken\, mashed potatoes\, stuffing\, gravy\, vegetables\, dinner rolls\, salad bar & sweets.
URL:https://upbarreview.com/event/moose-lodge-2327-veterans-day-brunch-marinette/
LOCATION:Marinette Moose Lodge\, N5233 E. Nettleton Road\, Marinette\, WI\, 54143
CATEGORIES:Menominee
END:VEVENT
BEGIN:VEVENT
DTSTART;TZID=UTC:20241110T110000
DTEND;TZID=UTC:20241110T140000
DTSTAMP:20260420T144558
CREATED:20240930T174903Z
LAST-MODIFIED:20240930T174903Z
UID:10001745-1731236400-1731247200@upbarreview.com
SUMMARY:Forgotten Fire Winery - 2nd Annual Soup Bowl - Marinette
DESCRIPTION:Two ways to participate:1.MAKE A SOUP!$10 entry fee for Soup makers. Entry fee includes half of an 8ft table and an outlet. 1 entry per person-20 participant cap for Soups (Chilis and stews are not soups\, per Jake)-Entries are responsible for any garnishes.-Participants make about 5 quarts of soup minimum.-Forgotten Fire will provide the spoons\, bowls\, and ladles for the event-Participants should bring their own extension cord.-Participants must be present to serve their soup.-Nestcos and crock pots are recommended.-Entry fee goes towards cash prize!-General public and businesses are welcome to enter!-Sign up at Forgotten Fire Winery for your chance at prizes and bragging rights!\n2. SAMPLE & VOTE$10 per wristband = unlimited soup (while supplies last) and a voting slip. (All proceeds from wristband sales go directly to the charity.)-Voters choose their top 3 favorite soups.\nVoting and sampling is from 11am-2pm with the winner to be announced at 3pm.\nCome on out and help us support a great cause and samples delicious soup!
URL:https://upbarreview.com/event/forgotten-fire-winery-2nd-annual-soup-bowl-marinette/
LOCATION:Forgotten Fire Winery\, N2393 Schacht Road\, Marinette\, WI\, 54143\, United States
CATEGORIES:Menominee
END:VEVENT
BEGIN:VEVENT
DTSTART;TZID=UTC:20241110T120000
DTEND;TZID=UTC:20241110T130000
DTSTAMP:20260420T144558
CREATED:20241001T025933Z
LAST-MODIFIED:20241001T025933Z
UID:10001820-1731240000-1731243600@upbarreview.com
SUMMARY:Biehls Bridge to Recovery - CMA Sundays Im More than 2% Meeting - Marinette
DESCRIPTION:This is an open meeting. You can also join the meeting by using Microsoft TeamsMeeting ID: 215 291 811 664Passcode: QouoBu
URL:https://upbarreview.com/event/biehls-bridge-to-recovery-cma-sundays-im-more-than-2-meeting-marinette/2024-11-10/
LOCATION:MI
CATEGORIES:Menominee
END:VEVENT
BEGIN:VEVENT
DTSTART;TZID=UTC:20241110T120000
DTEND;TZID=UTC:20241110T163000
DTSTAMP:20260420T144558
CREATED:20241029T150531Z
LAST-MODIFIED:20241029T150531Z
UID:10002283-1731240000-1731256200@upbarreview.com
SUMMARY:Embers 1871 - Deacon Chuck's Jubilee - Peshtigo
DESCRIPTION:We will celebrate Deacon Chuck’s Jubilee of 20 years as a deacon along with his promotion to senior status at Embers 1871.\nReservations are a must! Forms and payment can be returned to the Parish Office by October 20.
URL:https://upbarreview.com/event/embers-1871-deacon-chucks-jubilee-peshtigo/
LOCATION:Embers 1871\, W3529 Co Rd B\, Peshtigo\, WI\, 54157\, United States
CATEGORIES:Menominee
END:VEVENT
BEGIN:VEVENT
DTSTART;TZID=UTC:20241110T140000
DTEND;TZID=UTC:20241110T160000
DTSTAMP:20260420T144558
CREATED:20241029T124639Z
LAST-MODIFIED:20241029T124639Z
UID:10002126-1731247200-1731254400@upbarreview.com
SUMMARY:Bayshore Arts Center - RENT - Marinette
DESCRIPTION:RENT\, by Jonathan Larson\nCo-Produced by Coastal Players & Theatre on the Bay\nBased on Giacomo Puccini’s La Boheme\, Rent is a rock opera that tells the story of 8 friends’ need for connection in a world that has thrown them away. Set in the East Village of NYC at the height of the Aids Epidemic\, this group of artists and musicians experience desperation\, loneliness\, loss\, lust\, and love all while coping with survival. Together they discover how to fight for liberation when a win doesn’t seem possible.\nTickets are ON SALE NOW!\nNovember 1\, 2\, 8 & 9 at 7pNovember 3 & 10 at 2p\nBuy Online: https://ticketstar.evenue.net/events/UWGBMC\nBuy Over the Phone: 715-504-3351 (please leave a message if you get no answer. All messages will be returned)\nBuy at the Box Office: Box Office opens 45 minutes before show time (Please note that we are CASHLESS for all ticket sales)\nThis production is Rated R and contains mature themes\, scenes of intimacy\, drug use and coarse language. Parental guidance is advised. RENT is presented through special arrangement with Music Theatre International (MTI). All authorized performance materials are also supplied by MTI.
URL:https://upbarreview.com/event/bayshore-arts-center-rent-marinette/2024-11-10/
LOCATION:Bayshore Arts Center\, 750 W Bay Shore St\, Marinette\, WI\, 54143
CATEGORIES:Menominee
END:VEVENT
BEGIN:VEVENT
DTSTART;TZID=UTC:20241110T140000
DTEND;TZID=UTC:20241110T160000
DTSTAMP:20260420T144558
CREATED:20241029T125424Z
LAST-MODIFIED:20241029T125424Z
UID:10002132-1731247200-1731254400@upbarreview.com
SUMMARY:Elks Lodge 1313 - Wisconsin Concealed Carry Class - Marinette
DESCRIPTION:We teach a relaxed 2 hour class\, with a focus on law. This class will give you answers to all your questions. Topics include things such as prohibited places\, use of force\, traveling armed\, interacting with law enforcement as well as firearm safety rules\, safe storage\, handling\, transportation. This class will allow you to get your Wisconsin permit to carry valid in 32 states. Our class meets the requirements set forth by the Wisconsin DOJ.\nOur students are customers for life\, you get our personal cell numbers so if you have questions later\, the answer is only a phone call away. We are NRA and USCCA certified with over 15 years experience in law enforcement.\nNo pre-registration needed\, just show up. Cost is $80 cash/check/credit.
URL:https://upbarreview.com/event/elks-lodge-1313-wisconsin-concealed-carry-class-marinette/
LOCATION:Elks Lodge #1313\, 430 Bridge St\, Marinette\, WI\, 54143
CATEGORIES:Menominee
END:VEVENT
BEGIN:VEVENT
DTSTART;TZID=UTC:20241110T140000
DTEND;TZID=UTC:20241110T160000
DTSTAMP:20260420T144558
CREATED:20241029T201856Z
LAST-MODIFIED:20241029T201856Z
UID:10002319-1731247200-1731254400@upbarreview.com
SUMMARY:Eden Restored Health Market - Healthy Desserts Free Class - Wausaukee
DESCRIPTION:Eden Restored’s Team will be sharing healthy dessert alternatives. They will discuss ingredient substitutes to make your favorite dessert into a healthy one. They will be sharing recipes and samples. Please feel free to bring your favorite recipe and samples to share\, as well!
URL:https://upbarreview.com/event/eden-restored-health-market-healthy-desserts-free-class-wausaukee/
LOCATION:Eden Restored Health Market\, 528 Harrison Ave\, Wausaukee\, WI
CATEGORIES:Menominee
END:VEVENT
END:VCALENDAR