BEGIN:VCALENDAR
VERSION:2.0
PRODID:-//UP BAR REVIEW - ECPv6.14.2//NONSGML v1.0//EN
CALSCALE:GREGORIAN
METHOD:PUBLISH
X-WR-CALNAME:UP BAR REVIEW
X-ORIGINAL-URL:https://upbarreview.com
X-WR-CALDESC:Events for UP BAR REVIEW
REFRESH-INTERVAL;VALUE=DURATION:PT1H
X-Robots-Tag:noindex
X-PUBLISHED-TTL:PT1H
BEGIN:VTIMEZONE
TZID:UTC
BEGIN:STANDARD
TZOFFSETFROM:+0000
TZOFFSETTO:+0000
TZNAME:UTC
DTSTART:20240101T000000
END:STANDARD
END:VTIMEZONE
BEGIN:VEVENT
DTSTART;TZID=UTC:20241109T083000
DTEND;TZID=UTC:20241109T120000
DTSTAMP:20260420T144746
CREATED:20241029T145818Z
LAST-MODIFIED:20241029T145818Z
UID:10002273-1731141000-1731153600@upbarreview.com
SUMMARY:Faith Church - Rubys Pantry - Peshtigo
DESCRIPTION:Ruby’s Pantry is for ANYONE looking to extend their monthly grocery budget. There is no income or residency requirements. For a $25 cash share donation\, you will receive an abundance of groceries. This is a drive-thru distribution
URL:https://upbarreview.com/event/faith-church-rubys-pantry-peshtigo-2/
LOCATION:Faith Church Peshtigo\, 350 N Stephenson Ave\, Peshtigo\, WI\, 54157
CATEGORIES:Menominee
END:VEVENT
BEGIN:VEVENT
DTSTART;TZID=UTC:20241109T090000
DTEND;TZID=UTC:20241109T120000
DTSTAMP:20260420T144746
CREATED:20241029T140129Z
LAST-MODIFIED:20241029T140129Z
UID:10002208-1731142800-1731153600@upbarreview.com
SUMMARY:Winter Wonderland Tree Decorating - Oconto
DESCRIPTION:We are still looking for volunteers to help decorate! We are also still accepting any/all tree sponsorship forms!
URL:https://upbarreview.com/event/winter-wonderland-tree-decorating-oconto/
LOCATION:400 Holtwood Way\, Oconto\, WI
CATEGORIES:Menominee
END:VEVENT
BEGIN:VEVENT
DTSTART;TZID=UTC:20241109T100000
DTEND;TZID=UTC:20241109T120000
DTSTAMP:20260420T144746
CREATED:20241029T132411Z
LAST-MODIFIED:20241029T132411Z
UID:10002186-1731146400-1731153600@upbarreview.com
SUMMARY:Annual Pre-Order Pie Sale Pickup - Menominee
DESCRIPTION:It’s Pie Sale time again at the West Shore Fishing Museum!! Orders open through November 3rd at 8pm. Pick up will be at the museum from 10am to noon on November 9th. We are limiting the number of orders this year\, so get your choices in soon. Facebook followers\, you get a head start!! Our ads will be running in local papers next week. Price is the same as last year. A donation of $25 lets you choose a pie from our list. (see list in first comment) You can pay when you pick up your order. We are so excited by the progress on our new visitors’ center/archive space. Everything we raise will go toward completion of the interior space Pies can be ordered by email: katydoescookies@gmail.com\, 906-282-8333(text only) or message here on facebook.
URL:https://upbarreview.com/event/annual-pre-order-pie-sale-pickup-menominee/
LOCATION:West Shore Fishing Museum\, N5146 M35\, Menmonee\, MI\, 49858
CATEGORIES:Menominee
END:VEVENT
BEGIN:VEVENT
DTSTART;TZID=UTC:20241109T100000
DTEND;TZID=UTC:20241109T160000
DTSTAMP:20260420T144746
CREATED:20241029T150832Z
LAST-MODIFIED:20241029T150832Z
UID:10002286-1731146400-1731168000@upbarreview.com
SUMMARY:Coleman Rescue Squad - 3rd Annual Booyah Fundraiser
DESCRIPTION:Join us Saturday\, November 9th from 10:00am to 4:00pm and enjoy Chili\, Booyah and/or Chicken Dumpling Soup while supporting Coleman Area Rescue Squad and the Beaver American Luteran Church!\nBake Sale & Bucket Raffles!\nPreorders are available (Quart\, Pint & Gallon)\, Please call (920) 897-2858 to place your order.
URL:https://upbarreview.com/event/coleman-rescue-squad-3rd-annual-booyah-fundraiser/
LOCATION:119 E 16th Rd\, Coleman\, WI
CATEGORIES:Menominee
END:VEVENT
BEGIN:VEVENT
DTSTART;TZID=UTC:20241109T113000
DTEND;TZID=UTC:20241109T140000
DTSTAMP:20260420T144746
CREATED:20241029T151948Z
LAST-MODIFIED:20241029T151948Z
UID:10002295-1731151800-1731160800@upbarreview.com
SUMMARY:Wild Eagle Bar & Grill - 8-Ball Singles Tournament - Stephenson
DESCRIPTION:8 ball singles$35 entry ( green fees included)Race to 4/3CSI rulesOptional $20 side pot
URL:https://upbarreview.com/event/wild-eagle-bar-grill-8-ball-singles-tournament-stephenson/
LOCATION:Wild Eagle Bar & Grill\, S301 Railroad St.\, Stephenson\, MI\, 49887
CATEGORIES:Menominee
END:VEVENT
BEGIN:VEVENT
DTSTART;TZID=UTC:20241109T120000
DTEND;TZID=UTC:20241109T150000
DTSTAMP:20260420T144746
CREATED:20241029T151050Z
LAST-MODIFIED:20241029T151050Z
UID:10002289-1731153600-1731164400@upbarreview.com
SUMMARY:BloomHouse23 - Galvanized Milk Cans Class - Coleman
DESCRIPTION:Bountiful Harvest ~ Galvanized Milk Cans Class Date: Saturday\, November 9thTime: 12PMPresale Tickets: $65General Admission Tickets: $80Registration: Call us\, come on in\, or register online at: www.BloomHouse23.com/classesCustom Orders: $105(Email Cody@BloomHouse23.com for custom orders. Please be sure to provide your preferred color palette\, so that we can best design your milk can arrangement to fit your home’s decor)\nLooking for an arrangement that will last for seasons to come? Well “jump on in” this pile of leaves\, and join us as we create this BOUNTIFUL harvest arrangement! Chock full of Fall foliage and premium\, artificial Autumn florals for the Fall and Thanksgiving season…and many seasons to come! \nCreated in a 12 inch galvanized metal milk can\, this floral creation will brighten up any room and will be filling our thankful and grateful hearts around the Thanksgiving table! Our milk can mockup design for this class includes a muted fall color palette that features white sunflowers\, cotton\, wheat\, dried babies breath\, eucalyptus\, glitter sticks and linen mums. However\, if these aren’t your go-to fall colors\, don’t fret! We will have a very large\, beautiful selection of both premium artificial flowers and dried florals for you to choose from. Including standard roses\, garden roses\, ranunculus\, hydrangeas\, chrysanthemums\, pampas\, wheat\, hypericum berries\, sunflowers\, dried babies breath\, billy balls\, bunny tails\, amaranth\, eucalyptus\, cotton\, feathers\, etc.And all in a large array of colors ranging from soft muted tones\, to bold vibrant colors for you to choose from…Reds\, burnt oranges\, rusts\, yellows\, purples\, peaches\, whites\, creams\, tans\, greens\, burgundies\, and browns to match your home’s esthetic and help make this milk can arrangement your very own!\nOnce completed your creation will stand 22-26 inches tall and 18-20 inches wide! So whether you use it as a tall centerpiece for your Thanksgiving tablescape or a beautiful\, Fall floor arrangement for your doorway or foyer\, it is sure to make a stunning statement!We will wrap up the class by discussing the best ways to store your arrangement so you can enjoy your masterpiece for seasons to come. We hope to see you there! \nCall us\, come on in\, or register online at: www.BloomHouse23.com/classes\n\n10% OFF CLASS SHOPPING DISCOUNT:For any class goers interested in shopping before or after their class\, we offer a 10% Class Shopping Discount as our way of saying thank you for trusting us with your creative classes! ~10% OFF STOREWIDE ON ANY AND ALL THINGS BloomHouse23. Including\, but not limited to the following items:•Florals•Furniture•Future Classes•Candy•Candles•Clocks•Keychains•Gifts•Home Decor Accents•Artwork•Apparel•Artificial Florals•Purses•Plants•Paintings•Seasonal Decor•Signs•Jewelry•Rugs•Wall Hangings•Bath Bombs•Lotions•Lanterns•Lip Glosses•Tumblers•Totes•Mirrors•Makeup\, & much\, much more…The list is endless!\n*10% OFF Class Shopping Discount is a STOREWIDE MINIMUM DISCOUNT of 10% OFF.\n*10% OFF Class Shopping Discount is an additional 10% OFF any sales we might be running the day of your class -Example: If apparel is 30% OFF for the general public\, you would receive the 30% OFF + your 10% OFF Class Shopping Discount\, for a total of 40% OFF ALL apparel you purchase the day of your class.\n*10% OFF Class Shopping Discount isonly valid the day of your class/event.\n*10% OFF Class Shopping Discount is not valid on the following items:•Gift Cards•Vendor Items•Monthly Floral Subscription Packages•Future Floral Orders for:-Weddings-Funerals-Dances-Etc.\nINTERESTED IN A PRIVATE CLASS?:Send us a message! We have hosted dozens of private classes and team building workshops. We can host your Private Class during our standard store hours\, or outside our standard store hours. We can also host your Private Class inside BoomHouse23 or we can travel to you with all the necessary supplies.
URL:https://upbarreview.com/event/bloomhouse23-galvanized-milk-cans-class-coleman/
LOCATION:BloomHouse\, 447 Business 141 N\, Coleman\, WI\, 54112
CATEGORIES:Menominee
END:VEVENT
BEGIN:VEVENT
DTSTART;TZID=UTC:20241109T130000
DTEND;TZID=UTC:20241109T150000
DTSTAMP:20260420T144746
CREATED:20241029T130015Z
LAST-MODIFIED:20241029T130015Z
UID:10002138-1731157200-1731164400@upbarreview.com
SUMMARY:The Craft Cave - Snowman - Marinette
DESCRIPTION:Build your own cute snowman! Cost is 20$ BYOB. Call to pre pay and sign up at 715-587-4643
URL:https://upbarreview.com/event/the-craft-cave-snowman-marinette-2/
LOCATION:The Craft Cave\, 605 Main St.\, Marinette\, WI\, 54143\, United States
CATEGORIES:Menominee
END:VEVENT
BEGIN:VEVENT
DTSTART;TZID=UTC:20241109T140000
DTEND;TZID=UTC:20241109T153000
DTSTAMP:20260420T144746
CREATED:20241029T125752Z
LAST-MODIFIED:20241029T125752Z
UID:10002136-1731160800-1731166200@upbarreview.com
SUMMARY:Game Knights - Magic the Gathering Foundations Prerelease - Marinette
DESCRIPTION:Magic the Gathering: Foundations prerelease.Nov 8th at 6 p.m.Nov 9th at 2 p.m.
URL:https://upbarreview.com/event/game-knights-magic-the-gathering-foundations-prerelease-marinette/2024-11-09/
LOCATION:Game Knights\, 2035 Marinette Ave\, Marinette\, WI\, 54143
CATEGORIES:Menominee
END:VEVENT
BEGIN:VEVENT
DTSTART;TZID=UTC:20241109T150000
DTEND;TZID=UTC:20241109T180000
DTSTAMP:20260420T144746
CREATED:20241029T121940Z
LAST-MODIFIED:20241029T121940Z
UID:10002089-1731164400-1731175200@upbarreview.com
SUMMARY:Spirit House - Sushi Rolling with Ace - Menominee
DESCRIPTION:There will be only 16 seats per class to ensure plenty of hands on time for all participants.\nOn this class Ace will guide you on a journey of an ancient technique rolling sushi. Each guest will Roll 2 rolls with spicy mayo to enjoy. The rolls will included the classic California Roll and Aces southern Asian/Cajun infused Jambalaya Sushi Roll with cajun sauce.Tickets available: https://spirithousemi.com/shop\nIncludes:Sushi mat2 rollsRoughly 1.5 hours of instruction\nEarly class: cocktails at 3\, class 3:30-5:30Late class: cocktails at 5:30\, class 6-8
URL:https://upbarreview.com/event/spirit-house-sushi-rolling-with-ace-menominee/
LOCATION:Spirit House\, 533 10th Ave\, Menominee\, MI 49858\, Menominee\, MI\, 49858\, United States
CATEGORIES:Menominee
END:VEVENT
BEGIN:VEVENT
DTSTART;TZID=UTC:20241109T170000
DTEND;TZID=UTC:20241109T210000
DTSTAMP:20260420T144746
CREATED:20241029T124217Z
LAST-MODIFIED:20241029T124217Z
UID:10002118-1731171600-1731186000@upbarreview.com
SUMMARY:Little River Country Club - Night of Giving Plus One - Marinette
DESCRIPTION:Our Third Annual Plus One Event is going to be big! And it’s now open to the public!\n5pm – Cash bar\, menu available\, silent auction\, raffle\, music\, mingling\n6:30pm – Giving Hour – the fun part!\nRSVP here:https://www.eventbrite.com/…/night-of-giving-event…\nSign up here to bring a bucket raffle or silent auction item here:https://docs.google.com/…/1FAIpQLScGcPyznQW…/viewform…\nHow does it work?\nOur members nominate local 501(c)3 nonprofit organizations to receive the group’s collective donation. Three will be selected at random to speak. Each attendee will then vote for the nonprofit that they would like to receive the funds\, and the charity that receives the most votes wins! Each attendee will donate $100 directly to the nonprofit. Our donations have been matched by the Schulze Family Foundation in the amount of $5\,000.\nCurrent members – this is our annual Plus One event where we encourage you to bring a guest! It’s a fun night out\, and our goal is to double our impact in the community with the additional $100 donation from the guest attendees.\nA list of approved local 501(c)(3) organizations can be found on our website\, in the “Charities” section.\nAuction and Raffle\nBid on exciting items and participate in our raffle for a chance to win fantastic prizes. All items are donated\, and we would greatly appreciate any donations! All money goes to local causes!\nAre you a local nonprofit organization or looking to raise funds for a specific cause?\nGreat! You are welcome to bring a silent auction item designated specifically for your cause and the money raised for your item will go directly to your cause. In addition\, you are invited to mingle with our members and explain how your organization could benefit from $10\,000.\nMore\nCash bar and menu available during the event. Bring a friend\, $100 for the winning nonprofit of the night\, and your checkbook or cash to make an even bigger impact in the community.
URL:https://upbarreview.com/event/little-river-country-club-night-of-giving-plus-one-marinette/
LOCATION:Little River Country Club\, N2235 Shore Dr\, Marinette\, WI\, 54143
CATEGORIES:Menominee
END:VEVENT
BEGIN:VEVENT
DTSTART;TZID=UTC:20241109T180000
DTEND;TZID=UTC:20241109T200000
DTSTAMP:20260420T144746
CREATED:20241016T012853Z
LAST-MODIFIED:20241016T012853Z
UID:10002083-1731175200-1731182400@upbarreview.com
SUMMARY:Enjoy Gifts & Gathering - Live Music - Marinette
DESCRIPTION:Live music every 2nd saturday of each month!
URL:https://upbarreview.com/event/enjoy-gifts-gathering-live-music-marinette/2024-11-09/
LOCATION:EnJoy Gifts & Gathering\, 1713 Main St\, Marinette\, WI\, 54143
CATEGORIES:Menominee
END:VEVENT
BEGIN:VEVENT
DTSTART;TZID=UTC:20241109T180000
DTEND;TZID=UTC:20241109T210000
DTSTAMP:20260420T144746
CREATED:20241029T140844Z
LAST-MODIFIED:20241029T141108Z
UID:10002213-1731175200-1731186000@upbarreview.com
SUMMARY:Holy Trinity Parish - Fall Auction - Oconto
DESCRIPTION:𝕁𝕠𝕚𝕟 𝕦𝕤 𝕗𝕠𝕣 𝕨𝕙𝕒𝕥 𝕨𝕚𝕝𝕝 𝕓𝕖 𝕒 𝔽𝕌ℕ 𝕟𝕚𝕘𝕙𝕥 𝕠𝕗 s𝕡𝕚𝕣𝕚𝕥𝕖𝕕 b𝕚𝕕𝕕𝕚𝕟𝕘\, 𝕝𝕒𝕦𝕘𝕙𝕥𝕖𝕣\, 𝕗𝕠𝕠𝕕 𝕒𝕟𝕕 𝕓𝕖𝕧𝕖𝕣𝕒𝕘𝕖! There are 𝔸𝕃𝕎𝔸𝕐𝕊 amazing items to bid on and this year is looking to be one of our best events yet! Donations may be dropped off at the Holy Trinity Parish office or American Family Insurance. Please contact Dani Perizzo with any questions: 920-604-1665. 𝕋𝕙𝕒𝕟𝕜 𝕪𝕠𝕦 & 𝕨𝕖 𝕙𝕠𝕡𝕖 𝕥𝕠 𝕤𝕖𝕖 𝕪𝕠𝕦 𝕥𝕙𝕖𝕣𝕖!
URL:https://upbarreview.com/event/holy-trinity-parish-fall-auction-oconto/
LOCATION:Holy Trinity Parish\, 716 Madison St\, Oconto\, WI\, 54153
CATEGORIES:Menominee
END:VEVENT
BEGIN:VEVENT
DTSTART;TZID=UTC:20241109T190000
DTEND;TZID=UTC:20241109T210000
DTSTAMP:20260420T144746
CREATED:20241029T124639Z
LAST-MODIFIED:20241029T124639Z
UID:10002125-1731178800-1731186000@upbarreview.com
SUMMARY:Bayshore Arts Center - RENT - Marinette
DESCRIPTION:RENT\, by Jonathan Larson\nCo-Produced by Coastal Players & Theatre on the Bay\nBased on Giacomo Puccini’s La Boheme\, Rent is a rock opera that tells the story of 8 friends’ need for connection in a world that has thrown them away. Set in the East Village of NYC at the height of the Aids Epidemic\, this group of artists and musicians experience desperation\, loneliness\, loss\, lust\, and love all while coping with survival. Together they discover how to fight for liberation when a win doesn’t seem possible.\nTickets are ON SALE NOW!\nNovember 1\, 2\, 8 & 9 at 7pNovember 3 & 10 at 2p\nBuy Online: https://ticketstar.evenue.net/events/UWGBMC\nBuy Over the Phone: 715-504-3351 (please leave a message if you get no answer. All messages will be returned)\nBuy at the Box Office: Box Office opens 45 minutes before show time (Please note that we are CASHLESS for all ticket sales)\nThis production is Rated R and contains mature themes\, scenes of intimacy\, drug use and coarse language. Parental guidance is advised. RENT is presented through special arrangement with Music Theatre International (MTI). All authorized performance materials are also supplied by MTI.
URL:https://upbarreview.com/event/bayshore-arts-center-rent-marinette/2024-11-09/
LOCATION:Bayshore Arts Center\, 750 W Bay Shore St\, Marinette\, WI\, 54143
CATEGORIES:Menominee
END:VEVENT
BEGIN:VEVENT
DTSTART;TZID=UTC:20241109T190000
DTEND;TZID=UTC:20241109T220000
DTSTAMP:20260420T144746
CREATED:20241029T150434Z
LAST-MODIFIED:20241029T150434Z
UID:10002282-1731178800-1731189600@upbarreview.com
SUMMARY:Embers 1871 - Four Guyz in Dinner Jackets - Peshtigo
DESCRIPTION:The Four Guyz in Dinner Jackets®take you on an “Old-Fashioned” road trip with a double shot of nostalgia in their brand-new show! In this energized entrée\,\nthe fabulous foursome serve round after round of classic doo-wop and tasty musical side dishes you are sure to relish! We know you will drink up every drop\nof fun right down to the orange slice and maraschino cherry! Join the Four Guyz in a toast – your reservation is waiting!Doors Open at 7pmShow Starts at 7:30pmFront Row Tickets $40General Tickets $35Tickets at Door $40Tickets are Non Refundable\nhttps://events.eventgroove.com/…/Four-Guyz-In-Dinner…
URL:https://upbarreview.com/event/embers-1871-four-guyz-in-dinner-jackets-peshtigo/
LOCATION:Embers 1871\, W3529 Co Rd B\, Peshtigo\, WI\, 54157\, United States
CATEGORIES:Menominee
END:VEVENT
BEGIN:VEVENT
DTSTART;TZID=UTC:20241109T200000
DTEND;TZID=UTC:20241109T230000
DTSTAMP:20260420T144746
CREATED:20240626T193449Z
LAST-MODIFIED:20240626T193449Z
UID:10000849-1731182400-1731193200@upbarreview.com
SUMMARY:Island Resort & Casino - Warrant - Harris
DESCRIPTION:At its core\, WARRANT is an American rock band through and through. Hitting it big in 1989\, the Hollywood\, CA based band rose through the ranks of the local Sunset Strip scene to the level of multiplatinum selling\, chart-topping success. The band first came into the national spotlight with their debut album Dirty Rotten Filthy Stinking Rich. This album produced Radio and MTV chart toppers “Down Boys\,” “Sometimes She Cries\,” and the massive hit “Heaven” which enjoyed Gold sales and the Album went Platinum in Canada as well\, eventually selling over 3 million copies.\nWARRANT’s sophomore album Cherry Pie was released in September 1990. This album\, which spawned the MTV & Radio hits “Cherry Pie\,” “Uncle Tom’s Cabin\,” and “I Saw Red\,” all reached the Top 10 in the United States and went on to sell 3 million copies\, reaching Platinum sales in Canada and Australia.\nWARRANT’s signature style of rock music is very catchy and yet very melodic and remains the band’s signature sound today. In September 2008\, Robert Mason replaced Jani Lane (RIP) as lead vocalist joining the other four original members\, Jerry Dixon\, Steven Sweet\, Joey Allen and Erik Turner. Their current album Louder Harder Faster\, released on Frontiers Records\, has been highly regarded in reviews and embraced by fans
URL:https://upbarreview.com/event/island-resort-casino-warrant-harris/2024-11-09/
LOCATION:Island Resort & Casino\, W 399 US-2\, Harris\, MI\, 49845\, United States
CATEGORIES:Menominee
END:VEVENT
BEGIN:VEVENT
DTSTART;TZID=UTC:20241109T210000
DTEND;TZID=UTC:20241109T233000
DTSTAMP:20260420T144746
CREATED:20240728T201250Z
LAST-MODIFIED:20240728T201250Z
UID:10001152-1731186000-1731195000@upbarreview.com
SUMMARY:Four Seasons Island Resort - Mane Event Karaoke - Pembine
DESCRIPTION:Join us in Boundary Waters Sports Bar for a night full of laughter\, food\, drinks AND KARAOKE! Brad\, Mane Event Karaoke will be here once again doing his thing! 9pm-1am.
URL:https://upbarreview.com/event/four-seasons-island-resort-mane-event-karaoke-pembine/2024-11-09/
LOCATION:Four Seasons Island Resort\, 16800 Shoreline Dr\, Pembine\, WI\, 54156\, United States
CATEGORIES:Menominee
END:VEVENT
BEGIN:VEVENT
DTSTART;TZID=UTC:20241109T210000
DTEND;TZID=UTC:20241109T233000
DTSTAMP:20260420T144746
CREATED:20241029T135003Z
LAST-MODIFIED:20241029T135003Z
UID:10002200-1731186000-1731195000@upbarreview.com
SUMMARY:Riverside Bar - DJ/Karaoke by Paris Nights - Crivitz
DESCRIPTION:Join us for an exciting night of DJ and Karaoke with Paris Nights Entertainment!
URL:https://upbarreview.com/event/riverside-bar-dj-karaoke-by-paris-nights-crivitz/
LOCATION:Riverside Bar\, 1010 Main Ave\, Crivitz\, WI
CATEGORIES:Menominee
END:VEVENT
END:VCALENDAR