BEGIN:VCALENDAR
VERSION:2.0
PRODID:-//UP BAR REVIEW - ECPv6.14.2//NONSGML v1.0//EN
CALSCALE:GREGORIAN
METHOD:PUBLISH
X-ORIGINAL-URL:https://upbarreview.com
X-WR-CALDESC:Events for UP BAR REVIEW
REFRESH-INTERVAL;VALUE=DURATION:PT1H
X-Robots-Tag:noindex
X-PUBLISHED-TTL:PT1H
BEGIN:VTIMEZONE
TZID:UTC
BEGIN:STANDARD
TZOFFSETFROM:+0000
TZOFFSETTO:+0000
TZNAME:UTC
DTSTART:20240101T000000
END:STANDARD
END:VTIMEZONE
BEGIN:VEVENT
DTSTART;TZID=UTC:20241105T130000
DTEND;TZID=UTC:20241105T150000
DTSTAMP:20260420T144924
CREATED:20241029T130102Z
LAST-MODIFIED:20241029T130102Z
UID:10002139-1730811600-1730818800@upbarreview.com
SUMMARY:The Craft Cave - Snowman - Marinette
DESCRIPTION:Do you want to build a Snowman ? Come make your own rope snowman for the holidays. Cost 20$ BYOB. Call to pre pay and sign up at 715-587-4643
URL:https://upbarreview.com/event/the-craft-cave-snowman-marinette-3/
LOCATION:The Craft Cave\, 605 Main St.\, Marinette\, WI\, 54143\, United States
CATEGORIES:Menominee
END:VEVENT
BEGIN:VEVENT
DTSTART;TZID=UTC:20241105T130000
DTEND;TZID=UTC:20241105T160000
DTSTAMP:20260420T144924
CREATED:20241029T130829Z
LAST-MODIFIED:20241029T130829Z
UID:10002148-1730811600-1730822400@upbarreview.com
SUMMARY:CJ's Glass - Beginner Watercolor - Marinette
DESCRIPTION:$40 cash or check to Judy BloomClass size: 12 Ages 12+Preregistration required by calling or messaging CJ’s Glass(608)354-2303Come try your hand at watercolor for the first time or refresh your skills in this watercolor class taught by Judy Bloom Studio! No previous experience needed. Judy offers a template and step by step\, demonstrated lessons to help you create this one of a kind painting
URL:https://upbarreview.com/event/cjs-glass-beginner-watercolor-marinette/
LOCATION:CJ’s Glass\, 802 Main St\, Marinette\, WI\, 54143
CATEGORIES:Menominee
END:VEVENT
BEGIN:VEVENT
DTSTART;TZID=UTC:20241105T160000
DTEND;TZID=UTC:20241105T190000
DTSTAMP:20260420T144924
CREATED:20241029T140025Z
LAST-MODIFIED:20241029T140025Z
UID:10002207-1730822400-1730833200@upbarreview.com
SUMMARY:Brothers Three Oconto - Election Day Fundraiser
DESCRIPTION:Stop by The Brothers 3 Oconto to support the Oconto Area Humane Society! Donations can also be sent directly to the shelter or Venmo @ocontoareahumane
URL:https://upbarreview.com/event/brothers-three-oconto-election-day-fundraiser/
LOCATION:Brothers Three Oconto\, 106 Superior Ave\, Oconto\, WI
CATEGORIES:Menominee
END:VEVENT
BEGIN:VEVENT
DTSTART;TZID=UTC:20241105T170000
DTEND;TZID=UTC:20241105T200000
DTSTAMP:20260420T144924
CREATED:20241029T131610Z
LAST-MODIFIED:20241029T131610Z
UID:10002153-1730826000-1730836800@upbarreview.com
SUMMARY:Biehl Bridges to Recovery - All Recovery Meeting - Marinette
DESCRIPTION:This is a meeting for anyone in recovery to talk about Recovery!
URL:https://upbarreview.com/event/biehl-bridges-to-recovery-all-recovery-meeting-marinette/2024-11-05/
LOCATION:Biehl Bridge To Recovery\, 3123 Shore Dr\, Marinette\, WI\, 54143
CATEGORIES:Menominee
END:VEVENT
END:VCALENDAR