BEGIN:VCALENDAR
VERSION:2.0
PRODID:-//UP BAR REVIEW - ECPv6.14.2//NONSGML v1.0//EN
CALSCALE:GREGORIAN
METHOD:PUBLISH
X-WR-CALNAME:UP BAR REVIEW
X-ORIGINAL-URL:https://upbarreview.com
X-WR-CALDESC:Events for UP BAR REVIEW
REFRESH-INTERVAL;VALUE=DURATION:PT1H
X-Robots-Tag:noindex
X-PUBLISHED-TTL:PT1H
BEGIN:VTIMEZONE
TZID:UTC
BEGIN:STANDARD
TZOFFSETFROM:+0000
TZOFFSETTO:+0000
TZNAME:UTC
DTSTART:20240101T000000
END:STANDARD
END:VTIMEZONE
BEGIN:VEVENT
DTSTART;VALUE=DATE:20241102
DTEND;VALUE=DATE:20241103
DTSTAMP:20260420T144431
CREATED:20241001T043526Z
LAST-MODIFIED:20241001T043526Z
UID:10001935-1730505600-1730591999@upbarreview.com
SUMMARY:Mariner Theatre - UTL Free Movie Night! - Marinette
DESCRIPTION:The next UTL’s Free Movie Fan Night at Mariner Theatre/Pixels Arcade will be November 2nd.
URL:https://upbarreview.com/event/mariner-theatre-utl-free-movie-night-marinette/
LOCATION:Mariner Theatre\, 2000 Ella Ct\, Marinette\, WI\, 54143\, United States
CATEGORIES:Menominee
END:VEVENT
BEGIN:VEVENT
DTSTART;TZID=UTC:20241102T070000
DTEND;TZID=UTC:20241102T133000
DTSTAMP:20260420T144431
CREATED:20241016T010542Z
LAST-MODIFIED:20241016T010542Z
UID:10002077-1730530800-1730554200@upbarreview.com
SUMMARY:Spartan Solutions - Concealed Carry Class - Peshtigo
DESCRIPTION:CALL FOR TIMES/DETAILS\n\nClass Description\nBuying a firearm is an important moment for those seeking to provide protection to themselves and their loved ones. Something equally important is ensuring you have the knowledge and skills to safely and effectively operate your firearm\, and understand the laws involved with doing so.\n\n\nCurriculum Description\n \nThis course will cover the implications of permitless carry. Topics that students will be introduced to include: relevant laws\, use-of-force decision making\, and next steps to take.
URL:https://upbarreview.com/event/spartan-solutions-concealed-carry-class-peshtigo/
LOCATION:Peshtigo Elementary\, 341 N Emery Ave\, Peshtigo\, WI
CATEGORIES:Menominee
END:VEVENT
BEGIN:VEVENT
DTSTART;TZID=UTC:20241102T070000
DTEND;TZID=UTC:20241102T160000
DTSTAMP:20260420T144431
CREATED:20241030T141451Z
LAST-MODIFIED:20241030T141451Z
UID:10002447-1730530800-1730563200@upbarreview.com
SUMMARY:Jeans Bakery - 1 Year Anniversary Party - Menominee
DESCRIPTION:Remember this is going on THIS SATURDAY!*many samples*all of our pies available as mini to try before ordering for thanksgiving*$1 mini gourmet cookies*3 kinds of bread
URL:https://upbarreview.com/event/jeans-bakery-1-year-anniversary-party-menominee/
LOCATION:Jeans Cakes & Bakery\, 532 10th Ave\, Menominee\, MI
CATEGORIES:Menominee
END:VEVENT
BEGIN:VEVENT
DTSTART;TZID=UTC:20241102T080000
DTEND;TZID=UTC:20241102T140000
DTSTAMP:20260420T144431
CREATED:20240930T181039Z
LAST-MODIFIED:20240930T181039Z
UID:10001760-1730534400-1730556000@upbarreview.com
SUMMARY:Peshtigo Elementary School - Fall Craft Vendor Show
DESCRIPTION:$2 admission or non perishable food item for the Peshtigo Food Pantry\nContact Elaine Sotka at 920-373-6661 or peshtigowomansclub@gmail.com for more information or to reserve your craft/vendor booth.
URL:https://upbarreview.com/event/peshtigo-elementary-school-fall-craft-vendor-show/
LOCATION:Peshtigo Elementary\, 341 N Emery Ave\, Peshtigo\, WI
CATEGORIES:Menominee
END:VEVENT
BEGIN:VEVENT
DTSTART;TZID=UTC:20241102T080000
DTEND;TZID=UTC:20241102T140000
DTSTAMP:20260420T144431
CREATED:20241029T145719Z
LAST-MODIFIED:20241029T145719Z
UID:10002272-1730534400-1730556000@upbarreview.com
SUMMARY:Peshtigo Elementary - Fall Craft Vendor Show
DESCRIPTION:$2 admission or non perishable food item for the Peshtigo Food Pantry\nContact Elaine Sotka at 920-373-6661 or peshtigowomansclub@gmail.com for more information or to reserve your craft/vendor booth.
URL:https://upbarreview.com/event/peshtigo-elementary-fall-craft-vendor-show/
LOCATION:Peshtigo Elementary\, 341 N Emery Ave\, Peshtigo\, WI
CATEGORIES:Menominee
END:VEVENT
BEGIN:VEVENT
DTSTART;TZID=UTC:20241102T083000
DTEND;TZID=UTC:20241102T110000
DTSTAMP:20260420T144431
CREATED:20241029T201309Z
LAST-MODIFIED:20241029T201309Z
UID:10002314-1730536200-1730545200@upbarreview.com
SUMMARY:Lavender Spirit Healing & Massage - Awaken Your Intuition - Wausaukee
DESCRIPTION:Discover and develop your innate intuitive abilities through a comprehensive exploration of the chakra system and a transformative meditation experience\, enabling you to establish a profound connection with your inner guidance and unlock the full potential of your intuitive gifts in various aspects of life.$57 per person\nSign Up:www.lavenderspiritwi.com
URL:https://upbarreview.com/event/lavender-spirit-healing-massage-awaken-your-intuition-wausaukee/
LOCATION:Lavender Spirit Healing & Massage\, 544 Van Buren St.\, Wausaukee\, WI
CATEGORIES:Menominee
END:VEVENT
BEGIN:VEVENT
DTSTART;TZID=UTC:20241102T090000
DTEND;TZID=UTC:20241102T140000
DTSTAMP:20260420T144431
CREATED:20240930T175707Z
LAST-MODIFIED:20240930T175707Z
UID:10001749-1730538000-1730556000@upbarreview.com
SUMMARY:Stephenson Area Public Schools - 2024 Holiday Festival
DESCRIPTION:The Friends of the Menominee County Library will be hosting their annual Holiday Festival Craft Show at the Stephenson Public School Multipurpose Room Saturday\, November 2nd from 9AM to 2PM. Art and crafts vendors from near and far are sure to bring a little something for everyone. THINK • SHOP • BUY • LOCAL
URL:https://upbarreview.com/event/stephenson-area-public-schools-2024-holiday-festival/
LOCATION:Stephenson Public School
CATEGORIES:Menominee
END:VEVENT
BEGIN:VEVENT
DTSTART;TZID=UTC:20241102T090000
DTEND;TZID=UTC:20241102T140000
DTSTAMP:20260420T144431
CREATED:20240930T180631Z
LAST-MODIFIED:20240930T180631Z
UID:10001755-1730538000-1730556000@upbarreview.com
SUMMARY:Stephenson Public School - 2024 Holiday Festival
DESCRIPTION:The Friends of the Menominee County Library will be hosting their annual Holiday Festival Craft Show at the Stephenson Public School Multipurpose Room Saturday\, November 2nd from 9AM to 2PM. Art and crafts vendors from near and far are sure to bring a little something for everyone. THINK • SHOP • BUY • LOCAL
URL:https://upbarreview.com/event/stephenson-public-school-2024-holiday-festival/
LOCATION:Stephenson Public School
CATEGORIES:Menominee
END:VEVENT
BEGIN:VEVENT
DTSTART;TZID=UTC:20241102T090000
DTEND;TZID=UTC:20241102T140000
DTSTAMP:20260420T144431
CREATED:20241029T135907Z
LAST-MODIFIED:20241029T135907Z
UID:10002206-1730538000-1730556000@upbarreview.com
SUMMARY:Beyer Home Museum - Annual Antique and Collectables Sale - Oconto
DESCRIPTION:Please mark your calendar for our annual Antique & Collectibles Sale set for Saturday\, November 2\, from 9:00 am to 1:00 pm at the Beyer Home & Carriage Museum. We will again feature a wide variety of items\, including Oconto Brewery cases\, paper labels\, pre-prohibition label\, trays\, signs\, bottle caps\, pull tabs\, flat top cans\, napkins\, placemats and other breweriana items. Also available will be fishing rods\, reels\, tackle boxes\, and collectible toys cars\, trucks and planes\, and much more. The Museum Gift Shop will also offer a great selection of gifts and books.
URL:https://upbarreview.com/event/beyer-home-museum-annual-antique-and-collectables-sale-oconto/
LOCATION:Beyer Home Museum\, 917 Park Ave\, Oconto\, WI\, 54153
CATEGORIES:Menominee
END:VEVENT
BEGIN:VEVENT
DTSTART;TZID=UTC:20241102T090000
DTEND;TZID=UTC:20241102T140000
DTSTAMP:20260420T144431
CREATED:20241029T152623Z
LAST-MODIFIED:20241029T152633Z
UID:10002299-1730538000-1730556000@upbarreview.com
SUMMARY:Grace Lutheran Church - 23rd Annual Fall Craft Show - Pembine
DESCRIPTION:Bucket Raffles! Lunch Available! 9am-2pm If you’re interested in renting a booth for your crafts please stop by the church for a registration form! Church office open Mon-Thur 8am-2pm(Sponsored by the Women of Grace Ministry)
URL:https://upbarreview.com/event/grace-lutheran-church-23rd-annual-fall-craft-show-pembine/
LOCATION:Grace Lutheran Church\, 716 Henriette Ave\, Crivitz\, WI\, 54114
CATEGORIES:Menominee
END:VEVENT
BEGIN:VEVENT
DTSTART;TZID=UTC:20241102T090000
DTEND;TZID=UTC:20241102T220000
DTSTAMP:20260420T144431
CREATED:20241029T130427Z
LAST-MODIFIED:20241029T130427Z
UID:10002142-1730538000-1730584800@upbarreview.com
SUMMARY:Senior Center - Fall Retreat Scrapbooking\, Cardmaking\, Sketches\, Prizes - Marinette
DESCRIPTION:Retreat runs Friday Nov.1st \,10 am to 10 pmSat. Nov 2\, 9 am to 10 pmSun. Nov 3rd 9am to 4pmCost is $45. for the weekend – non refundable\, to be paid by Sept. 30th (after that it goes to $55.)
URL:https://upbarreview.com/event/senior-center-fall-retreat-scrapbooking-cardmaking-sketches-prizes-marinette/2024-11-02/
LOCATION:Marinette Senior Center\, 1622 Main St\, Marinette\, WI\, 54143
CATEGORIES:Menominee
END:VEVENT
BEGIN:VEVENT
DTSTART;TZID=UTC:20241102T093000
DTEND;TZID=UTC:20241102T110000
DTSTAMP:20260420T144431
CREATED:20240827T021110Z
LAST-MODIFIED:20240827T021110Z
UID:10001599-1730539800-1730545200@upbarreview.com
SUMMARY:Ink Society - Local Writers Group - Escanaba
DESCRIPTION:Ink Society is an informal group of local writers that connect at the library monthly to discuss their current work\, seek feedback\, and share ideas. Bring your work and prepare to be inspired!\nThe Ink Society meets the first Saturday of each month at 10:30 a.m.
URL:https://upbarreview.com/event/ink-society-local-writers-group-escanaba/2024-11-02/
LOCATION:Escanaba Public Library\, 400 Ludington St\, Escanaba\, WI\, 49829
CATEGORIES:Menominee
END:VEVENT
BEGIN:VEVENT
DTSTART;TZID=UTC:20241102T100000
DTEND;TZID=UTC:20241102T120000
DTSTAMP:20260420T144431
CREATED:20241029T151143Z
LAST-MODIFIED:20241029T151143Z
UID:10002290-1730541600-1730548800@upbarreview.com
SUMMARY:BloomHouse23 - Painting & Harvest Design Workshop - Coleman
DESCRIPTION:Pumpkin To Talk About ~ Painting & Harvest Design Workshop\nDate: Saturday\, November 2ndTime: 10AM-12PM4 Presale Tickets: $484 General Admission Tickets: $60Class Limit: 8 Registered GuestsLocation: BloomHouse23\nGive your friends and family pumpkin to talk about by elevating your tablescape\, hearth\, patio or front porch this fall with this beautiful autumn-themed centerpiece. Handmade and hand~painted by you\, designed and arranged using your own creativity and the guidance of BloomHouse23’s floral designers.\nThis arrangement will be created using bountiful\, neutral-toned\, premium artificial Autumn florals and an artificial\, heirloom pumpkin. You will be painting your pumpkin whatever color you wish to best reflect your home’s color palette.We will have a plethora of paint colors available for you\, from warm to bright\, to bold and moody colors. After your pumpkins are dry\, you will add your artificial florals and finish it off by scripting your family’s last name or whatever word best describes your Autumn mood. We chose the word “Thankful” since we will be using our mockup as our Thanksgiving centerpiece this year! The best part is that this handmade\, work of art can be used for seasons to come!\nCall us\, come on in\, or register online at: www.BloomHouse23.com/classes
URL:https://upbarreview.com/event/bloomhouse23-painting-harvest-design-workshop-coleman/
LOCATION:BloomHouse\, 447 Business 141 N\, Coleman\, WI\, 54112
CATEGORIES:Menominee
END:VEVENT
BEGIN:VEVENT
DTSTART;TZID=UTC:20241102T100000
DTEND;TZID=UTC:20241102T150000
DTSTAMP:20260420T144431
CREATED:20241001T023044Z
LAST-MODIFIED:20241001T023044Z
UID:10001796-1730541600-1730559600@upbarreview.com
SUMMARY:Blazing Bear Homestead - Goats & Gourds Family Event - Peshtigo
DESCRIPTION:Get your tickets and come out to Blazing Bear Homestead for our Autumn family event Goats & Gourds! Fall into fun with this cozy farm getaway experience. You’ll get to pick your own gourd or mini pumpkin to paint and decorate\, then we’ll set those aside to dry and go visit with our friendly and silly goat herd. You’ll get to pet them\, feed them treats\, take all the pictures you want\, and enjoy their antics!\nTickets are $10 each\, maximum of 8 guests per time slot. There will be no on-site ticket sales\, please get your tickets online ahead of time. Gourds\, mini pumpkins\, and decorating supplies will be provided and you keep your creation. Treats to feed the goats are included as well.\nIf you would like a private session\, you are welcome to buy out all tickets for that time slot\, or contact us to set up a special session time. Please arrive 5 minutes early to sign waivers. A ticketed adult MUST accompany children 12 years of age and under at all times. Children 24 months and under get in free. Human attendees only\, no dogs/pets/outside animals of any kind.\nPlease wear clothes and shoes or boots that you won’t mind getting a little dirty. There is no public restroom on site\, so please plan accordingly.\nNOTE: These tickets are non-refundable. We will hold this event rain or shine.\nSaturdays: October 12th-November 2ndTime slots are 40 minutes each at 10am\, 11am\, 12pm\, 1pm\, and 2pm\nhttps://www.blazingbearhomestead.net/goatevents
URL:https://upbarreview.com/event/blazing-bear-homestead-goats-gourds-family-event-peshtigo/2024-11-02/
LOCATION:Blazing Bear Homestead\, W3070 Hale School Rd\, Peshtigo\, WI\, 54157
CATEGORIES:Menominee
END:VEVENT
BEGIN:VEVENT
DTSTART;TZID=UTC:20241102T100000
DTEND;TZID=UTC:20241102T150000
DTSTAMP:20260420T144431
CREATED:20241029T124012Z
LAST-MODIFIED:20241029T124012Z
UID:10002116-1730541600-1730559600@upbarreview.com
SUMMARY:The Goose & Gander Finery - Holiday Open House- Marinette
DESCRIPTION:Join us as we kick off the Holiday Season at The Finery!\nWe will be stocked up with new styles for your wardrobe\, fabulous finds for your holiday decorating\, fun stocking stuffer ideas and gifts for everyone on your list.\nStay tuned to our event page for more details to come!
URL:https://upbarreview.com/event/the-goose-gander-finery-holiday-open-house-marinette/2024-11-02/
LOCATION:The Goose & Gander Finery\, 1712 Dunlap Ave\, Marinette\, WI\, 54143
CATEGORIES:Menominee
END:VEVENT
BEGIN:VEVENT
DTSTART;TZID=UTC:20241102T110000
DTEND;TZID=UTC:20241102T143000
DTSTAMP:20260420T144431
CREATED:20241029T124934Z
LAST-MODIFIED:20241029T124934Z
UID:10002129-1730545200-1730557800@upbarreview.com
SUMMARY:Spies Library - Genealogy Presentation - Marinette
DESCRIPTION:Presentation on German Research and Why Our Ancestors migrated to the Midwest especially Wisconsin!
URL:https://upbarreview.com/event/spies-library-genealogy-presentation-marinette/
LOCATION:Spies Public Library\, 940 1st St.\, Menominee\, MI\, 49858
CATEGORIES:Menominee
END:VEVENT
BEGIN:VEVENT
DTSTART;TZID=UTC:20241102T110000
DTEND;TZID=UTC:20241102T153000
DTSTAMP:20260420T144431
CREATED:20241029T125614Z
LAST-MODIFIED:20241029T125614Z
UID:10002134-1730545200-1730561400@upbarreview.com
SUMMARY:CJ's Glass - Turkey Stained Glass Workshop - Marinette
DESCRIPTION:Call or msg Cj to preregister!608-354-2303$65+tax includes everythingClass size 6 / Ages 12+\nIntroduce yourself to the process of copper foil stained glass with this cute project! You will prepare pattern\, score and break glass\, grind\, foil\, solder and finish your piece in this 4 to 4 1/2 hr workshop. There will be various glass colors to choose from and no experience necessary!Come learn something new today!
URL:https://upbarreview.com/event/cjs-glass-turkey-stained-glass-workshop-marinette/
LOCATION:CJ’s Glass\, 802 Main St\, Marinette\, WI\, 54143
CATEGORIES:Menominee
END:VEVENT
BEGIN:VEVENT
DTSTART;TZID=UTC:20241102T130000
DTEND;TZID=UTC:20241102T160000
DTSTAMP:20260420T144431
CREATED:20241029T123350Z
LAST-MODIFIED:20241029T123350Z
UID:10002110-1730552400-1730563200@upbarreview.com
SUMMARY:McCrafties - Friday Night Lights - Menominee
DESCRIPTION:Join us for a night painting the “Friday Night Lights”! Create your own personalized acrylic canvas featuring your favorite football team or school colors. This guided experience is perfect for beginners and offers step-by-step instructions. No previous painting experience necessary. Enjoy a fun and relaxing evening at McCraftie’s for just $40 per person.\nFeel free to bring drinks and snacks while you paint. Looking forward to painting with you.\nPRE-PAYMENT of $40 is required to save your spot. Feel free to call the studio or stop in with payment.\n715-440-5959\nCLASS REFUND POLICY\n-full in studio credit if cancellation is 1 week prior to the class-50% in studio credit up to 24 hours prior to class.-less than 24 hours notice\, no credit-NO SHOW/ NO CALL/NO CREDIT
URL:https://upbarreview.com/event/mccrafties-friday-night-lights-menominee/
LOCATION:McCrafties\, 625 1st St\, Menominee\, MI\, 49858\, United States
CATEGORIES:Menominee
END:VEVENT
BEGIN:VEVENT
DTSTART;TZID=UTC:20241102T140000
DTEND;TZID=UTC:20241102T170000
DTSTAMP:20260420T144431
CREATED:20241029T151245Z
LAST-MODIFIED:20241029T151245Z
UID:10002291-1730556000-1730566800@upbarreview.com
SUMMARY:The Wood Shed Pub & Perk - Meat Raffle - Coleman
DESCRIPTION:The Coleman High School trap team will be having a meat raffle at the Woodshed Pub and Perk on Nov. 2nd from 2-5. There will be drink and food specials and the money raised goes to the trap team to help fund their season! We hope to see lots of familiar faces!!
URL:https://upbarreview.com/event/the-wood-shed-pub-perk-meat-raffle-coleman/
LOCATION:The Wood Shed Pub & Perk\, 202 US-141-BR\, Coleman\, WI\, 54112
CATEGORIES:Menominee
END:VEVENT
BEGIN:VEVENT
DTSTART;TZID=UTC:20241102T150000
DTEND;TZID=UTC:20241102T170000
DTSTAMP:20260420T144431
CREATED:20241029T202308Z
LAST-MODIFIED:20241029T202308Z
UID:10002321-1730559600-1730566800@upbarreview.com
SUMMARY:Menominee River Chorus - Fall Show - Marinette
DESCRIPTION:The show features “By Request” a quartet from the Madison area along with chorus favorites and new song surprises. Don’t miss this afternoon performance for door prizes and a must-see partiotic finale. \nAdults $15\, Srs/students $12.
URL:https://upbarreview.com/event/menominee-river-chorus-fall-show-marinette/
LOCATION:Marinette High School Auditorium\, 2135 Pierce Avenue\, Marinette\, WI
CATEGORIES:Menominee
END:VEVENT
BEGIN:VEVENT
DTSTART;TZID=UTC:20241102T150000
DTEND;TZID=UTC:20241102T180000
DTSTAMP:20260420T144431
CREATED:20241029T140621Z
LAST-MODIFIED:20241029T140647Z
UID:10002211-1730559600-1730570400@upbarreview.com
SUMMARY:Whispering Pines Tree Farm - Mini Photo Sessions - Oconto
DESCRIPTION:Yay! Pop Up Tree Farm Mini Photo Sessions!\n20 Minutes\, 20 images all delivered in a downloadable gallery with print release for $200 (plus tax).\nClick TICKETS to book your session or this link: https://shaynamarie.pixieset.com/booking/minisessions2024\n\n*A non refundable 50% retainer is required to book your session. The remaining balance isn’t due until the time of your session.\n* If it rains or snows\, I will do my best to reschedule.
URL:https://upbarreview.com/event/whispering-pines-tree-farm-mini-photo-sessions-oconto/2024-11-02/
LOCATION:Whispering Pines Tree Farm\, 3680 Airport Rd\, Oconto\, WI
CATEGORIES:Menominee
END:VEVENT
BEGIN:VEVENT
DTSTART;TZID=UTC:20241102T170000
DTEND;TZID=UTC:20241102T190000
DTSTAMP:20260420T144431
CREATED:20241016T012208Z
LAST-MODIFIED:20241016T012246Z
UID:10002080-1730566800-1730574000@upbarreview.com
SUMMARY:Store House Community Center - Community Meal - Stephenson
DESCRIPTION:We would love to see you and fellowship with you! As always it’s a free will donation.
URL:https://upbarreview.com/event/store-house-community-center-community-meal-stephenson/2024-11-02/
LOCATION:The Storehouse Community Center\, 299 Solander St\, Stephenson\, MI\, 49887
CATEGORIES:Menominee
END:VEVENT
BEGIN:VEVENT
DTSTART;TZID=UTC:20241102T170000
DTEND;TZID=UTC:20241102T200000
DTSTAMP:20260420T144431
CREATED:20241029T124428Z
LAST-MODIFIED:20241029T124428Z
UID:10002120-1730566800-1730577600@upbarreview.com
SUMMARY:Little River Country Club - M&M Childrens Museum Gala - Marinette
DESCRIPTION:We have wine tasting with Jacks wine and spirits\, appetizers\,dinner music\, entertainment and delicious dinner.
URL:https://upbarreview.com/event/little-river-country-club-mm-childrens-museum-gala-marinette/
LOCATION:Little River Country Club\, N2235 Shore Dr\, Marinette\, WI\, 54143
CATEGORIES:Menominee
END:VEVENT
BEGIN:VEVENT
DTSTART;TZID=UTC:20241102T170000
DTEND;TZID=UTC:20241102T200000
DTSTAMP:20260420T144431
CREATED:20241030T141603Z
LAST-MODIFIED:20241030T141603Z
UID:10002448-1730566800-1730577600@upbarreview.com
SUMMARY:Ogden Club - Safe Sax - Menominee
DESCRIPTION: Stop by and listen to Safe Sax!!!Saturday November 2nd5-8 pm
URL:https://upbarreview.com/event/ogden-club-safe-sax-menominee/
LOCATION:Ogden Club\, 414 10th Ave #1\, Menominee\, MI\, 49858\, United States
CATEGORIES:Menominee
END:VEVENT
BEGIN:VEVENT
DTSTART;TZID=UTC:20241102T170000
DTEND;TZID=UTC:20241102T220000
DTSTAMP:20260420T144431
CREATED:20241029T123703Z
LAST-MODIFIED:20241029T123718Z
UID:10002113-1730566800-1730584800@upbarreview.com
SUMMARY:Rec Center - Blues\, Brews\, & BBQs - Marinette
DESCRIPTION:Join us at the Community REC Center for an unforgettable evening at Blue\, Brews\, & BBQs\, hosted by the City of Marinette. Featuring top blues musicians from Chicago\, including Blues Hall of Fame inductee Joe Moss and the Joe Moss Band\, as well as Toronzo Cannon\, whose latest album “Shut Up and Play” is topping the Electric Blues Chart. Experience the best blues music\, award-winning BBQ\, and craft beer. Secure your tickets now for the event on November 2nd from 5 pm to 10 pm
URL:https://upbarreview.com/event/rec-center-blues-brews-bbqs-marinette/
LOCATION:Marinette Recreation Center\, 2501 Pierce Avenue\, Marinette\, WI\, 54143\, United States
CATEGORIES:Menominee
END:VEVENT
BEGIN:VEVENT
DTSTART;TZID=UTC:20241102T173000
DTEND;TZID=UTC:20241102T200000
DTSTAMP:20260420T144431
CREATED:20241016T011219Z
LAST-MODIFIED:20241016T011219Z
UID:10002078-1730568600-1730577600@upbarreview.com
SUMMARY:Spirit House - Mardi Gras Murder Mystery - Menominee
DESCRIPTION:Looking for a fun\, unique\, night out while supporting our Shelter? Well here it is! Hosted at Spirit House in Menominee. Visit our website to buy tickets (https://dorothyshoh.com/donate/a-mardi-gras-murder-mystery/) or rcall 715-732-3684 for more information. Get your tickets now before they are sold out!
URL:https://upbarreview.com/event/spirit-house-mardi-gras-murder-mystery-menominee/
LOCATION:Spirit House\, 533 10th Ave\, Menominee\, MI 49858\, Menominee\, MI\, 49858\, United States
CATEGORIES:Menominee
END:VEVENT
BEGIN:VEVENT
DTSTART;TZID=UTC:20241102T190000
DTEND;TZID=UTC:20241102T210000
DTSTAMP:20260420T144431
CREATED:20241029T124639Z
LAST-MODIFIED:20241029T124639Z
UID:10002122-1730574000-1730581200@upbarreview.com
SUMMARY:Bayshore Arts Center - RENT - Marinette
DESCRIPTION:RENT\, by Jonathan Larson\nCo-Produced by Coastal Players & Theatre on the Bay\nBased on Giacomo Puccini’s La Boheme\, Rent is a rock opera that tells the story of 8 friends’ need for connection in a world that has thrown them away. Set in the East Village of NYC at the height of the Aids Epidemic\, this group of artists and musicians experience desperation\, loneliness\, loss\, lust\, and love all while coping with survival. Together they discover how to fight for liberation when a win doesn’t seem possible.\nTickets are ON SALE NOW!\nNovember 1\, 2\, 8 & 9 at 7pNovember 3 & 10 at 2p\nBuy Online: https://ticketstar.evenue.net/events/UWGBMC\nBuy Over the Phone: 715-504-3351 (please leave a message if you get no answer. All messages will be returned)\nBuy at the Box Office: Box Office opens 45 minutes before show time (Please note that we are CASHLESS for all ticket sales)\nThis production is Rated R and contains mature themes\, scenes of intimacy\, drug use and coarse language. Parental guidance is advised. RENT is presented through special arrangement with Music Theatre International (MTI). All authorized performance materials are also supplied by MTI.
URL:https://upbarreview.com/event/bayshore-arts-center-rent-marinette/2024-11-02/
LOCATION:Bayshore Arts Center\, 750 W Bay Shore St\, Marinette\, WI\, 54143
CATEGORIES:Menominee
END:VEVENT
BEGIN:VEVENT
DTSTART;TZID=UTC:20241102T190000
DTEND;TZID=UTC:20241102T210000
DTSTAMP:20260420T144431
CREATED:20241029T200935Z
LAST-MODIFIED:20241029T200935Z
UID:10002312-1730574000-1730581200@upbarreview.com
SUMMARY:Manor on Main - UTLs Comedy Night - Wausaukee
DESCRIPTION:UTL’s Comedy Night is coming to Manor on Main in Wausaukee on Saturday\, November 2nd\, 2024!\nTickets only available at Manor on Main!$35 per person includes the comedy and a dinner choice (AVAILABLE IN ADVANCE ONLY).3 Dinner Plate Choices: Broasted Chicken\, Tenderloin Tips\, or Lemon Pepper Baked Cod\n$15 for tickets to the comedy event without the dinner. ($20 the day of)\nCocktails at 5pmDinner at 5:30pm (dinner starting earlier to give extra time for everyone to finish eating before the show starts)Comedy starts at 7pm\nHeadliner – L.A. Comic Rob BrackenridgeFeature – Comedian and Professional Axe Thrower Dean BergGuest Host – Erik Weeks\n\nRob BrackenridgeWorking professionally since 1987 in comedy venues nationwide\, Brackenridge has performed on cruise ships\, casinos\, and theaters\, as well as U.S.O. tours worldwide. The Appleton\, WI native moved to Los Angeles in 1991\, appearing on Comedy Central’s Make Me Laugh\, and Comcast’s Comedy Spotlight and his DryBar special. Rob’s T.V. credits include LA Forensics\, Comcast Comedy Spotlight\, The Bob and Tom Show\, and numerous commercials. Rob’s keen ear for accents has helped him develop “Wisconics”\, a ‘Sconie version of Ebonics.\n\nDean BergLegend has it that Dean started performing comedy at a very young age. It wasn’t uncommon to find him reenacting sets from some of his favorite comedians in the early 1980s at various family gatherings and neighborhood lemonade stands. Upon the onset of an early midlife crisis\, Dean reached out to professional comedy bookers and clubs to understand what is needed to become a stand-up comedian. Dean was given an unexpected guest spot at a local Comedy Club opening for several prominent national comedians. Dean went on to perform in front of 10’s of fans at various local bars\, bowling alleys\, post prom parties\, and truck stops. After impressing at least 1 cocktail waitress in attendance.
URL:https://upbarreview.com/event/manor-on-main-utls-comedy-night-wausaukee/
LOCATION:Manor on Main\, 722 Main St.\, Wausaukee\, WI
CATEGORIES:Menominee
END:VEVENT
BEGIN:VEVENT
DTSTART;TZID=UTC:20241102T190000
DTEND;TZID=UTC:20241102T230000
DTSTAMP:20260420T144431
CREATED:20241029T151353Z
LAST-MODIFIED:20241029T151353Z
UID:10002292-1730574000-1730588400@upbarreview.com
SUMMARY:The Green Lantern - The Stehleman - Coleman
DESCRIPTION:We are coming back to The Green Lantern!! It’s been a hot minute since we played here and we are looking forward to a great time as always! Hope to see you all there! 
URL:https://upbarreview.com/event/the-green-lantern-the-stehleman-coleman/
LOCATION:The Green Lantern\, 124 W Main St\, Coleman\, WI\, 54112
CATEGORIES:Menominee
END:VEVENT
BEGIN:VEVENT
DTSTART;TZID=UTC:20241102T190000
DTEND;TZID=UTC:20241102T230000
DTSTAMP:20260420T144431
CREATED:20241029T202155Z
LAST-MODIFIED:20241029T202155Z
UID:10002320-1730574000-1730588400@upbarreview.com
SUMMARY:Firelane Bar & Grill - Haunted Trail Walk - Athelstane
DESCRIPTION:Come walk through our wooded haunted trail! Tickets can be purchased in the building back behind Firelane bar!Admission is $10 per person.Hot Chocolate\, Coffee\, & Adult Beverages can be purchased from the ticket booth. Snuggle up by the bonfire while you wait your turn to walk the trail!
URL:https://upbarreview.com/event/firelane-bar-grill-haunted-trail-walk-athelstane/
LOCATION:Firelane Bar & Grill\, W10876 County Road C\, Athelstane\, WI
CATEGORIES:Menominee
END:VEVENT
END:VCALENDAR