BEGIN:VCALENDAR
VERSION:2.0
PRODID:-//UP BAR REVIEW - ECPv6.14.2//NONSGML v1.0//EN
CALSCALE:GREGORIAN
METHOD:PUBLISH
X-ORIGINAL-URL:https://upbarreview.com
X-WR-CALDESC:Events for UP BAR REVIEW
REFRESH-INTERVAL;VALUE=DURATION:PT1H
X-Robots-Tag:noindex
X-PUBLISHED-TTL:PT1H
BEGIN:VTIMEZONE
TZID:UTC
BEGIN:STANDARD
TZOFFSETFROM:+0000
TZOFFSETTO:+0000
TZNAME:UTC
DTSTART:20240101T000000
END:STANDARD
END:VTIMEZONE
BEGIN:VEVENT
DTSTART;TZID=UTC:20241027T080000
DTEND;TZID=UTC:20241027T103000
DTSTAMP:20260420T160455
CREATED:20240930T170952Z
LAST-MODIFIED:20240930T170952Z
UID:10001726-1730016000-1730025000@upbarreview.com
SUMMARY:Little River Country Club - LRCC Turkey Shoot - Marinette
DESCRIPTION:Sign up by calling the Pro Shop @ 715-735-7234 or by stopping @LRCC
URL:https://upbarreview.com/event/little-river-country-club-lrcc-turkey-shoot-marinette/
LOCATION:Little River Country Club\, N2235 Shore Dr\, Marinette\, WI\, 54143
CATEGORIES:Menominee
END:VEVENT
BEGIN:VEVENT
DTSTART;TZID=UTC:20241027T120000
DTEND;TZID=UTC:20241027T130000
DTSTAMP:20260420T160455
CREATED:20241001T025933Z
LAST-MODIFIED:20241001T025933Z
UID:10001818-1730030400-1730034000@upbarreview.com
SUMMARY:Biehls Bridge to Recovery - CMA Sundays Im More than 2% Meeting - Marinette
DESCRIPTION:This is an open meeting. You can also join the meeting by using Microsoft TeamsMeeting ID: 215 291 811 664Passcode: QouoBu
URL:https://upbarreview.com/event/biehls-bridge-to-recovery-cma-sundays-im-more-than-2-meeting-marinette/2024-10-27/
LOCATION:MI
CATEGORIES:Menominee
END:VEVENT
BEGIN:VEVENT
DTSTART;TZID=UTC:20241027T140000
DTEND;TZID=UTC:20241027T180000
DTSTAMP:20260420T160455
CREATED:20240719T180709Z
LAST-MODIFIED:20240728T213207Z
UID:10001050-1730037600-1730052000@upbarreview.com
SUMMARY:Loopy's in Loomis - Sunday Funday
DESCRIPTION:Live music\, drink deals\, and specials for sunday funday at loopys!!
URL:https://upbarreview.com/event/loopys-in-loomis-sunday-funday/2024-10-27/
LOCATION:Loopy’s Bar & Grill\, Loomis Rd\, Porterfield\, WI\, 54159
CATEGORIES:Menominee
END:VEVENT
BEGIN:VEVENT
DTSTART;TZID=UTC:20241027T150000
DTEND;TZID=UTC:20241027T163000
DTSTAMP:20260420T160455
CREATED:20241001T014748Z
LAST-MODIFIED:20241001T014748Z
UID:10001767-1730041200-1730046600@upbarreview.com
SUMMARY:The Longbranch - Trunk or Treat - Faithorn
DESCRIPTION:We will be having our annual trunk or treat for all the kiddos!! We will provide hot dogs \, hot chocolate  \, and a few other snacks for everyone! This is no cost to anyone! Come decorate your trunk and hand out candy to all the little ones\, or bring your little ones trick or treating\, or do both!! I will also be giving out a prize to a few people with the best trunks! Come have some family fun with us!! HAPPY HALLOWEEN! 
URL:https://upbarreview.com/event/the-longbranch-trunk-or-treat-faithorn/
LOCATION:The Longbranch\, W8400 CR-388\, Faithorn\, MI\, 49892
CATEGORIES:Menominee
END:VEVENT
END:VCALENDAR