BEGIN:VCALENDAR
VERSION:2.0
PRODID:-//UP BAR REVIEW - ECPv6.14.2//NONSGML v1.0//EN
CALSCALE:GREGORIAN
METHOD:PUBLISH
X-ORIGINAL-URL:https://upbarreview.com
X-WR-CALDESC:Events for UP BAR REVIEW
REFRESH-INTERVAL;VALUE=DURATION:PT1H
X-Robots-Tag:noindex
X-PUBLISHED-TTL:PT1H
BEGIN:VTIMEZONE
TZID:UTC
BEGIN:STANDARD
TZOFFSETFROM:+0000
TZOFFSETTO:+0000
TZNAME:UTC
DTSTART:20240101T000000
END:STANDARD
END:VTIMEZONE
BEGIN:VEVENT
DTSTART;TZID=UTC:20241026T080000
DTEND;TZID=UTC:20241026T140000
DTSTAMP:20260420T160456
CREATED:20240530T185810Z
LAST-MODIFIED:20240530T185858Z
UID:10000313-1729929600-1729951200@upbarreview.com
SUMMARY:Crivitz - Craft & Vendor Show\, Gun & Knife Show
DESCRIPTION:Shop a variety of Crafters & Vendors\nJAN 27\, FEB 24\, MAR 23\, SEPT 14\, OCT 26\, NOV 16\nAlso shop Crivitz American Legion 413/ VFW 2063 Rod\, Gun\, & Knife Shows ($5 Admission)\n8:00am – 2:00pm\nVFW/Am. Legion selling Breakfast & Lunch
URL:https://upbarreview.com/event/crivitz-craft-vendor-show-2/
LOCATION:Peshtigo River Center\, W7842 Airport Rd\, Crivitz\, WI\, 54114\, United States
CATEGORIES:Menominee
END:VEVENT
BEGIN:VEVENT
DTSTART;TZID=UTC:20241026T080000
DTEND;TZID=UTC:20241026T170000
DTSTAMP:20260420T160456
CREATED:20241001T042413Z
LAST-MODIFIED:20241001T042459Z
UID:10001924-1729929600-1729962000@upbarreview.com
SUMMARY:Bergenson Farms - Haunted Hayride/Corn Maze - Peshtigo
DESCRIPTION:We open the first Saturday in October!!! Here’s some things we have planned!!! I will be creating events for the Birdhouse Gourd class and the Pumpkin carving/decorating contest!! (These will be held if there’s enough interest) If you are interested please RSVP on those events so we can have enough supplies!!!Can’t wait to see you at the farm next month!!!
URL:https://upbarreview.com/event/bergenson-farms-haunted-hayride-corn-maze-peshtigo/2024-10-26/
LOCATION:Bergeson Farms\, N3166 Jandt Rd\, Peshtigo\, WI\, 54157
CATEGORIES:Menominee
END:VEVENT
BEGIN:VEVENT
DTSTART;TZID=UTC:20241026T090000
DTEND;TZID=UTC:20241026T120000
DTSTAMP:20260420T160456
CREATED:20240626T150940Z
LAST-MODIFIED:20240728T212955Z
UID:10001313-1729933200-1729944000@upbarreview.com
SUMMARY:Escanaba Farmers Market
DESCRIPTION:The Escanaba Farmers Market runs on Wednesdays from 3 to 6 p.m. and Saturdays from 9 a.m. to noon.
URL:https://upbarreview.com/event/escanaba-farmers-market-2/2024-10-26/
LOCATION:Escanaba Marketplace\, 1501 Ludington St\, Escanaba\, MI\, 49829
CATEGORIES:Menominee
END:VEVENT
BEGIN:VEVENT
DTSTART;TZID=UTC:20241026T090000
DTEND;TZID=UTC:20241026T170000
DTSTAMP:20260420T160456
CREATED:20241001T023943Z
LAST-MODIFIED:20241001T023943Z
UID:10001803-1729933200-1729962000@upbarreview.com
SUMMARY:DNR Pocket Park - Halloween Party - Escanaba
DESCRIPTION:Join us for a thrilling Halloween celebration featuring a costume contest with prizes\, a delightful trick-or-treat trail\, spooky games for all ages\, live music\, and a cozy bonfire with delicious treats like s’mores and hot cider!\nDress up and come to the Pocket Park for a spooky celebration!
URL:https://upbarreview.com/event/dnr-pocket-park-halloween-party-escanaba/
LOCATION:Michigan DNR Pocket Park\, 2401 12th Avenue North\, Escanaba\, MI\, 49829
CATEGORIES:Menominee
END:VEVENT
BEGIN:VEVENT
DTSTART;TZID=UTC:20241026T100000
DTEND;TZID=UTC:20241026T120000
DTSTAMP:20260420T160456
CREATED:20240930T180530Z
LAST-MODIFIED:20240930T180530Z
UID:10001754-1729936800-1729944000@upbarreview.com
SUMMARY:Oconto Falls Trick or Treat Trail
DESCRIPTION:Welcome to the Oconto Falls Trick or Treat Trail! Join us for a spooktacular time in Oconto Falls. Get ready to dress up in your favorite costume (not mandatory) and explore the trail filled with treats and surprises. This in-person event is perfect for families and friends looking for some Halloween fun. Don’t miss out on the excitement at Oconto Falls – see you there!Free Admission!! Prior Registration required. Sign up for 1 of 2 trail time sessions according to your families first letter of last name. Please sign each child up.We understand that some groups might have different last names but still need to stay together. Please proceed with the sign-up using correct children’s names\, ensuring they are all listed within the same group.Enjoy other activites such as face painting\, door prizes\, treats\, giveaways\, free pumpkins\, games\, smore’s station\, photo areas and more! Feel free to come enjoy the activites anytime during the event.This is an outdoor event\, some of which is on a wooded trail\, please come dressed according to the weather and mindful of trail conditions.Due to the popularity of this event\, be prepared to park according to availability and by practicing kindness to other attendees.\n**This event is made possible by the hard work of volunteers and geneorsity of our sponsers\, volunteers and vendors.
URL:https://upbarreview.com/event/oconto-falls-trick-or-treat-trail/
LOCATION:Oconto Falls West Side Trail
CATEGORIES:Menominee
END:VEVENT
BEGIN:VEVENT
DTSTART;TZID=UTC:20241026T100000
DTEND;TZID=UTC:20241026T123000
DTSTAMP:20260420T160456
CREATED:20241001T015033Z
LAST-MODIFIED:20241001T015033Z
UID:10001769-1729936800-1729945800@upbarreview.com
SUMMARY:BloomHouse23 - Hanging Succulent Skulls Painting & Planting - Coleman
DESCRIPTION:Hanging Succulent Skulls ~ Painting & Planting Workshop \nDate: Saturday\, October 26thTime: 10AM to 12PM5 Presale Tickets: $295 General Admission Tickets: $35Class Limit: 10 Registered GuestsLocation: BloomHouse23\nSpooky season is upon us and we have the perfect new vessel for the Halloween\, succulent\, or skull lovers in your life!\nThis unfinished\, 6 inch ceramic skull is the perfect blank canvas. You know what they say\, 2 heads are better than one\, and this is no exception!\nWe will begin by painting our skulls to match your home decor\, to be terrifying in the window or painted in bright colors to celebrate Dia De Los Meurtos!\nOnce the paint is dry we can begin planting our succulents. You will be choosing up to 7 unique succulents from our succulent garden! You can choose from our artificial succulents or living succulents. We will talk through the correct care for your new plants\, and will be sharing tips and tricks on overwintering too.\nOnce planted\, we will wrap up the class by adding one of our 4 colored mosses\, or rock varietals to your succulent skull to create a lush landscape. The very last step is adding your flair. We will have plenty of spooky and Fall’ish flair items to choose from to accent your hanging planter…Spiders\, spiderwebs\, eyeballs\, pumpkins\, wheat…OH MY!\nSo join us if you dare for this fun and festive class for all ages! \nCall us\, come on in\, or register online at: www.BloomHouse23.com/classes\n\n10% OFF CLASS SHOPPING DISCOUNT:For any class goers interested in shopping before or after their class\, we offer a 10% Class Shopping Discount as our way of saying thank you for trusting us with your creative classes! ~10% OFF STOREWIDE ON ANY AND ALL THINGS BloomHouse23. Including\, but not limited to the following items:•Florals•Furniture•Future Classes•Candy•Candles•Clocks•Keychains•Gifts•Home Decor Accents•Artwork•Apparel•Artificial Florals•Purses•Plants•Paintings•Seasonal Decor•Signs•Jewelry•Rugs•Wall Hangings•Bath Bombs•Lotions•Lanterns•Lip Glosses•Tumblers•Totes•Mirrors•Makeup\, & much\, much more…The list is endless!\n*10% OFF Class Shopping Discount is a STOREWIDE MINIMUM DISCOUNT of 10% OFF.\n*10% OFF Class Shopping Discount is an additional 10% OFF any sales we might be running the day of your class -Example: If apparel is 30% OFF for the general public\, you would receive the 30% OFF + your 10% OFF Class Shopping Discount\, for a total of 40% OFF ALL apparel you purchase the day of your class.\n*10% OFF Class Shopping Discount isonly valid the day of your class/event.\n*10% OFF Class Shopping Discount is not valid on the following items:•Gift Cards•Vendor Items•Monthly Floral Subscription Packages•Future Floral Orders for:-Weddings-Funerals-Dances-Etc.\n\nINTERESTED IN A PRIVATE CLASS?:Send us a message! We have hosted dozens of private classes and team building workshops. We can host your Private Class during our standard store hours\, or outside our standard store hours. We can also host your Private Class inside BoomHouse23 or we can travel to you with all the necessary supplies.
URL:https://upbarreview.com/event/bloomhouse23-hanging-succulent-skulls-painting-planting-coleman/
LOCATION:BloomHouse\, 447 Business 141 N\, Coleman\, WI\, 54112
CATEGORIES:Menominee
END:VEVENT
BEGIN:VEVENT
DTSTART;TZID=UTC:20241026T100000
DTEND;TZID=UTC:20241026T150000
DTSTAMP:20260420T160456
CREATED:20241001T023044Z
LAST-MODIFIED:20241001T023044Z
UID:10001795-1729936800-1729954800@upbarreview.com
SUMMARY:Blazing Bear Homestead - Goats & Gourds Family Event - Peshtigo
DESCRIPTION:Get your tickets and come out to Blazing Bear Homestead for our Autumn family event Goats & Gourds! Fall into fun with this cozy farm getaway experience. You’ll get to pick your own gourd or mini pumpkin to paint and decorate\, then we’ll set those aside to dry and go visit with our friendly and silly goat herd. You’ll get to pet them\, feed them treats\, take all the pictures you want\, and enjoy their antics!\nTickets are $10 each\, maximum of 8 guests per time slot. There will be no on-site ticket sales\, please get your tickets online ahead of time. Gourds\, mini pumpkins\, and decorating supplies will be provided and you keep your creation. Treats to feed the goats are included as well.\nIf you would like a private session\, you are welcome to buy out all tickets for that time slot\, or contact us to set up a special session time. Please arrive 5 minutes early to sign waivers. A ticketed adult MUST accompany children 12 years of age and under at all times. Children 24 months and under get in free. Human attendees only\, no dogs/pets/outside animals of any kind.\nPlease wear clothes and shoes or boots that you won’t mind getting a little dirty. There is no public restroom on site\, so please plan accordingly.\nNOTE: These tickets are non-refundable. We will hold this event rain or shine.\nSaturdays: October 12th-November 2ndTime slots are 40 minutes each at 10am\, 11am\, 12pm\, 1pm\, and 2pm\nhttps://www.blazingbearhomestead.net/goatevents
URL:https://upbarreview.com/event/blazing-bear-homestead-goats-gourds-family-event-peshtigo/2024-10-26/
LOCATION:Blazing Bear Homestead\, W3070 Hale School Rd\, Peshtigo\, WI\, 54157
CATEGORIES:Menominee
END:VEVENT
BEGIN:VEVENT
DTSTART;TZID=UTC:20241026T100000
DTEND;TZID=UTC:20241026T170000
DTSTAMP:20260420T160456
CREATED:20240608T025600Z
LAST-MODIFIED:20240608T025600Z
UID:10000541-1729936800-1729962000@upbarreview.com
SUMMARY:Forgotten Fire's Spooktacular Halloween Party
DESCRIPTION:It’s time to get spooky for Halloween! \nWe will have a best dressed costume contest\, drink specials\, door prizes\, and Readings by LJ for Fortunes by the Fire from 1pm-6pm! \n*LJ takes cash only\, and appointments must be placed ahead of time. Walk-ins are not guaranteed.*
URL:https://upbarreview.com/event/forgotten-fires-spooktacular-halloween-party/
LOCATION:Forgotten Fire Winery\, N2393 Schacht Road\, Marinette\, WI\, 54143\, United States
CATEGORIES:Menominee
END:VEVENT
BEGIN:VEVENT
DTSTART;TZID=UTC:20241026T120000
DTEND;TZID=UTC:20241026T160000
DTSTAMP:20260420T160456
CREATED:20240930T173100Z
LAST-MODIFIED:20240930T173115Z
UID:10001739-1729944000-1729958400@upbarreview.com
SUMMARY:2nd Annual Small Business and Community Meet-n-Treat - Memories Studios\, Menominee
DESCRIPTION:Join us with #LWYL Menominee\, MI for our 2nd Annual Small Business and Community Meet-n-Treat.\nA FREE HALLOWEEN THEMED EVENT for the Community to allow Families and their Kiddos to come learn more about our Local Small Business Community. We will be adding a little fun to it by including “Trick-or-Treating”. Costumes are ENCOURAGED as there will be a COSTUME CONTEST amongst both the Businesses and the Attendees. In addition to the HALLOWEEN FUN there will be Door Prizes and other prizes for games.\nDuring this event there will be NO SALES\, this is a Meet-n-Greet ONLY event. Simply enjoy learning more about local businesses and what they bring to our community\, as well as any upcoming events\, promotions or sales they have.\nWe look forward to having the community join us for this event and hope to see you there!\nFor any Local Small Businesses interested in joining us\, please register soon as there are limited spots available. Please contact me for registration link. Registration is open through October 14th\, or until spots are filled.
URL:https://upbarreview.com/event/2nd-annual-small-business-and-community-meet-n-treat-memories-studios-menominee/
LOCATION:Memories Studios\, 2433 13th Ave\, Menominee\, MI\, 49858
CATEGORIES:Menominee
END:VEVENT
BEGIN:VEVENT
DTSTART;TZID=UTC:20241026T130000
DTEND;TZID=UTC:20241026T180000
DTSTAMP:20260420T160456
CREATED:20241001T023607Z
LAST-MODIFIED:20241001T023607Z
UID:10001800-1729947600-1729965600@upbarreview.com
SUMMARY:Forgotten Fire Winery - Fortunes by The Fire - Peshtigo
DESCRIPTION:We’re back for another edition of Fortunes by the Fire! Join LJ for palm and card readings while you enjoy sipping on your favorite wines from Forgotten Fire Winery.Readings will be limited to 15 minutes to ensure availability for anyone interested. Sign up sheet will be available\, LJ is cash only.Special pricing for this event is $20 for a 15 minute reading.We’re looking forward to seeing you!
URL:https://upbarreview.com/event/forgotten-fire-winery-fortunes-by-the-fire-peshtigo/
LOCATION:Forgotten Fire Winery\, N2393 Schacht Road\, Marinette\, WI\, 54143\, United States
CATEGORIES:Menominee
END:VEVENT
BEGIN:VEVENT
DTSTART;TZID=UTC:20241026T160000
DTEND;TZID=UTC:20241026T180000
DTSTAMP:20260420T160456
CREATED:20240930T175344Z
LAST-MODIFIED:20240930T175344Z
UID:10001747-1729958400-1729965600@upbarreview.com
SUMMARY:Trunk or Treat - Amberg
DESCRIPTION:Join Amberg Parks and Recreation for a spook-tacular Trunk or Treat evening! We’ll be serving up FREE hotdogs to the first 350 people and plenty of treats\, so bring your ghosts and goblins for some fun! This free event is open to the public.
URL:https://upbarreview.com/event/trunk-or-treat-amberg/
LOCATION:N15014 Grant St\, Amberg\, WI\, 54102
CATEGORIES:Menominee
END:VEVENT
BEGIN:VEVENT
DTSTART;TZID=UTC:20241026T163000
DTEND;TZID=UTC:20241026T190000
DTSTAMP:20260420T160456
CREATED:20240930T154205Z
LAST-MODIFIED:20240930T154205Z
UID:10001712-1729960200-1729969200@upbarreview.com
SUMMARY:North Shore Church - Blessings & Bounty - Menominee
DESCRIPTION:You are invited to the first annual Blessings & Bounty Harvest Party at North Shore Church!\nCome and enjoy a fun evening full of great food\, games\, and activities from 4:30pm-7:00pm Saturday\, October 26th! The evening will begin with our tradition of the chili cook off! Vote for your favorite chili and the winner will receive a medal and a year’s worth of bragging rights for their accomplishments!\nEnjoy kid friendly indoor and outdoor games and activities\, including a storytime\, pumpkin prayer craft\, relay race\, smores bar\, and more! The night will end with a time of worship around the bonfire as we give thanks to the Lord for the many blessings He richly gives! Invite your family\, friends\, and neighbors for a special time of fellowship and fun!
URL:https://upbarreview.com/event/north-shore-church-blessings-bounty-menominee/
LOCATION:North Shore Church\, 511 47th Ave\, Menominee\, MI\, 49858
CATEGORIES:Menominee
END:VEVENT
BEGIN:VEVENT
DTSTART;TZID=UTC:20241026T170000
DTEND;TZID=UTC:20241026T200000
DTSTAMP:20260420T160456
CREATED:20240930T175938Z
LAST-MODIFIED:20240930T175938Z
UID:10001750-1729962000-1729972800@upbarreview.com
SUMMARY:Camp Daniel - Spooktacular Extravaganza - Athelstane
DESCRIPTION:We’re having a party; you’re in for a scare. It’s a spooktacular bash\, so dress up if you dare! Join us for the 3rd annual Spooktacular Extravaganza with all your camp friends. Visit the not-so-scary Majestic Theater\, join in spooktacular activities like a pumpkin carving contest\, Monster Mash\, scary-oke\, campfires & more. Dress to impress with a festive costume\, a secret panel of judges will pick a winner at the end of the night!\nWhat:Costume contest with trophyFree food & drink – please bring a dish to passMini Golf at Frightful FairwaysMonster MashPumpkin Carving CompetitionCampfiresMovie shorts in the Majestic TheaterBig Al’s Diner Open\nWhen: October 26\, 2024 | 5:00-8:00 PM\nWhere: Camp Daniel: W10541 Army Ln\, Athelstane WI 54014Who: This is a FREE event for everyone. We want to bring together campers\, volunteers\, entire group homes\, community members and their family and friends. We look forward to seeing new faces and old friends! Invite your friends and family!\n*Please bring a dish to pass!*Please provide your own caregiver.\nhttps://campdaniel.org/events/spooky/
URL:https://upbarreview.com/event/camp-daniel-spooktacular-extravaganza-athelstane/
LOCATION:Camp Daniel\, W10541 Army Ln\, Athestane\, WI\, 54104
CATEGORIES:Menominee
END:VEVENT
BEGIN:VEVENT
DTSTART;TZID=UTC:20241026T170000
DTEND;TZID=UTC:20241026T220000
DTSTAMP:20260420T160456
CREATED:20241001T025212Z
LAST-MODIFIED:20241001T025212Z
UID:10001811-1729962000-1729980000@upbarreview.com
SUMMARY:St Thomas Aquinas Academy - STAA Oktoberfest - Marinette
DESCRIPTION:German Buffet\, Polka Music\, Games\, and BIG BOARD Raffle
URL:https://upbarreview.com/event/st-thomas-aquinas-academy-staa-oktoberfest-marinette/
LOCATION:Saint Thomas Aquinas Academy\, 1200 Main St\, Marinette\, WI\, 54143
CATEGORIES:Menominee
END:VEVENT
BEGIN:VEVENT
DTSTART;TZID=UTC:20241026T180000
DTEND;TZID=UTC:20241026T220000
DTSTAMP:20260420T160456
CREATED:20241001T015626Z
LAST-MODIFIED:20241001T015626Z
UID:10001772-1729965600-1729980000@upbarreview.com
SUMMARY:Log Jam Saloon - Zombie Crawl - Oconto
DESCRIPTION:Come raise some money for elementary school kids! Dressed up or not there’ll be prizes to win as you walk from bar to bar! Raffles at the Log Jam too! Sign up ahead of time get a zombie to go cup!Money raised will pay off unpaid lunches\, purchase boots\, hats\, mittens\, undies and pants for kids.
URL:https://upbarreview.com/event/log-jam-saloon-zombie-crawl-oconto/
LOCATION:Log Jam Saloon\, 900 Main St\, Oconto\, WI
CATEGORIES:Menominee
END:VEVENT
BEGIN:VEVENT
DTSTART;TZID=UTC:20241026T190000
DTEND;TZID=UTC:20241026T230000
DTSTAMP:20260420T160456
CREATED:20241001T023158Z
LAST-MODIFIED:20241001T023158Z
UID:10001797-1729969200-1729983600@upbarreview.com
SUMMARY:Peshtigo Gun Club - 50 Bird Halloween Shoot
DESCRIPTION:50-bird Lewis Class. Pays 60/40 to 1st & 2nd place respectively\, ties divide. One class per 10 shooters. $11 Lewis/$5 optional high gun/$14 targets. Costumes encouraged! Raffles will be held throughout the evening.\nEvent hours are 5pm-10:00pm but be advised this is a “dark” shoot\, so shooting will not commence until civil twilight time\, which is around 7pm. Last squad out by 9:45pm. We realize it makes for a long day\, but we hope to see our GB/Fox Valley friends there!\nCome out early to get some food and socialize. Be sure to drag the family with. Range lighting will be on as usual. Win a free drink for every broken “Black-Bird/Bat”. This is a WILDLY popular event so don’t miss it as it’s a real blast!!! Public welcome.
URL:https://upbarreview.com/event/peshtigo-gun-club-50-bird-halloween-shoot/
LOCATION:Peshtigo Gun Club\, W2803 Pheasant Farm Rd\, Peshtigo\, WI\, 54157
CATEGORIES:Menominee
END:VEVENT
BEGIN:VEVENT
DTSTART;TZID=UTC:20241026T203000
DTEND;TZID=UTC:20241026T223000
DTSTAMP:20260420T160456
CREATED:20240626T183118Z
LAST-MODIFIED:20240728T213120Z
UID:10000775-1729974600-1729981800@upbarreview.com
SUMMARY:The Ruins Adventure Mini Golf - Glow Golf - Oconto
DESCRIPTION:Every Saturday Night @ Dusk! Night golf with colorful lights\, music\, laughter! Get outside with friends and family – or date night! We have premium ice cream\, floats\, beer\, wine and selzers. Great places to sit\, relax and converse after your round. Starts at sunset (changes slightly over time. Ask Siri or Alexa when sunset it). Last game must start one hour before closing. Glow Gear to first 100 golfers! $8.75 includes tax! Do something different with a great vibe! See you Saturday! WEATHER PENDING – UPDATES ON FACEBOOK
URL:https://upbarreview.com/event/the-ruins-adventure-mini-golf-glow-golf-oconto/2024-10-26/
LOCATION:The Ruins Adventure Mini Golf\, 150 Howard Ln\, Oconto\, WI\, 54153
CATEGORIES:Menominee
END:VEVENT
BEGIN:VEVENT
DTSTART;TZID=UTC:20241026T210000
DTEND;TZID=UTC:20241026T230000
DTSTAMP:20260420T160456
CREATED:20241001T034542Z
LAST-MODIFIED:20241001T034542Z
UID:10001848-1729976400-1729983600@upbarreview.com
SUMMARY:Uncle Mike's Corner Pub - Groovy 70s Bash - Crivitz
DESCRIPTION:Wear your 70’s best\, enjoy the fall trail ride and end up at UNCLE MIKE’S for a GROOVY night
URL:https://upbarreview.com/event/uncle-mikes-corner-pub-groovy-70s-bash-crivitz/
LOCATION:Uncle Mikes Corner Pub & Grill\, N9686 Co Hwy X\, Crivitz\, WI\, 54114
CATEGORIES:Menominee
END:VEVENT
BEGIN:VEVENT
DTSTART;TZID=UTC:20241026T210000
DTEND;TZID=UTC:20241026T233000
DTSTAMP:20260420T160456
CREATED:20240728T201250Z
LAST-MODIFIED:20240728T201250Z
UID:10001151-1729976400-1729985400@upbarreview.com
SUMMARY:Four Seasons Island Resort - Mane Event Karaoke - Pembine
DESCRIPTION:Join us in Boundary Waters Sports Bar for a night full of laughter\, food\, drinks AND KARAOKE! Brad\, Mane Event Karaoke will be here once again doing his thing! 9pm-1am.
URL:https://upbarreview.com/event/four-seasons-island-resort-mane-event-karaoke-pembine/2024-10-26/
LOCATION:Four Seasons Island Resort\, 16800 Shoreline Dr\, Pembine\, WI\, 54156\, United States
CATEGORIES:Menominee
END:VEVENT
END:VCALENDAR