BEGIN:VCALENDAR
VERSION:2.0
PRODID:-//UP BAR REVIEW - ECPv6.14.2//NONSGML v1.0//EN
CALSCALE:GREGORIAN
METHOD:PUBLISH
X-WR-CALNAME:UP BAR REVIEW
X-ORIGINAL-URL:https://upbarreview.com
X-WR-CALDESC:Events for UP BAR REVIEW
REFRESH-INTERVAL;VALUE=DURATION:PT1H
X-Robots-Tag:noindex
X-PUBLISHED-TTL:PT1H
BEGIN:VTIMEZONE
TZID:UTC
BEGIN:STANDARD
TZOFFSETFROM:+0000
TZOFFSETTO:+0000
TZNAME:UTC
DTSTART:20240101T000000
END:STANDARD
END:VTIMEZONE
BEGIN:VEVENT
DTSTART;TZID=UTC:20241025T150000
DTEND;TZID=UTC:20241025T200000
DTSTAMP:20260420T155912
CREATED:20241001T020558Z
LAST-MODIFIED:20241001T020558Z
UID:10001779-1729868400-1729886400@upbarreview.com
SUMMARY:Upper Hand Brewery - Halloween Candy & Beer Pairing - Escanaba
DESCRIPTION:Ready for a SPOOKtacular night of traditional Halloween candy and your favorite beer? This 21+ event is perfect for all of you ghouls. We will be pairing our beers on draft with some of your favorite candy. Witch candy and beer combo is your favorite? Spend the night with us\, drinking beer and goblin candy!
URL:https://upbarreview.com/event/upper-hand-brewery-halloween-candy-beer-pairing-escanaba/
LOCATION:Upper Hand Brewery\, 3525 Airport Rd\, Escanaba\, WI\, 49829
CATEGORIES:Menominee
END:VEVENT
BEGIN:VEVENT
DTSTART;TZID=UTC:20241025T173000
DTEND;TZID=UTC:20241025T203000
DTSTAMP:20260420T155912
CREATED:20240827T012633Z
LAST-MODIFIED:20240827T012633Z
UID:10001521-1729877400-1729888200@upbarreview.com
SUMMARY:NSRCC BINGO - Pembine
DESCRIPTION:Join us for a fun-filled evening of bingo!Doors open at 5:30pmGames start at 6:00pm\nFood\, drinks\, and daubers will be available for purchase.This event is fun for the whole family! – We look forward to seeing you soon!\nTHIS EVENT HAS FREE WIFI
URL:https://upbarreview.com/event/nsrcc-bingo-pembine/2024-10-25/
LOCATION:NSRCC\, 17112 US-141\, Pembine\, WI\, 54156
CATEGORIES:Menominee
END:VEVENT
BEGIN:VEVENT
DTSTART;TZID=UTC:20241025T180000
DTEND;TZID=UTC:20241025T210000
DTSTAMP:20260420T155912
CREATED:20240728T175435Z
LAST-MODIFIED:20240728T175435Z
UID:10001119-1729879200-1729890000@upbarreview.com
SUMMARY:Four Seasons Island Resort - Safe Sax - Pembine
DESCRIPTION:Safe Sax in the Lounge Bar from 6:00 PM – 9:00 PM!\nMichael Prusinsky is a celebrated vocalist and saxophone player with a career in live music and music education spanning 30+ years. Michael’s soulful energy reaches his audience with a positive and warm vibe. Despite having performed with such seasoned artists over the years as Kostia Efimov\, Lyle Mays\, Seals & Croft\, Charlie Daniels\, Gabriel Sanchez and the Prince Experience\, Project Pink\, just to name a few…Michael remains true to his rural roots and claims that his 25 years teaching music to young people brings him the most joy of his career.
URL:https://upbarreview.com/event/four-seasons-island-resort-safe-sax-pembine/2024-10-25/
LOCATION:Four Seasons Island Resort\, 16800 Shoreline Dr\, Pembine\, WI\, 54156\, United States
CATEGORIES:Menominee
END:VEVENT
BEGIN:VEVENT
DTSTART;TZID=UTC:20241025T203000
DTEND;TZID=UTC:20241025T223000
DTSTAMP:20260420T155912
CREATED:20241001T171521Z
LAST-MODIFIED:20241001T171521Z
UID:10002065-1729888200-1729895400@upbarreview.com
SUMMARY:Island Resort & Casino - Norton Chartier & Co - Harris
DESCRIPTION:live music
URL:https://upbarreview.com/event/island-resort-casino-norton-chartier-co-harris/
LOCATION:Island Resort & Casino\, W 399 US-2\, Harris\, MI\, 49845\, United States
CATEGORIES:Menominee
END:VEVENT
END:VCALENDAR