BEGIN:VCALENDAR
VERSION:2.0
PRODID:-//UP BAR REVIEW - ECPv6.14.2//NONSGML v1.0//EN
CALSCALE:GREGORIAN
METHOD:PUBLISH
X-WR-CALNAME:UP BAR REVIEW
X-ORIGINAL-URL:https://upbarreview.com
X-WR-CALDESC:Events for UP BAR REVIEW
REFRESH-INTERVAL;VALUE=DURATION:PT1H
X-Robots-Tag:noindex
X-PUBLISHED-TTL:PT1H
BEGIN:VTIMEZONE
TZID:UTC
BEGIN:STANDARD
TZOFFSETFROM:+0000
TZOFFSETTO:+0000
TZNAME:UTC
DTSTART:20240101T000000
END:STANDARD
END:VTIMEZONE
BEGIN:VEVENT
DTSTART;TZID=UTC:20241023T130000
DTEND;TZID=UTC:20241023T150000
DTSTAMP:20260420T155127
CREATED:20241001T042703Z
LAST-MODIFIED:20241001T042703Z
UID:10001929-1729688400-1729695600@upbarreview.com
SUMMARY:Heritage Inn - Bingo! - Wausaukee
DESCRIPTION:October bingo
URL:https://upbarreview.com/event/heritage-inn-bingo-wausaukee/2024-10-23/
LOCATION:The Heritage Inn\, W2505 Co Rd JJ\, Wausaukee\, WI\, 54177
CATEGORIES:Menominee
END:VEVENT
BEGIN:VEVENT
DTSTART;TZID=UTC:20241023T150000
DTEND;TZID=UTC:20241023T180000
DTSTAMP:20260420T155127
CREATED:20240626T145913Z
LAST-MODIFIED:20240728T212922Z
UID:10000569-1729695600-1729706400@upbarreview.com
SUMMARY:Escanaba Farmers Market
DESCRIPTION:The Escanaba Farmers Market runs from 3 to 6 p.m. at the Marketplace on Wednesdays. Catch music from 11:30am-1:30pm beforehand. Come check it out!
URL:https://upbarreview.com/event/escanaba-farmers-market/2024-10-23/
LOCATION:Escanaba Marketplace\, 1501 Ludington St\, Escanaba\, MI\, 49829
CATEGORIES:Menominee
END:VEVENT
BEGIN:VEVENT
DTSTART;TZID=UTC:20241023T160000
DTEND;TZID=UTC:20241023T190000
DTSTAMP:20260420T155127
CREATED:20240930T153224Z
LAST-MODIFIED:20240930T153224Z
UID:10001710-1729699200-1729710000@upbarreview.com
SUMMARY:Bond Community Center - Family Night - Oconto
DESCRIPTION:Join Bellin Health Fitness – Bond Community Center at Family Night!\nFREE & OPEN TO THE PUBLIC!\nBuilding Hours: 5:30am-8pmPool Hours: 5:30am-12pm & 4pm-7:30pm\n Open Gym Open Swim Family Zumba at 5pm Craftsand more!
URL:https://upbarreview.com/event/bond-community-center-family-night-oconto/
LOCATION:Bond Community Center\, 1201 Park Ave\, Oconto\, WI\, 54153
CATEGORIES:Menominee
END:VEVENT
BEGIN:VEVENT
DTSTART;TZID=UTC:20241023T173000
DTEND;TZID=UTC:20241023T180000
DTSTAMP:20260420T155127
CREATED:20241001T044029Z
LAST-MODIFIED:20241001T044029Z
UID:10001946-1729704600-1729706400@upbarreview.com
SUMMARY:The Cottages - Yoga - Menominee
DESCRIPTION:OCTOBER YOGA SCHEDULEYOGATINI Mondays…..5:30-6:15pm at The Blue RoomGENTLE Tuesdays….5:30-6:00pm at EMMANUEL LUTHERAN CHURCH MENOMINEE\,MICHIGAN ELCACHAIR Wednesdays…..5:30-5:00pm at The Cottages
URL:https://upbarreview.com/event/the-cottages-yoga-menominee/2024-10-23/
LOCATION:The Cottages\, 2006 Lake Park Dr\, Marinette\, WI
CATEGORIES:Menominee
END:VEVENT
BEGIN:VEVENT
DTSTART;TZID=UTC:20241023T173000
DTEND;TZID=UTC:20241023T213000
DTSTAMP:20260420T155127
CREATED:20241001T042212Z
LAST-MODIFIED:20241001T042212Z
UID:10001922-1729704600-1729719000@upbarreview.com
SUMMARY:NWTC - First Aide Training - Marinette
DESCRIPTION:𝘓𝘦𝘢𝘳𝘯 𝘴𝘬𝘪𝘭𝘭𝘴 𝘵𝘩𝘢𝘵 𝘴𝘢𝘷𝘦 𝘭𝘪𝘷𝘦𝘴 𝘸𝘪𝘵𝘩 𝘊𝘗𝘙 𝘢𝘯𝘥 𝘍𝘪𝘳𝘴𝘵 𝘈𝘪𝘥 𝘊𝘭𝘢𝘴𝘴𝘦𝘴 𝘢𝘵 𝘕𝘞𝘛𝘊! Don’t wait until it’s too late—equip yourself with the knowledge to save a life!#NWTC #cprblscourse #cprsaveslives
URL:https://upbarreview.com/event/nwtc-first-aide-training-marinette/
LOCATION:NWTC\, 1601 University Dr\, Marinette\, WI\, 54143
CATEGORIES:Menominee
END:VEVENT
END:VCALENDAR