BEGIN:VCALENDAR
VERSION:2.0
PRODID:-//UP BAR REVIEW - ECPv6.14.2//NONSGML v1.0//EN
CALSCALE:GREGORIAN
METHOD:PUBLISH
X-WR-CALNAME:UP BAR REVIEW
X-ORIGINAL-URL:https://upbarreview.com
X-WR-CALDESC:Events for UP BAR REVIEW
REFRESH-INTERVAL;VALUE=DURATION:PT1H
X-Robots-Tag:noindex
X-PUBLISHED-TTL:PT1H
BEGIN:VTIMEZONE
TZID:UTC
BEGIN:STANDARD
TZOFFSETFROM:+0000
TZOFFSETTO:+0000
TZNAME:UTC
DTSTART:20240101T000000
END:STANDARD
END:VTIMEZONE
BEGIN:VEVENT
DTSTART;TZID=UTC:20241018T100000
DTEND;TZID=UTC:20241018T140000
DTSTAMP:20260420T155947
CREATED:20240930T155025Z
LAST-MODIFIED:20240930T155025Z
UID:10001716-1729245600-1729260000@upbarreview.com
SUMMARY:Meta 365 - Readings by LJ - Menominee
DESCRIPTION:Join me at Meta 365 Fitness in Menominee MI for card and palm readings. While you’re there\, check out the great deals going on for a new fitness membership!
URL:https://upbarreview.com/event/meta-365-readings-by-lj-menominee/
LOCATION:Meta 365\, 1009 8th Ave\, Menominee\, MI\, 49858
CATEGORIES:Menominee
END:VEVENT
BEGIN:VEVENT
DTSTART;TZID=UTC:20241018T150000
DTEND;TZID=UTC:20241018T173000
DTSTAMP:20260420T155947
CREATED:20240930T173600Z
LAST-MODIFIED:20240930T173600Z
UID:10001740-1729263600-1729272600@upbarreview.com
SUMMARY:County Library - Pumpkin Carving Party - Stephenson
DESCRIPTION:Join us for a FREE pumpkin carving (or painting) party!  We’ll have games\, snacks\, a movie\, a corn pit\, and of course\, the pumpkins. Pumpkins are limited\, please sign up through this link or call the library to reserve yours!  https://givebutter.com/W7M2gS
URL:https://upbarreview.com/event/county-library-pumpkin-carving-party-stephenson/
LOCATION:Menominee County Library\, S319 Railroad St\, Stephenson\, MI\, 49887
CATEGORIES:Menominee
END:VEVENT
BEGIN:VEVENT
DTSTART;TZID=UTC:20241018T160000
DTEND;TZID=UTC:20241018T180000
DTSTAMP:20260420T155947
CREATED:20241001T021153Z
LAST-MODIFIED:20241001T021153Z
UID:10001783-1729267200-1729274400@upbarreview.com
SUMMARY:New Life Church - Bounce House Bash - Escanaba
DESCRIPTION:Get ready to bounce into the fun because we’re launching the PlayZone Season with a Bounce House Bash! Join us for a night jam-packed with inflatable joy\, playful antics\, and concessions that the whole family will love. We can’t wait to see your smiling faces
URL:https://upbarreview.com/event/new-life-church-bounce-house-bash-escanaba/
LOCATION:New Life Church Escanaba\, 2005 8th Ave\, Escanaba\, MI
CATEGORIES:Menominee
END:VEVENT
BEGIN:VEVENT
DTSTART;TZID=UTC:20241018T170000
DTEND;TZID=UTC:20241018T193000
DTSTAMP:20260420T155947
CREATED:20241001T042852Z
LAST-MODIFIED:20241001T042852Z
UID:10001931-1729270800-1729279800@upbarreview.com
SUMMARY:Studio 170 - Ghouls & Goblins Camp - Peshtigo
DESCRIPTION:Celebrate Spooky Season at the Ghouls & Goblins Camp! Open to ALL kids ages 5+\, enrollment in studio class NOT required.Spots are limited\, sign up here: https://forms.gle/La7TYe92BHeb8NJt5
URL:https://upbarreview.com/event/studio-170-ghouls-goblins-camp-peshtigo/
LOCATION:Studio 170\, 170 Pine St\, Peshtigo\, WI
CATEGORIES:Menominee
END:VEVENT
BEGIN:VEVENT
DTSTART;TZID=UTC:20241018T170000
DTEND;TZID=UTC:20241018T200000
DTSTAMP:20260420T155947
CREATED:20241005T132640Z
LAST-MODIFIED:20241016T010834Z
UID:10002073-1729270800-1729281600@upbarreview.com
SUMMARY:Spirit House - Fish Fry! - Menominee
DESCRIPTION:check out the fantastic fish fry from jacks fry shack!! One of the best in town!!!
URL:https://upbarreview.com/event/spirit-house-fish-fry-menominee/
LOCATION:Spirit House\, 533 10th Ave\, Menominee\, MI 49858\, Menominee\, MI\, 49858\, United States
CATEGORIES:Menominee
END:VEVENT
BEGIN:VEVENT
DTSTART;TZID=UTC:20241018T173000
DTEND;TZID=UTC:20241018T190000
DTSTAMP:20260420T155947
CREATED:20241001T024900Z
LAST-MODIFIED:20241001T024900Z
UID:10001809-1729272600-1729278000@upbarreview.com
SUMMARY:Grace Lutheran Church - Food & Faith - Crivitz
DESCRIPTION:Our monthly Food and faith night will be Friday\, Oct. 18.\nPotluck dinner will begin at 5:30 p.m. Please bring a dish to pass.\nWe will have a 15-20 minute Bible study following dinner around 6 p.m. This month\, our activity following Bible study will be pumpkin carving.\nFood and faith is an opportunity for food\, time in God’s Word and spending time together. All ages are welcome to come. There is a sign-up sheet in the entry-way to attend!
URL:https://upbarreview.com/event/grace-lutheran-church-food-faith-crivitz/
LOCATION:Grace Lutheran Church\, 716 Henriette Ave\, Crivitz\, WI\, 54114
CATEGORIES:Menominee
END:VEVENT
BEGIN:VEVENT
DTSTART;TZID=UTC:20241018T173000
DTEND;TZID=UTC:20241018T203000
DTSTAMP:20260420T155947
CREATED:20240827T012633Z
LAST-MODIFIED:20240827T012633Z
UID:10001520-1729272600-1729283400@upbarreview.com
SUMMARY:NSRCC BINGO - Pembine
DESCRIPTION:Join us for a fun-filled evening of bingo!Doors open at 5:30pmGames start at 6:00pm\nFood\, drinks\, and daubers will be available for purchase.This event is fun for the whole family! – We look forward to seeing you soon!\nTHIS EVENT HAS FREE WIFI
URL:https://upbarreview.com/event/nsrcc-bingo-pembine/2024-10-18/
LOCATION:NSRCC\, 17112 US-141\, Pembine\, WI\, 54156
CATEGORIES:Menominee
END:VEVENT
BEGIN:VEVENT
DTSTART;TZID=UTC:20241018T180000
DTEND;TZID=UTC:20241018T210000
DTSTAMP:20260420T155947
CREATED:20240728T174323Z
LAST-MODIFIED:20240728T174323Z
UID:10001109-1729274400-1729285200@upbarreview.com
SUMMARY:Four Seasons Island Resort - Todd Wanger in The Lounge Bar - Pembine
DESCRIPTION:Todd Wangerin in The Lounge from 6:00 PM – 9:00 PM!\nTodd Wangerin is a singer/songwriter from Iron Mountain who performs indie and alternative pop/rock originals and covers. Heavily influenced by contemporary 90’s/00’s artists such as John Mayer\, Pearl Jam\, Matchbox Twenty\, Hootie & The Blowfish\, his performances usually feature bandmate Evan Blagec on percussion and create a great atmosphere for a night of great music and a lot of fun!
URL:https://upbarreview.com/event/four-seasons-island-resort-todd-wanger-in-the-lounge-bar-pembine/2024-10-18/
LOCATION:Four Seasons Island Resort\, 16800 Shoreline Dr\, Pembine\, WI\, 54156\, United States
CATEGORIES:Menominee
END:VEVENT
BEGIN:VEVENT
DTSTART;TZID=UTC:20241018T183000
DTEND;TZID=UTC:20241018T220000
DTSTAMP:20260420T155947
CREATED:20241001T014421Z
LAST-MODIFIED:20241001T014421Z
UID:10001765-1729276200-1729288800@upbarreview.com
SUMMARY:Rapette's Corn Maze - Haunted Maze - Cornell/Gladstone
DESCRIPTION:More details to come! Hope to see you soon!! Please share!
URL:https://upbarreview.com/event/rapettes-corn-maze-haunted-maze-cornell-gladstone/
LOCATION:Rappette’s Corn Maze\, 4641 21st Rd\, Cornell\, MI\, 49818
CATEGORIES:Menominee
END:VEVENT
BEGIN:VEVENT
DTSTART;TZID=UTC:20241018T190000
DTEND;TZID=UTC:20241018T220000
DTSTAMP:20260420T155947
CREATED:20241001T170546Z
LAST-MODIFIED:20241001T170546Z
UID:10002054-1729278000-1729288800@upbarreview.com
SUMMARY:Island Resort & Casino - Night Ranger - Harris
DESCRIPTION:Having sold over 17 million albums worldwide\, performed across more than 4000 stages\, and captivated a radio audience that exceeds one billion\, Night Ranger has both epitomized and transcended the arena rock sound and style well beyond that era. The band continue to grow their ever-evolving fan base and they are proof that powerful songs alongside incredibly talented musicians is the perfect formula for continued success.\nNight Ranger have earned widespread recognition that includes both multi-platinum and gold album status all while leaving their indelible mark on the music industry with a long list of best-selling albums (Dawn Patrol\, Midnight Madness\, 7 Wishes\, Big Life and Man In Motion). Their popularity is fueled by an impressive number of instantly recognizable hit singles and signature album tracks. Over the years\, the band’s music has made notable contributions to and been featured in many different areas of global media and pop culture.\nNight Ranger most recently released a live album titled\, 40 Years and a Night with Contemporary Youth Orchestra and it is available on CD/DVD\, Vinyl\, Blu-ray\, and digitally across all streaming platforms. The historic collaboration with CYO (an 80-piece orchestra consisting of 12 to 18-year-old student musicians from throughout Ohio) marks the first time ever that Night Ranger has performed with a live symphonic orchestra\, providing a unique and soaring backdrop to signature classics such as “Sister Christian\,” “(You Can Still) Rock In America\,” and “Don’t Tell Me You Love Me” among many others.\nNight Ranger is Jack Blades (bass\, vocals)\, Kelly Keagy (drums\, vocals)\, Brad Gillis (lead & rhythm guitars)\, Eric Levy (keyboards) and Keri Kelli (lead & rhythm guitars).GOLD VIP Meet & Greet Photo Experienceincludes:\nOne Premium Reserved TicketAccess to Night Ranger’s Pre-Show Meet & GreetOne Photo Opportunity with Night RangerOne VIP Exclusive Night Ranger Merchandise Gift**One Exclusive VIP Commemorative Laminate & Lanyard****merchandise gift + laminate and lanyard will be provided to purchasers at the eventTerms & Conditions apply\nPackage details subject to change without notice. All VIP packages are NON-TRANSFERABLE; NO NAME CHANGES will be permitted under any circumstances; NO REFUNDS or EXCHANGES; all sales are final. Please note this offer is not valid for tickets purchased via Fan to Fan Resale. By participating in any event with NIGHT RANGER\, you hereby agree that your name\, photographic and/or video image\, and voice may be used in any media\, whether now known or hereafter invented\, throughout the world for any purpose whatsoever. Non-ticket package elements will be subject to the non-transferable restrictions listed above.\nYou will receive an email 2-3 days prior to the performance date with instructions on how to redeem your VIP Experience. Additional communication regarding your purchase may be sent via SMS text message to the phone number you provided during the purchase process. VIP programming may take place up to 3-4 hours before show time.
URL:https://upbarreview.com/event/island-resort-casino-night-ranger-harris-2/2024-10-18/
LOCATION:Island Resort & Casino\, W 399 US-2\, Harris\, MI\, 49845\, United States
CATEGORIES:Menominee
END:VEVENT
BEGIN:VEVENT
DTSTART;TZID=UTC:20241018T200000
DTEND;TZID=UTC:20241018T233000
DTSTAMP:20260420T155947
CREATED:20241001T034402Z
LAST-MODIFIED:20241001T034629Z
UID:10001849-1729281600-1729294200@upbarreview.com
SUMMARY:Equity Hall Bar & Grill - Live Music Wreking Crue - Pound
DESCRIPTION:WREKING CRUE – The Motley Crue Experience is a nationally touring tribute band with stage shows like no other. This act offers 4 different eras of a Motley Crue stage replica show down to the smallest details. Along with the visual experience they bring the high energy rock ‘n roll that Motley Crue brought\, on an up close and personal level. Bandsintown For Up To Date Tour Schedule & Tickets: https://bnds.us/ggii7r Website: www.WrekingCrue.com/ Facebook: www.facebook.com/wrekingcrue Instagram: www.instagram.com/wrekingcrue/ the members of this crue are all long established musicians from the streets of Detroit all the way to the clubs of L.A. We have all played in original\, cover and tributes over the years and now we collectively feel the need to honor our life long commitment\, as fans\, to the immortal Motley Crue!
URL:https://upbarreview.com/event/equity-hall-bar-grill-live-music-wreking-crue-pound/2024-10-18/
LOCATION:Equity Hall\, W7403 WI-64\, Pound\, WI\, 54161\, United States
CATEGORIES:Menominee
END:VEVENT
END:VCALENDAR