BEGIN:VCALENDAR
VERSION:2.0
PRODID:-//UP BAR REVIEW - ECPv6.14.2//NONSGML v1.0//EN
CALSCALE:GREGORIAN
METHOD:PUBLISH
X-ORIGINAL-URL:https://upbarreview.com
X-WR-CALDESC:Events for UP BAR REVIEW
REFRESH-INTERVAL;VALUE=DURATION:PT1H
X-Robots-Tag:noindex
X-PUBLISHED-TTL:PT1H
BEGIN:VTIMEZONE
TZID:UTC
BEGIN:STANDARD
TZOFFSETFROM:+0000
TZOFFSETTO:+0000
TZNAME:UTC
DTSTART:20240101T000000
END:STANDARD
END:VTIMEZONE
BEGIN:VEVENT
DTSTART;VALUE=DATE:20241012
DTEND;VALUE=DATE:20241013
DTSTAMP:20260420T160412
CREATED:20241002T121034Z
LAST-MODIFIED:20241002T121034Z
UID:10002069-1728691200-1728777599@upbarreview.com
SUMMARY:Elks Lodge 1313 - Seth Brown Duo - Marinette
DESCRIPTION:Seth Brown Duo will be at the Elks Lodge on Saturday\, Oct. 12!! Check link for Time!!
URL:https://upbarreview.com/event/elks-lodge-1313-seth-brown-duo-marinette/
LOCATION:Elks Lodge #1313\, 430 Bridge St\, Marinette\, WI\, 54143
CATEGORIES:Menominee
END:VEVENT
BEGIN:VEVENT
DTSTART;TZID=UTC:20241012T080000
DTEND;TZID=UTC:20241012T093000
DTSTAMP:20260420T160412
CREATED:20240930T164416Z
LAST-MODIFIED:20240930T164416Z
UID:10001720-1728720000-1728725400@upbarreview.com
SUMMARY:YMCA - Zumba & Latin Dance Class - Menominee
DESCRIPTION:Join us Saturday! ZUMBA at 8am & LATIN Dance lesson at 9am.  September 28 & October 12.  FREE for Hispanic Heritage month! All levels welcome! No partner needed. No experience necessary.  Please invite friends! Event is open to the public. YMCA membership is not required.\nFox Valley Latin Dancers love sharing their passion for Latin dancing! Bailando bachata\, salsa\, cumbia\, merengue\, etc. Join them for engaging Latin dance classes\, parties\, performances\, live music & events. Enjoy learning\, social dancing\, & connecting with others in a fun setting!
URL:https://upbarreview.com/event/ymca-zumba-latin-dance-class-menominee/
LOCATION:YMCA Menominee/Marinette\, 1600 West Dr\, Menominee\, MI\, 49858\, United States
CATEGORIES:Menominee
END:VEVENT
BEGIN:VEVENT
DTSTART;TZID=UTC:20241012T080000
DTEND;TZID=UTC:20241012T103000
DTSTAMP:20260420T160412
CREATED:20240930T170503Z
LAST-MODIFIED:20240930T170503Z
UID:10001724-1728720000-1728729000@upbarreview.com
SUMMARY:Faith Church Ruby's Pantry - Peshtigo
DESCRIPTION:Ruby’s Pantry is for ANYONE looking to extend their monthly grocery budget. There is no income or residency requirements. For a $25 cash share donation\, you will receive an abundance of groceries. This is a drive-thru distribution
URL:https://upbarreview.com/event/faith-church-rubys-pantry-peshtigo/
LOCATION:Faith Church Peshtigo\, 350 N Stephenson Ave\, Peshtigo\, WI\, 54157
CATEGORIES:Menominee
END:VEVENT
BEGIN:VEVENT
DTSTART;TZID=UTC:20241012T090000
DTEND;TZID=UTC:20241012T120000
DTSTAMP:20260420T160412
CREATED:20240626T150940Z
LAST-MODIFIED:20240728T212955Z
UID:10001311-1728723600-1728734400@upbarreview.com
SUMMARY:Escanaba Farmers Market
DESCRIPTION:The Escanaba Farmers Market runs on Wednesdays from 3 to 6 p.m. and Saturdays from 9 a.m. to noon.
URL:https://upbarreview.com/event/escanaba-farmers-market-2/2024-10-12/
LOCATION:Escanaba Marketplace\, 1501 Ludington St\, Escanaba\, MI\, 49829
CATEGORIES:Menominee
END:VEVENT
BEGIN:VEVENT
DTSTART;TZID=UTC:20241012T090000
DTEND;TZID=UTC:20241012T123000
DTSTAMP:20260420T160412
CREATED:20240930T181242Z
LAST-MODIFIED:20240930T181242Z
UID:10001761-1728723600-1728736200@upbarreview.com
SUMMARY:Washington Square - Fall Craft Fair - Marinette
DESCRIPTION:Looking to find some unique treasures and enjoy a festive fall event? Our fair will be featuring a variety of art vendors showcasing items such as ceramics\, handmade jewelry\, ornaments\, metal and wood art\, crochet characters\, yard art\, snow globes\, tumblers\, specialized t shirts\, homemade candles\, beautiful paintings and way more!\nCome join us at our beautiful Assisted Living Community and enjoy food from Ti Shep’s Layers of Flavor Food Truck\, Kiwanis Kettle Corn\, and live music while you shop!\nCall (715) 732-2550 with any questions about our event\, or if you are interested in being a vendor!
URL:https://upbarreview.com/event/washington-square-fall-craft-fair-marinette/
LOCATION:Washington Square\, 2502 Taylor St\, Marinette\, WI\, 54143
CATEGORIES:Menominee
END:VEVENT
BEGIN:VEVENT
DTSTART;TZID=UTC:20241012T090000
DTEND;TZID=UTC:20241012T140000
DTSTAMP:20260420T160412
CREATED:20240530T191142Z
LAST-MODIFIED:20240530T191142Z
UID:10000442-1728723600-1728741600@upbarreview.com
SUMMARY:Coleman - Front Porch Flea Market
DESCRIPTION:Front Porch Market Flea Market\n2nd Saturday of each Month May-Oct
URL:https://upbarreview.com/event/coleman-front-porch-flea-market/2024-10-12/
LOCATION:Front Porch Market\, W8897 County Road M\, Coleman\, WI\, 54112
CATEGORIES:Menominee
END:VEVENT
BEGIN:VEVENT
DTSTART;TZID=UTC:20241012T093000
DTEND;TZID=UTC:20241012T233000
DTSTAMP:20260420T160412
CREATED:20240930T154413Z
LAST-MODIFIED:20240930T154413Z
UID:10001713-1728725400-1728775800@upbarreview.com
SUMMARY:Emmanual Lutheran Church - Resource Fair - Menominee
DESCRIPTION:Join us for the Resource Fair! Register today by calling the Synod office. Only $25 includes lunch and a copy of All Creation Sings. More information about afternoon workshops TBA. Don’t miss it!
URL:https://upbarreview.com/event/emmanual-lutheran-church-resource-fair-menominee/
LOCATION:Emmanual Lutheran Church\, 2901 13th St\, Menominee\, MI\, 49858
CATEGORIES:Menominee
END:VEVENT
BEGIN:VEVENT
DTSTART;TZID=UTC:20241012T100000
DTEND;TZID=UTC:20241012T120000
DTSTAMP:20260420T160412
CREATED:20241001T024215Z
LAST-MODIFIED:20241001T024215Z
UID:10001805-1728727200-1728734400@upbarreview.com
SUMMARY:Northern Light YMCA - Fall Family Festival - Escanaba
DESCRIPTION:Northern Lights YMCA & UP Health Systems have partnered to offer a FUN & FREE event for families and kids! There will be a selection of community organizations available to visit with games\, activities\, and information.\nDress up is encouraged but not required! There will also be-Kids Games-Bounce House-Swimming-Raffles-& Concessions
URL:https://upbarreview.com/event/northern-light-ymca-fall-family-festival-escanaba/
LOCATION:Northern Lights YMCA Dickinson Center\, 800 Crystal Lake Blvd\, Iron Mountain\, MI\, 49801
CATEGORIES:Menominee
END:VEVENT
BEGIN:VEVENT
DTSTART;TZID=UTC:20241012T100000
DTEND;TZID=UTC:20241012T150000
DTSTAMP:20260420T160412
CREATED:20241001T023044Z
LAST-MODIFIED:20241001T023044Z
UID:10001793-1728727200-1728745200@upbarreview.com
SUMMARY:Blazing Bear Homestead - Goats & Gourds Family Event - Peshtigo
DESCRIPTION:Get your tickets and come out to Blazing Bear Homestead for our Autumn family event Goats & Gourds! Fall into fun with this cozy farm getaway experience. You’ll get to pick your own gourd or mini pumpkin to paint and decorate\, then we’ll set those aside to dry and go visit with our friendly and silly goat herd. You’ll get to pet them\, feed them treats\, take all the pictures you want\, and enjoy their antics!\nTickets are $10 each\, maximum of 8 guests per time slot. There will be no on-site ticket sales\, please get your tickets online ahead of time. Gourds\, mini pumpkins\, and decorating supplies will be provided and you keep your creation. Treats to feed the goats are included as well.\nIf you would like a private session\, you are welcome to buy out all tickets for that time slot\, or contact us to set up a special session time. Please arrive 5 minutes early to sign waivers. A ticketed adult MUST accompany children 12 years of age and under at all times. Children 24 months and under get in free. Human attendees only\, no dogs/pets/outside animals of any kind.\nPlease wear clothes and shoes or boots that you won’t mind getting a little dirty. There is no public restroom on site\, so please plan accordingly.\nNOTE: These tickets are non-refundable. We will hold this event rain or shine.\nSaturdays: October 12th-November 2ndTime slots are 40 minutes each at 10am\, 11am\, 12pm\, 1pm\, and 2pm\nhttps://www.blazingbearhomestead.net/goatevents
URL:https://upbarreview.com/event/blazing-bear-homestead-goats-gourds-family-event-peshtigo/2024-10-12/
LOCATION:Blazing Bear Homestead\, W3070 Hale School Rd\, Peshtigo\, WI\, 54157
CATEGORIES:Menominee
END:VEVENT
BEGIN:VEVENT
DTSTART;TZID=UTC:20241012T100000
DTEND;TZID=UTC:20241012T170000
DTSTAMP:20260420T160412
CREATED:20240930T175537Z
LAST-MODIFIED:20240930T175537Z
UID:10001748-1728727200-1728752400@upbarreview.com
SUMMARY:Amberg Pub - First Annual Octoberfest
DESCRIPTION:Please Join us for Amberg’s First Oktoberfest hosted by Amberg Pub andG &G Dinercrafters/vendors\, Music and a wide variety of foods\nMusic 2-6 From Paper City Trio
URL:https://upbarreview.com/event/amberg-pub-first-annual-octoberfest/
LOCATION:The Amberg Pub\, 15084 Dutton Rd\, Amberg\, WI\, 54102
CATEGORIES:Menominee
END:VEVENT
BEGIN:VEVENT
DTSTART;TZID=UTC:20241012T103000
DTEND;TZID=UTC:20241012T153000
DTSTAMP:20260420T160412
CREATED:20241001T041936Z
LAST-MODIFIED:20241001T041936Z
UID:10001919-1728729000-1728747000@upbarreview.com
SUMMARY:Northshore Golf Club - Turkey Shoot - Menominee
DESCRIPTION:Come out in play in the Turkey Shoot\, our last event of the year! This is a 4-Person scramble..Call 906-863-8421 to sign up or for additional information!
URL:https://upbarreview.com/event/northshore-golf-club-turkey-shoot-menominee/
LOCATION:Northshore Golf Course\, N2315 M-35\, Menominee\, MI\, 49858
CATEGORIES:Menominee
END:VEVENT
BEGIN:VEVENT
DTSTART;TZID=UTC:20241012T110000
DTEND;TZID=UTC:20241012T160000
DTSTAMP:20260420T160412
CREATED:20241001T034109Z
LAST-MODIFIED:20241001T034109Z
UID:10001845-1728730800-1728748800@upbarreview.com
SUMMARY:Near North Trail Riders Brat Fry & Meat Raffle - Amberg
DESCRIPTION:Our Annual Brat Fry & Meat Raffle is on Saturday\, October 12th\, at Dan & Deb’s Northwoods Bar W10707 Benson Lake Road Amberg WI 54102.\nWe will be selling brats\, burgers and Sandy’s Famous Chili! There will be multiple meat raffles between 11:00am to 4:00pm (or until sold out). We will also have bucket and 50/50 raffles throughout the day.\nStop in to support our local businesses\, and the Near North Trail Riders with maintaining the trail systems we all love! Try your hand at winning some meat and other prizes as well.\nNear North Trail Riders are 100% volunteer\, all money raised goes to maintain trails and the equipment used to keep them open throughout the summer and winter.\nThank you for your continued support!
URL:https://upbarreview.com/event/near-north-trail-riders-brat-fry-meat-raffle-amberg/
LOCATION:Dan & Debs Northwoods Bar\, W10707 Benson Lake Rd\, Amberg\, WI\, 54102
CATEGORIES:Menominee
END:VEVENT
BEGIN:VEVENT
DTSTART;TZID=UTC:20241012T113000
DTEND;TZID=UTC:20241012T133000
DTSTAMP:20260420T160412
CREATED:20241001T020052Z
LAST-MODIFIED:20241001T020052Z
UID:10001775-1728732600-1728739800@upbarreview.com
SUMMARY:Wild Eagle Bar & Grill - Partners Pool Tournament
DESCRIPTION:Partners 8 Ball TournamentCSI/BCA Rules\, Race to 4 both sides$65 entry includes green fee’soptional sidepot11:30 am start
URL:https://upbarreview.com/event/wild-eagle-bar-grill-partners-pool-tournament/
LOCATION:Wild Eagle Bar & Grill\, S301 Railroad St.\, Stephenson\, MI\, 49887
CATEGORIES:Menominee
END:VEVENT
BEGIN:VEVENT
DTSTART;TZID=UTC:20241012T130000
DTEND;TZID=UTC:20241012T143000
DTSTAMP:20260420T160412
CREATED:20241001T030543Z
LAST-MODIFIED:20241001T030543Z
UID:10001830-1728738000-1728743400@upbarreview.com
SUMMARY:Green Acres Golf Course - Meat & More Raffle - Pembine
DESCRIPTION:Meat & More Raffle at Green Acres!!!Plan to attend!! Always a ton of fun!! Great spread of meat purchased from Northwoods IGA of Niagara among other items!
URL:https://upbarreview.com/event/green-acres-golf-course-meat-more-raffle-pembine/
LOCATION:Green Acres Golf Course\, W5601 County Road Z\, Pembine\, WI
CATEGORIES:Menominee
END:VEVENT
BEGIN:VEVENT
DTSTART;TZID=UTC:20241012T130000
DTEND;TZID=UTC:20241012T150000
DTSTAMP:20260420T160412
CREATED:20240930T180401Z
LAST-MODIFIED:20240930T180401Z
UID:10001753-1728738000-1728745200@upbarreview.com
SUMMARY:McCrafties - Sugar Skull Glow - Menominee
DESCRIPTION:You do not want to miss out on this fun glow in the dark and UV reactive painting. It is a 3 in 1 painting! This mostly black and white painting will have us using a few new and different techniques than previous paintings.\nThis canvas is a flat 11×14. Don’t worry\, we have the hardware to hang it.\nThe cost of this class is $40 without the hardware and with hardware it will be $41. This does include all the materials and instruction.\nThis class is for all skill levels. We recommend this class for 16 years and up due.\nhttps://forms.gle/ViN1G3TzLs3yv8iZ8\nCLASS REFUND POLICY:\n-full in studio credit if cancellation is 1 week prior to the class-50% in studio credit up to 24 hours prior to class.-less than 24 hours notice\, no credit-NO SHOW/ NO CALL/NO CREDIT
URL:https://upbarreview.com/event/mccrafties-sugar-skull-glow-menominee/
LOCATION:McCrafties\, 625 1st St\, Menominee\, MI\, 49858\, United States
CATEGORIES:Menominee
END:VEVENT
BEGIN:VEVENT
DTSTART;TZID=UTC:20241012T140000
DTEND;TZID=UTC:20241012T173000
DTSTAMP:20260420T160412
CREATED:20241001T044147Z
LAST-MODIFIED:20241001T044147Z
UID:10001948-1728741600-1728754200@upbarreview.com
SUMMARY:Rainbow House - Domestic Abuse Fundraiser
DESCRIPTION:
URL:https://upbarreview.com/event/rainbow-house-domestic-abuse-fundraiser/
LOCATION:MI
CATEGORIES:Menominee
END:VEVENT
BEGIN:VEVENT
DTSTART;TZID=UTC:20241012T150000
DTEND;TZID=UTC:20241012T170000
DTSTAMP:20260420T160412
CREATED:20240930T172156Z
LAST-MODIFIED:20240930T172156Z
UID:10001735-1728745200-1728752400@upbarreview.com
SUMMARY:Spirit House - J.L. Hyde Book Signing - Menominee
DESCRIPTION:She will keep you guessing until the very end! Her books have won numerous awards “best of” awards which is evident by how hard it is to put these things down \nCome meet the author behind these addicting stories for a meet and greet on October 12th
URL:https://upbarreview.com/event/spirit-house-j-l-hyde-book-signing-menominee/
LOCATION:Spirit House\, 533 10th Ave\, Menominee\, MI 49858\, Menominee\, MI\, 49858\, United States
CATEGORIES:Menominee
END:VEVENT
BEGIN:VEVENT
DTSTART;TZID=UTC:20241012T163000
DTEND;TZID=UTC:20241012T183000
DTSTAMP:20260420T160412
CREATED:20240930T180734Z
LAST-MODIFIED:20240930T180734Z
UID:10001756-1728750600-1728757800@upbarreview.com
SUMMARY:Badger Park - Trunk or Treat - Peshtigo
DESCRIPTION:Annual TRUNK OR TREAT event
URL:https://upbarreview.com/event/badger-park-trunk-or-treat-peshtigo/
LOCATION:Badger Park\, 300 E Park Dr\, Peshtigo\, WI\, 54147
CATEGORIES:Menominee
END:VEVENT
BEGIN:VEVENT
DTSTART;TZID=UTC:20241012T173000
DTEND;TZID=UTC:20241012T193000
DTSTAMP:20260420T160412
CREATED:20241001T015504Z
LAST-MODIFIED:20241001T015504Z
UID:10001771-1728754200-1728761400@upbarreview.com
SUMMARY:BloomHouse23 - Bewitching Broomsticks & Brews - Coleman
DESCRIPTION:Bewitching Broomsticks\, Blooms & Brews ~ Dried Floral Broomstick Workshop \nDate: Saturday\, October 12thTime: 5:30PM to 7:30PM5 Presale Tickets: $525 General Admission Tickets: $65Class Limit: 10 Registered GuestsLocation: The Flower Barden at Scofield Mansion\nCome fly with us ~ Join us for a bewitching good time as you craft your very own witches broom adorned with twine\, ribbon\, beautiful charms\, premium dried flowers and high quality artificial florals!\nWith Zak’s floral expertise and The Flower Barden at Scofield Mansion’s magical atmosphere we will conjure up creativity on this perfect fall night!\nThese beautifully bewitching brooms make for perfectly elegant porch decor\, casting spells or to accent your Halloween costume!\nWearing your witch hat is strongly encouraged while you style your ride  You’re also welcome to bring your favorite beverage of choice to enjoy while creating your spell bound broom!We will have ciders and devilishly delicious charcuterie boards in the lounge and library for all registered guests  \n*Flying lessons not included.\nSignup inside BloomHouse23\, give us a call or register online at: www.BloomHouse23.com/classes
URL:https://upbarreview.com/event/bloomhouse23-bewitching-broomsticks-brews-coleman/
LOCATION:The Flower Barden at Scofield Mansion
CATEGORIES:Menominee
END:VEVENT
BEGIN:VEVENT
DTSTART;TZID=UTC:20241012T190000
DTEND;TZID=UTC:20241012T203000
DTSTAMP:20260420T160412
CREATED:20240930T180115Z
LAST-MODIFIED:20240930T180115Z
UID:10001751-1728759600-1728765000@upbarreview.com
SUMMARY:Henes Park - HYC Color Blast Fun Walk - Menominee
DESCRIPTION:The Healthy Youth Coalition\, along with the Tri City Event Series\, is excited to announce it will be holding its 2024 “HYC GLOW Color Blast Fun Run” on Saturday\, October 12th at Henes Park!\nEvent will begin at 7:00 p.m. and pre-registering guarantees your t-shirt\, UV Headlamp\, and discounted price of $30 for adults. Thanks to a grant from the Provident Health Foundation\, just $15 for Children under 17! Pre-registration ends September 27th\, and is STRONGLY encouraged\, as registration fee will increase and t-shirts will not be guaranteed after this date.\nEvent will be held at NIGHT with neon GLOW color powder. Fee includes a finishers medal\, UV light headlamp\, and a black t-shirt to capture the glow of the UV reactive powder at our six color stations. Our “elevator run” style event encourages you to pick your own distance by running or walking one to three loops (each loop is .90 miles). The more loops you complete\, the more color you will wear!\nRocket 88 Music will be there blasting tunes for our participants as they complete their color display at the finish line! Glow merchandise will also be available during packet pick-up and night of event for $3.00 a piece.\nAdvanced packet pick-up will be held on Friday\, October 11th from 4 – 6:00 p.m. at the Menominee County ISD (1201 41st Avenue). Day of registration and packet pick-up will be held in the 3rd pavilion at Henes Park from 6:00- 6:45 p.m.\nDon’t forget to wear your brightest neon accessories in addition to our black t-shirt! Hope to see you there\, it’ll be a blast!
URL:https://upbarreview.com/event/henes-park-hyc-color-blast-fun-walk-menominee/
LOCATION:Henes Park\, 100 Henes Park Dr\,\, Menominee\, MI\, 49858
CATEGORIES:Menominee
END:VEVENT
BEGIN:VEVENT
DTSTART;TZID=UTC:20241012T203000
DTEND;TZID=UTC:20241012T223000
DTSTAMP:20260420T160412
CREATED:20240626T183118Z
LAST-MODIFIED:20240728T213120Z
UID:10000773-1728765000-1728772200@upbarreview.com
SUMMARY:The Ruins Adventure Mini Golf - Glow Golf - Oconto
DESCRIPTION:Every Saturday Night @ Dusk! Night golf with colorful lights\, music\, laughter! Get outside with friends and family – or date night! We have premium ice cream\, floats\, beer\, wine and selzers. Great places to sit\, relax and converse after your round. Starts at sunset (changes slightly over time. Ask Siri or Alexa when sunset it). Last game must start one hour before closing. Glow Gear to first 100 golfers! $8.75 includes tax! Do something different with a great vibe! See you Saturday! WEATHER PENDING – UPDATES ON FACEBOOK
URL:https://upbarreview.com/event/the-ruins-adventure-mini-golf-glow-golf-oconto/2024-10-12/
LOCATION:The Ruins Adventure Mini Golf\, 150 Howard Ln\, Oconto\, WI\, 54153
CATEGORIES:Menominee
END:VEVENT
BEGIN:VEVENT
DTSTART;TZID=UTC:20241012T210000
DTEND;TZID=UTC:20241012T233000
DTSTAMP:20260420T160412
CREATED:20240728T201250Z
LAST-MODIFIED:20240728T201250Z
UID:10001150-1728766800-1728775800@upbarreview.com
SUMMARY:Four Seasons Island Resort - Mane Event Karaoke - Pembine
DESCRIPTION:Join us in Boundary Waters Sports Bar for a night full of laughter\, food\, drinks AND KARAOKE! Brad\, Mane Event Karaoke will be here once again doing his thing! 9pm-1am.
URL:https://upbarreview.com/event/four-seasons-island-resort-mane-event-karaoke-pembine/2024-10-12/
LOCATION:Four Seasons Island Resort\, 16800 Shoreline Dr\, Pembine\, WI\, 54156\, United States
CATEGORIES:Menominee
END:VEVENT
END:VCALENDAR