BEGIN:VCALENDAR
VERSION:2.0
PRODID:-//UP BAR REVIEW - ECPv6.14.2//NONSGML v1.0//EN
CALSCALE:GREGORIAN
METHOD:PUBLISH
X-ORIGINAL-URL:https://upbarreview.com
X-WR-CALDESC:Events for UP BAR REVIEW
REFRESH-INTERVAL;VALUE=DURATION:PT1H
X-Robots-Tag:noindex
X-PUBLISHED-TTL:PT1H
BEGIN:VTIMEZONE
TZID:UTC
BEGIN:STANDARD
TZOFFSETFROM:+0000
TZOFFSETTO:+0000
TZNAME:UTC
DTSTART:20240101T000000
END:STANDARD
END:VTIMEZONE
BEGIN:VEVENT
DTSTART;TZID=UTC:20240930T083000
DTEND;TZID=UTC:20240930T093000
DTSTAMP:20260420T160550
CREATED:20240827T014121Z
LAST-MODIFIED:20240827T014121Z
UID:10001548-1727685000-1727688600@upbarreview.com
SUMMARY:NSRCC - Open Workout & Meet the Instructor - Pembine
DESCRIPTION:Meet our fitness class instructor\, Brenda Rosenstiel. There will be information about all of our fitness classes as well as a place for open workout. Contact Brenda for more details: (920) 327-9981 or brosenstiel@nsrccwi.com
URL:https://upbarreview.com/event/nsrcc-open-workout-meet-the-instructor-pembine/2024-09-30/
LOCATION:NSRCC\, 17112 US-141\, Pembine\, WI\, 54156
CATEGORIES:Menominee
END:VEVENT
BEGIN:VEVENT
DTSTART;TZID=UTC:20240930T180000
DTEND;TZID=UTC:20240930T200000
DTSTAMP:20260420T160550
CREATED:20240930T171617Z
LAST-MODIFIED:20240930T171617Z
UID:10001730-1727719200-1727726400@upbarreview.com
SUMMARY:Stephenson Island - Sunset Salsa - Marinette
DESCRIPTION:Join us for SUNSET SALSA Sept 30th!  Marinette Mondays at Stephenson Island Park.  6pm Dance lesson.  7pm Latin social dance practice bachata\, salsa\, merengue\, cumbia\, cha cha\, etc. with Fox Valley Latin Dancers.  Pay $10 for class (cash preferred). Social dance practice is FREE for Hispanic Heritage month! All levels welcome! No partner needed. No experience necessary.  Please bring your own water/beverage. Carry-ins are allowed!
URL:https://upbarreview.com/event/stephenson-island-sunset-salsa-marinette/
LOCATION:Stephenson Island\, Marinette\, WI\, 54143
CATEGORIES:Menominee
END:VEVENT
END:VCALENDAR