BEGIN:VCALENDAR
VERSION:2.0
PRODID:-//UP BAR REVIEW - ECPv6.14.2//NONSGML v1.0//EN
CALSCALE:GREGORIAN
METHOD:PUBLISH
X-WR-CALNAME:UP BAR REVIEW
X-ORIGINAL-URL:https://upbarreview.com
X-WR-CALDESC:Events for UP BAR REVIEW
REFRESH-INTERVAL;VALUE=DURATION:PT1H
X-Robots-Tag:noindex
X-PUBLISHED-TTL:PT1H
BEGIN:VTIMEZONE
TZID:UTC
BEGIN:STANDARD
TZOFFSETFROM:+0000
TZOFFSETTO:+0000
TZNAME:UTC
DTSTART:20240101T000000
END:STANDARD
END:VTIMEZONE
BEGIN:VEVENT
DTSTART;TZID=UTC:20240929T080000
DTEND;TZID=UTC:20240929T170000
DTSTAMP:20260420T173625
CREATED:20240628T212447Z
LAST-MODIFIED:20240628T212447Z
UID:10001003-1727596800-1727629200@upbarreview.com
SUMMARY:Ironworks - Sunday Funday Live Music - Marinette
DESCRIPTION:Check it out! Live Music this Sunday at IRONWORKS! We have music every Sunday!
URL:https://upbarreview.com/event/ironworks-sunday-funday-live-music-marinette/2024-09-29/
LOCATION:Ironworks\, 1333 Main St.\, Marinette\, WI\, 54143\, United States
CATEGORIES:Menominee
END:VEVENT
BEGIN:VEVENT
DTSTART;TZID=UTC:20240929T080000
DTEND;TZID=UTC:20240929T170000
DTSTAMP:20260420T173625
CREATED:20240728T211616Z
LAST-MODIFIED:20240728T211616Z
UID:10001304-1727596800-1727629200@upbarreview.com
SUMMARY:Shawano Flea Market
DESCRIPTION:54th YEAR!!! Every Sunday April 28 thru October 6\, 2024. Except Labor Day weekend.\nSpecial Holiday Markets:Saturday May 25 & Sunday May 26+ Saturday July 6 and Sunday July 7\nShawano Flea Market car show Sunday October 6\, 2024!\nAntiques\, Collectibles\, Crafts\, Vintage\, Mid Century Modern\, Gardening\, New & Old\, Advertising\, Old Toys\, & More\n7am to 4pm / $2 admission. Kids 12 and under free with adult.Early buyer admission before 7am: $10Tickets available at the event. Free parkingOpen-Air Market. Weather permitting.\nNew vendors welcome! Call for details.\nShawano County Fairgrounds990 E Green Bay St\, Shawano\, WI 54166Information: 715-526-9769Zurko Promotions
URL:https://upbarreview.com/event/shawano-flea-market/2024-09-29/
LOCATION:Shawano County Fairgrounds\, 990 E Green Bay St\, Shawano\, WI\, 54166
CATEGORIES:Menominee
END:VEVENT
BEGIN:VEVENT
DTSTART;TZID=UTC:20240929T093000
DTEND;TZID=UTC:20240929T160000
DTSTAMP:20260420T173625
CREATED:20240827T031004Z
LAST-MODIFIED:20240827T031004Z
UID:10001633-1727602200-1727625600@upbarreview.com
SUMMARY:Wheel Hike Together - Crivitz
DESCRIPTION:Wheel Hike Together is an adaptive hiking event where individuals with limited mobility can use an all-terrain track chair to explore almost 3 miles of trails and scenic overlooks at Thunder Mountain.  In place of wheels\, the motorized chairs operate on a track system and offer a placement option for a companion to control the chair. \nIndividuals who are not able to hike due to temporary or permanent physical limitations\, including shortness of breath\, may reserve chairs in one-hour increments and explore the park’s autumn scenery with friends and family.  There is no cost to reserve a chair\, however reservations must be made in advance.  Regular park entry fees apply. \nParticipants with care needs must be accompanied by a companion.  No residency requirements apply.  Registration opens August 1\, 2024.  Limited quantities of select supportive gear are available\, however participants are encouraged to bring required care equipment\, including transfer equipment.  All transfers must be conducted by companions; event staff will not be available to assist. \nEvent Information:\nSeptember 24-29\, 2024\n9:30am-5:00pm (1 hour time slots available – must pre-register)\nW14000 Thunder Mountain Rd\, Crivitz\, WI\n(715) 732-7473\nRegister Here \nThunder Mountain is located approximately 20 miles northwest of Crivitz\, WI\, and will remain open to other park visitors throughout the duration of Wheel Hike Together. Thunder Mountain is one of the stops on Marinette County’s Fall Colors Tour. \nA Marinette County Park day pass is $5 per vehicle and is available at self-service stations located at park entrances or can be purchased here. Visit www.marinettecounty.gov/parks for information about our other nearby county parks & campgrounds\, lodges\, and annual permits. \nSponsored by: Marinette County Parks\, Explore Marinette County\, Marinette County ADRC and Options for Independent Living
URL:https://upbarreview.com/event/wheel-hike-together-crivitz/2024-09-29/
LOCATION:MI
CATEGORIES:Menominee
END:VEVENT
BEGIN:VEVENT
DTSTART;TZID=UTC:20240929T140000
DTEND;TZID=UTC:20240929T180000
DTSTAMP:20260420T173625
CREATED:20240719T180709Z
LAST-MODIFIED:20240728T213207Z
UID:10001046-1727618400-1727632800@upbarreview.com
SUMMARY:Loopy's in Loomis - Sunday Funday
DESCRIPTION:Live music\, drink deals\, and specials for sunday funday at loopys!!
URL:https://upbarreview.com/event/loopys-in-loomis-sunday-funday/2024-09-29/
LOCATION:Loopy’s Bar & Grill\, Loomis Rd\, Porterfield\, WI\, 54159
CATEGORIES:Menominee
END:VEVENT
BEGIN:VEVENT
DTSTART;TZID=UTC:20240929T170000
DTEND;TZID=UTC:20240929T173000
DTSTAMP:20260420T173625
CREATED:20240827T024524Z
LAST-MODIFIED:20240827T024524Z
UID:10001615-1727629200-1727631000@upbarreview.com
SUMMARY:Sunday Meditation & Sound Healing - Wausaukee
DESCRIPTION:Let’s Welcome Chanda and her amazing sound bowl skills fromDrops of Inner Peace!(yes\, look her business page up!)\n30 Min of Reiki infused meditation and sound healing with individual attention for a session like no other!\n$15/class cash onlyRSVPwww.lavenderspiritwi.comChanda or Jill by direct message
URL:https://upbarreview.com/event/sunday-meditation-sound-healing-wausaukee/
LOCATION:544 Van Buren Ave\, Wausaukee\, WI\, 54177
CATEGORIES:Menominee
END:VEVENT
END:VCALENDAR