BEGIN:VCALENDAR
VERSION:2.0
PRODID:-//UP BAR REVIEW - ECPv6.14.2//NONSGML v1.0//EN
CALSCALE:GREGORIAN
METHOD:PUBLISH
X-WR-CALNAME:UP BAR REVIEW
X-ORIGINAL-URL:https://upbarreview.com
X-WR-CALDESC:Events for UP BAR REVIEW
REFRESH-INTERVAL;VALUE=DURATION:PT1H
X-Robots-Tag:noindex
X-PUBLISHED-TTL:PT1H
BEGIN:VTIMEZONE
TZID:UTC
BEGIN:STANDARD
TZOFFSETFROM:+0000
TZOFFSETTO:+0000
TZNAME:UTC
DTSTART:20240101T000000
END:STANDARD
END:VTIMEZONE
BEGIN:VEVENT
DTSTART;TZID=UTC:20240928T080000
DTEND;TZID=UTC:20240928T100000
DTSTAMP:20260420T175053
CREATED:20240827T023645Z
LAST-MODIFIED:20240827T023645Z
UID:10001611-1727510400-1727517600@upbarreview.com
SUMMARY:Peshtigo Fire Tower 5K
DESCRIPTION:Saturday September 24th 8am-9:45am\nA 5K run/walk or 10K run benefiting the Peshtigo Community during Peshtigo Historical Day.\nThe 10K run follows the Peshtigo River\, then takes you on a secluded\, wooded trail to where the Peshtigo Fire Tower once stood. A beautiful trail will take you back on roads through the City of Peshtigo. (No strollers on the 10k please)\nThe 5K route follows the Peshtigo River\, then takes you through the back streets of Peshtigo’s shaded Badger Park. (Strollers allowed)\nBoth races begin and end by the track inside Peshtigo Bulldog stadium. (341 N Emery Ave Peshtigo WI)\nSign up now at https://runsignup.com/…/Peshtigo/PeshtigoFireTowerWalkRun !\nPlease sign up by Sept 9 to be guaranteed a long sleeved race shirt!\nCoaster Medals for all finishers! Plaques for top runners and walkers in each event!\nCookies\, music and a fun atmosphere before the Historical Day parade!\nAwards handed out at the finish line so people can go on to enjoy Historical day events.\nAll proceeds and donations go back to the Peshtigo Cross Country Team\, Peshtigo Fire Department\, Peshtigo Students Eat Every Day Program and others!\nPlease no dogs on the course.
URL:https://upbarreview.com/event/peshtigo-fire-tower-5k/
LOCATION:Bulldog Stadium\, 341 N Emery Ave\, Peshtigo\, WI\, 54157
CATEGORIES:Menominee
END:VEVENT
BEGIN:VEVENT
DTSTART;TZID=UTC:20240928T090000
DTEND;TZID=UTC:20240928T103000
DTSTAMP:20260420T175053
CREATED:20240827T020422Z
LAST-MODIFIED:20240827T020422Z
UID:10001593-1727514000-1727519400@upbarreview.com
SUMMARY:Escanaba Fall Classic 5K - Escanaba
DESCRIPTION:Hope to see you in Escanaba\, MI on Saturday\, Sept. 28th\, 2024\, for the Escanaba Fall Classic 5K Run/Walk\, presented by The Bar…promises to be a HOOT!\nAll 5K runners/walkers will receive a long-sleeve shirt\, as well a sweet finisher medal…cool age-group awards\, with food\, music and FUN. Join us in Escanaba!Walkers invited\, and encouraged!\n2024 registration is LIVE!\nwww.escanabahalfmarathon.com
URL:https://upbarreview.com/event/escanaba-fall-classic-5k-escanaba/
LOCATION:Ludington Park\, Es
CATEGORIES:Menominee
END:VEVENT
BEGIN:VEVENT
DTSTART;TZID=UTC:20240928T090000
DTEND;TZID=UTC:20240928T120000
DTSTAMP:20260420T175053
CREATED:20240530T023124Z
LAST-MODIFIED:20240826T230940Z
UID:10001448-1727514000-1727524800@upbarreview.com
SUMMARY:Menominee Historic Downtown Farmers' Market
DESCRIPTION:“The Menominee Historic Downtown Farmers’ Market will be held on Saturday mornings from 9am-12pm. \nThe Market will be located at 940 1st Street (Spies Public Library Parking Lot)”
URL:https://upbarreview.com/event/menominee-historic-downtown-farmers-market-4/2024-09-28/
LOCATION:Spies Public Library\, 940 1st St.\, Menominee\, MI\, 49858
CATEGORIES:Menominee
END:VEVENT
BEGIN:VEVENT
DTSTART;TZID=UTC:20240928T090000
DTEND;TZID=UTC:20240928T120000
DTSTAMP:20260420T175053
CREATED:20240626T150940Z
LAST-MODIFIED:20240728T212955Z
UID:10001309-1727514000-1727524800@upbarreview.com
SUMMARY:Escanaba Farmers Market
DESCRIPTION:The Escanaba Farmers Market runs on Wednesdays from 3 to 6 p.m. and Saturdays from 9 a.m. to noon.
URL:https://upbarreview.com/event/escanaba-farmers-market-2/2024-09-28/
LOCATION:Escanaba Marketplace\, 1501 Ludington St\, Escanaba\, MI\, 49829
CATEGORIES:Menominee
END:VEVENT
BEGIN:VEVENT
DTSTART;TZID=UTC:20240928T090000
DTEND;TZID=UTC:20240928T150000
DTSTAMP:20260420T175053
CREATED:20240827T024822Z
LAST-MODIFIED:20240827T024822Z
UID:10001616-1727514000-1727535600@upbarreview.com
SUMMARY:Moose on the Menominee Gun & Knife Show
DESCRIPTION:Moose on the Menominee Gun & Knife Show September 28\, 2024 located at the Marinette Moose Lodge\, N5233 E Nettleton Road\, Marinette\, WI. Gun Raffle Tickets available at Lodge for $10 each for a chance to win: Henry Big Boy .45-70 or Henry Golden Boy .17-HMR. Dealer fee $10.00 per table. Dealer set up 7a. Show open to the public 9a -3p. Entry Fee $5.00 12 yrs & up. Any Questions\, contact: Ed Schlaud 906-753-2870.
URL:https://upbarreview.com/event/moose-on-the-menominee-gun-knife-show/
LOCATION:Marinette Moose Lodge\, N5233 E. Nettleton Road\, Marinette\, WI\, 54143
CATEGORIES:Menominee
END:VEVENT
BEGIN:VEVENT
DTSTART;TZID=UTC:20240928T093000
DTEND;TZID=UTC:20240928T160000
DTSTAMP:20260420T175053
CREATED:20240827T031004Z
LAST-MODIFIED:20240827T031004Z
UID:10001632-1727515800-1727539200@upbarreview.com
SUMMARY:Wheel Hike Together - Crivitz
DESCRIPTION:Wheel Hike Together is an adaptive hiking event where individuals with limited mobility can use an all-terrain track chair to explore almost 3 miles of trails and scenic overlooks at Thunder Mountain.  In place of wheels\, the motorized chairs operate on a track system and offer a placement option for a companion to control the chair. \nIndividuals who are not able to hike due to temporary or permanent physical limitations\, including shortness of breath\, may reserve chairs in one-hour increments and explore the park’s autumn scenery with friends and family.  There is no cost to reserve a chair\, however reservations must be made in advance.  Regular park entry fees apply. \nParticipants with care needs must be accompanied by a companion.  No residency requirements apply.  Registration opens August 1\, 2024.  Limited quantities of select supportive gear are available\, however participants are encouraged to bring required care equipment\, including transfer equipment.  All transfers must be conducted by companions; event staff will not be available to assist. \nEvent Information:\nSeptember 24-29\, 2024\n9:30am-5:00pm (1 hour time slots available – must pre-register)\nW14000 Thunder Mountain Rd\, Crivitz\, WI\n(715) 732-7473\nRegister Here \nThunder Mountain is located approximately 20 miles northwest of Crivitz\, WI\, and will remain open to other park visitors throughout the duration of Wheel Hike Together. Thunder Mountain is one of the stops on Marinette County’s Fall Colors Tour. \nA Marinette County Park day pass is $5 per vehicle and is available at self-service stations located at park entrances or can be purchased here. Visit www.marinettecounty.gov/parks for information about our other nearby county parks & campgrounds\, lodges\, and annual permits. \nSponsored by: Marinette County Parks\, Explore Marinette County\, Marinette County ADRC and Options for Independent Living
URL:https://upbarreview.com/event/wheel-hike-together-crivitz/2024-09-28/
LOCATION:MI
CATEGORIES:Menominee
END:VEVENT
BEGIN:VEVENT
DTSTART;TZID=UTC:20240928T100000
DTEND;TZID=UTC:20240928T120000
DTSTAMP:20260420T175053
CREATED:20240826T235644Z
LAST-MODIFIED:20240826T235644Z
UID:10001469-1727517600-1727524800@upbarreview.com
SUMMARY:Northshore Golf Club - CASAs 6th Annual Childrens Golf Outing - Menominee
DESCRIPTION:CASA (Court Appointed Special Advocate) volunteers in Menominee & Marinette Counties work to ensure child victims of abuse and/or neglect are properly cared for while in the foster care system and can grow into healthy and productive adults.There are a great many children in need of our help. While not all may feel they can serve as a volunteer advocate\, everyone can help in other ways.This year CASA of Menominee/Marinette is hosting a golf outing to raise much needed funding to sustain the program. I am asking for your support for this fundraising event to be held at the North Shore Golf Club on Saturday\, September 28 at 10am.Please consider donating to the event in one or more of the following ways:• Sponsor a 4-person team or sign up as an individual golfer – $70. Each. $280 per 4-person team.Includes green fees\, golf cart\, early dinner\, flight and hole game prizes and basket raffle event.• Sponsor a Hole for $100 (includes hole signs and recognition throughout the event).• Donate merchandise or services (example: advertising or printing) appropriate to use as a prize for golf events or as a silent auction item.This is how to make your donation to the 2024 CASA FORE! The Children Golf Outing:1. Contact me by September 21 to register a team or let me know what you would like to donate so we can use the information to plan the event.2. Have the donation ready by September 21 and I’ll arrange to pick it up or you can mail it to: CASA of Menominee/Marinette\, 915 14th Ave.\, Menominee\, MI 49858.3. Donate or register your team online at casamenominee.com/golfoutingI know you get a lot of requests to donate to many fine organizations. I hope this organization’s objective resonates with you as we all strive to improve our world\, one child and one generation at a time. Thank you for kindly considering a donation to this event.
URL:https://upbarreview.com/event/northshore-golf-club-casas-6th-annual-childrens-golf-outing-menominee/
LOCATION:Northshore Golf Course\, N2315 M-35\, Menominee\, MI\, 49858
CATEGORIES:Menominee
END:VEVENT
BEGIN:VEVENT
DTSTART;TZID=UTC:20240928T100000
DTEND;TZID=UTC:20240928T150000
DTSTAMP:20260420T175053
CREATED:20240827T024933Z
LAST-MODIFIED:20240827T024933Z
UID:10001617-1727517600-1727535600@upbarreview.com
SUMMARY:Harvest Fest - Oconto
DESCRIPTION:The Oconto Area Chamber of Commerce is excited to announce the return of Harvest Fest\, the city’s beloved autumn celebration. On Saturday\, September 28\, from 10 a.m. to 3 p.m.\, Oconto’s downtown will come to life with a variety of activities and offerings for all ages.\nMain Street will be closed to vehicles but open to vendors and foot traffic\, creating a lively and bustling atmosphere. Sponsored by the Oconto Area Chamber of Commerce\, Harvest Fest will feature a wide array of arts and crafts\, seasonal produce\, and other merchandise. Local shops will also be participating in sidewalk sales and Harvest Fest specials.\nBut that’s not all – Harvest Fest has something for everyone. Kids can enjoy fun activities\, while adults can browse the vendors and enjoy delicious food and refreshments. Live music will also be playing throughout the day\, adding to the festive atmosphere.\nSo grab your flannel and bring the whole family to downtown Oconto on September 28 for Harvest Fest. From pumpkins for carving to hearty vegetables for cooking\, there will be plenty to see\, do\, and taste. The event will take place on Main Street from Huron Avenue to Millidge Avenue\, right in the heart of Oconto.\nBest of all\, there is no admission fee for this event. Everyone is welcome to join in the fun and celebrate the autumn season at Harvest Fest. Don’t miss out on this exciting community event!
URL:https://upbarreview.com/event/harvest-fest-oconto/
LOCATION:Oconto Main Street\, 301 Superior Ave\, Oconto\, WI\, 54153
CATEGORIES:Menominee
END:VEVENT
BEGIN:VEVENT
DTSTART;TZID=UTC:20240928T100000
DTEND;TZID=UTC:20240928T170000
DTSTAMP:20260420T175053
CREATED:20240608T025454Z
LAST-MODIFIED:20240608T025454Z
UID:10000540-1727517600-1727542800@upbarreview.com
SUMMARY:Forgotten Fire's 13th Anniversary Celebration
DESCRIPTION:We’re celebrating 13 years of business!\nLive music with The Cougars on the outdoor stage from Noon-4!\nFood vendors: Tasty Traveler and Ti Shep’s Layers of Flavor \nEvent goes on rain or shine!! \n** This is our busiest day of the year\, so be advised that we will have limited parking available. Carpooling is highly encouraged\, and we will have someone on staff to assist with parking. Personal lawn chairs are recommended\, and cooler checks may be in place. Reminder\, any alcoholic carry-ins are not permitted per state law. As always\, we are dog friendly as long as they are on a leash and well behaved. Crowd size may be larger than normal concert Saturdays. **
URL:https://upbarreview.com/event/forgotten-fires-13th-anniversary-celebration/
LOCATION:Forgotten Fire Winery\, N2393 Schacht Road\, Marinette\, WI\, 54143\, United States
CATEGORIES:Menominee
END:VEVENT
BEGIN:VEVENT
DTSTART;TZID=UTC:20240928T110000
DTEND;TZID=UTC:20240928T133000
DTSTAMP:20260420T175053
CREATED:20240827T011156Z
LAST-MODIFIED:20240827T011156Z
UID:10001504-1727521200-1727530200@upbarreview.com
SUMMARY:Loopys in Loomis - The Stehlman - Porterfield
DESCRIPTION:We will be playing on the Loopy deck for a little while before Acoustic Co starts playing. Todd and Riley memorial. 
URL:https://upbarreview.com/event/loopys-in-loomis-the-stehlman-porterfield/
LOCATION:Loopy’s Bar & Grill\, Loomis Rd\, Porterfield\, WI\, 54159
CATEGORIES:Menominee
END:VEVENT
BEGIN:VEVENT
DTSTART;TZID=UTC:20240928T110000
DTEND;TZID=UTC:20240928T160000
DTSTAMP:20260420T175053
CREATED:20240827T031143Z
LAST-MODIFIED:20240827T031143Z
UID:10001634-1727521200-1727539200@upbarreview.com
SUMMARY:Harvest Fest - Crivitz
DESCRIPTION:Join us Downtown Crivitz at Crivitz Community Veterans Park for:\nMakers Market – artisans\, crafters\, bakers\, growers\, canners\nLive music by:\nBrad & Lona Ryczek 11-1\nLittle Cisco 1-4\nFood Trucks & Beverages\, Beer & Seltzer by the Wolverines Sports Boosters!\nBring your lawn chair and enjoy the day!\nCrivitz Harvest Fest Craft Show at the High School is happening on the same day!! 9am-2pm\nIf you are interested in more information on a space at the Maker’s Market\, email Amanda at: styleandhart@gmail.com
URL:https://upbarreview.com/event/harvest-fest-crivitz/
LOCATION:Crivitz Community Veterans Park\, 515 Park Place\, Crivitz\, WI\, 54114
CATEGORIES:Menominee
END:VEVENT
BEGIN:VEVENT
DTSTART;TZID=UTC:20240928T130000
DTEND;TZID=UTC:20240928T160000
DTSTAMP:20260420T175053
CREATED:20240827T031301Z
LAST-MODIFIED:20240827T031301Z
UID:10001635-1727528400-1727539200@upbarreview.com
SUMMARY:Paddle & Pour - Cedars Edge Wine & Gifts - Niagara
DESCRIPTION:Join Cedars Edge Wine & Gifts and True North Outpost as we Paddle and Pour!\nWe will have an amazing afternoon paddling the Menomonee River from Sturgeon Dam to Saylers takeout. Cost is $55 per person. All equipment and transportation is included. Please arrive at Cedars Edge by 1pm to complete registration.
URL:https://upbarreview.com/event/paddle-pour-cedars-edge-wine-gifts-niagara/
LOCATION:Cedars Edge Wine & Gifts\, W6014 Chapman Rd\, Niagara\, WI\, 54151
CATEGORIES:Menominee
END:VEVENT
BEGIN:VEVENT
DTSTART;TZID=UTC:20240928T150000
DTEND;TZID=UTC:20240928T180000
DTSTAMP:20260420T175053
CREATED:20240827T022615Z
LAST-MODIFIED:20240827T022615Z
UID:10001604-1727535600-1727546400@upbarreview.com
SUMMARY:Badger Park - The Michigan Shivers & More - Peshtigo
DESCRIPTION:Peshtigo Historical Days presents The Michigan Shivers!\nStop out for numerous food vendors and events fun for all ages\, all day long!\nThe day’s music lineup;\nMusic Jar plays from 12pm-2:30pmThe Michigan Shivers from 3pm-6pmFire on High from 6:30pm-10pm
URL:https://upbarreview.com/event/badger-park-the-michigan-shivers-more-peshtigo/
LOCATION:Badger Park\, 300 E Park Dr\, Peshtigo\, WI\, 54147
CATEGORIES:Menominee
END:VEVENT
BEGIN:VEVENT
DTSTART;TZID=UTC:20240928T183000
DTEND;TZID=UTC:20240928T220000
DTSTAMP:20260420T175053
CREATED:20240827T023217Z
LAST-MODIFIED:20240827T023217Z
UID:10001608-1727548200-1727560800@upbarreview.com
SUMMARY:Badger Park - Fire on High - Peshtigo
DESCRIPTION:Peshtigo Historical Days: A celebration of the Great Peshtigo Fire of October 8th\, 1871.\nArts and CraftsFood VendorsRe-Enactments\nThe day’s music lineup:Music Jar plays from 12pm-2:30pmThe Michigan Shivers from 3pm-6pmFire on High from 6:30pm-10pm
URL:https://upbarreview.com/event/badger-park-fire-on-high-peshtigo/
LOCATION:Badger Park\, 300 E Park Dr\, Peshtigo\, WI\, 54147
CATEGORIES:Menominee
END:VEVENT
BEGIN:VEVENT
DTSTART;TZID=UTC:20240928T190000
DTEND;TZID=UTC:20240928T213000
DTSTAMP:20260420T175053
CREATED:20240530T185538Z
LAST-MODIFIED:20240530T185538Z
UID:10000311-1727550000-1727559000@upbarreview.com
SUMMARY:Marinette Moose Lodge Haunted House
DESCRIPTION:The Marinette Moose Lodge #2327 will be holding their 20th annual Haunted House and Haunted Trail. A Four Night event conducted the last weekend (Friday/Saturday) of September (27 & 28) and the first weekend (Friday/Saturday) of October (4 & 5) with the first victims allowed to enter at 7:00 PM and the last going through at 9:15 PM. Victims that survive the Haunted House and Haunted Trail normally take about 90 minutes to complete both the Haunted House and Haunted trail. There is a No Scare “Behind the Scenes” tour on the two Saturdays 9/28 & 10/5) from 5:30 PM to 6:30 PM. The Behind the Scenes Tour is guided\, and only $5.00 for families. During the No Scare\, Behind the Scenes Tour no actors will be scaring during this time\, which allows for scene maintenance. You will still get to see the Haunted House scenes without all the sounds and scaring! Proceeds of the 2024 event will be going to the Marinette/Menominee YMCA and the Machickanee Players. The Haunted House is a guided walk through with up to 32 different themed rooms. This is followed by an unguided Haunted Trail that is over 1500 feet with over 30 haunted scenes. The cost is $15.00\, which includes an R.I.P. pass. This pass allows for $5.00 off all future Moose Lodge Haunted House admissions.
URL:https://upbarreview.com/event/marinette-moose-lodge-haunted-house/2024-09-28/
LOCATION:Marinette Moose Lodge\, N5233 E. Nettleton Road\, Marinette\, WI\, 54143
CATEGORIES:Menominee
END:VEVENT
BEGIN:VEVENT
DTSTART;TZID=UTC:20240928T190000
DTEND;TZID=UTC:20240928T230000
DTSTAMP:20260420T175053
CREATED:20240826T232643Z
LAST-MODIFIED:20240826T232643Z
UID:10001456-1727550000-1727564400@upbarreview.com
SUMMARY:The Lodge (Ironworks) - The Bad Mother Truckers!! - Marinette
DESCRIPTION:The Bad Mother Truckers are making their first appearance at The Lodge on Main (formerly IRONWORKS) in Marinette! Come wearing your Bad Mother Truckers merch and get a special surprise from the band! 
URL:https://upbarreview.com/event/the-lodge-ironworks-the-bad-mother-truckers-marinette/
LOCATION:Ironworks\, 1333 Main St.\, Marinette\, WI\, 54143\, United States
CATEGORIES:Menominee
END:VEVENT
BEGIN:VEVENT
DTSTART;TZID=UTC:20240928T190000
DTEND;TZID=UTC:20240928T230000
DTSTAMP:20260420T175053
CREATED:20240827T000536Z
LAST-MODIFIED:20240827T000536Z
UID:10001474-1727550000-1727564400@upbarreview.com
SUMMARY:The Outback - Station 45 - Peshtigo
DESCRIPTION:Hello Station 45 fans. We will be bringing our music to the outdoor stage at the Outback on 9/28. Look forward to rocking with you all!
URL:https://upbarreview.com/event/the-outback-station-45-peshtigo/
LOCATION:The Outback\, 1997 Old Peshtigo Rd\, Marinette\, WI\, 54143\, United States
CATEGORIES:Menominee
END:VEVENT
BEGIN:VEVENT
DTSTART;TZID=UTC:20240928T203000
DTEND;TZID=UTC:20240928T223000
DTSTAMP:20260420T175053
CREATED:20240626T183118Z
LAST-MODIFIED:20240728T213120Z
UID:10000771-1727555400-1727562600@upbarreview.com
SUMMARY:The Ruins Adventure Mini Golf - Glow Golf - Oconto
DESCRIPTION:Every Saturday Night @ Dusk! Night golf with colorful lights\, music\, laughter! Get outside with friends and family – or date night! We have premium ice cream\, floats\, beer\, wine and selzers. Great places to sit\, relax and converse after your round. Starts at sunset (changes slightly over time. Ask Siri or Alexa when sunset it). Last game must start one hour before closing. Glow Gear to first 100 golfers! $8.75 includes tax! Do something different with a great vibe! See you Saturday! WEATHER PENDING – UPDATES ON FACEBOOK
URL:https://upbarreview.com/event/the-ruins-adventure-mini-golf-glow-golf-oconto/2024-09-28/
LOCATION:The Ruins Adventure Mini Golf\, 150 Howard Ln\, Oconto\, WI\, 54153
CATEGORIES:Menominee
END:VEVENT
BEGIN:VEVENT
DTSTART;TZID=UTC:20240928T210000
DTEND;TZID=UTC:20240928T233000
DTSTAMP:20260420T175053
CREATED:20240728T201250Z
LAST-MODIFIED:20240728T201250Z
UID:10001149-1727557200-1727566200@upbarreview.com
SUMMARY:Four Seasons Island Resort - Mane Event Karaoke - Pembine
DESCRIPTION:Join us in Boundary Waters Sports Bar for a night full of laughter\, food\, drinks AND KARAOKE! Brad\, Mane Event Karaoke will be here once again doing his thing! 9pm-1am.
URL:https://upbarreview.com/event/four-seasons-island-resort-mane-event-karaoke-pembine/2024-09-28/
LOCATION:Four Seasons Island Resort\, 16800 Shoreline Dr\, Pembine\, WI\, 54156\, United States
CATEGORIES:Menominee
END:VEVENT
END:VCALENDAR