BEGIN:VCALENDAR
VERSION:2.0
PRODID:-//UP BAR REVIEW - ECPv6.14.2//NONSGML v1.0//EN
CALSCALE:GREGORIAN
METHOD:PUBLISH
X-ORIGINAL-URL:https://upbarreview.com
X-WR-CALDESC:Events for UP BAR REVIEW
REFRESH-INTERVAL;VALUE=DURATION:PT1H
X-Robots-Tag:noindex
X-PUBLISHED-TTL:PT1H
BEGIN:VTIMEZONE
TZID:UTC
BEGIN:STANDARD
TZOFFSETFROM:+0000
TZOFFSETTO:+0000
TZNAME:UTC
DTSTART:20240101T000000
END:STANDARD
END:VTIMEZONE
BEGIN:VEVENT
DTSTART;TZID=UTC:20240927T093000
DTEND;TZID=UTC:20240927T160000
DTSTAMP:20260420T175712
CREATED:20240827T031004Z
LAST-MODIFIED:20240827T031004Z
UID:10001631-1727429400-1727452800@upbarreview.com
SUMMARY:Wheel Hike Together - Crivitz
DESCRIPTION:Wheel Hike Together is an adaptive hiking event where individuals with limited mobility can use an all-terrain track chair to explore almost 3 miles of trails and scenic overlooks at Thunder Mountain.  In place of wheels\, the motorized chairs operate on a track system and offer a placement option for a companion to control the chair. \nIndividuals who are not able to hike due to temporary or permanent physical limitations\, including shortness of breath\, may reserve chairs in one-hour increments and explore the park’s autumn scenery with friends and family.  There is no cost to reserve a chair\, however reservations must be made in advance.  Regular park entry fees apply. \nParticipants with care needs must be accompanied by a companion.  No residency requirements apply.  Registration opens August 1\, 2024.  Limited quantities of select supportive gear are available\, however participants are encouraged to bring required care equipment\, including transfer equipment.  All transfers must be conducted by companions; event staff will not be available to assist. \nEvent Information:\nSeptember 24-29\, 2024\n9:30am-5:00pm (1 hour time slots available – must pre-register)\nW14000 Thunder Mountain Rd\, Crivitz\, WI\n(715) 732-7473\nRegister Here \nThunder Mountain is located approximately 20 miles northwest of Crivitz\, WI\, and will remain open to other park visitors throughout the duration of Wheel Hike Together. Thunder Mountain is one of the stops on Marinette County’s Fall Colors Tour. \nA Marinette County Park day pass is $5 per vehicle and is available at self-service stations located at park entrances or can be purchased here. Visit www.marinettecounty.gov/parks for information about our other nearby county parks & campgrounds\, lodges\, and annual permits. \nSponsored by: Marinette County Parks\, Explore Marinette County\, Marinette County ADRC and Options for Independent Living
URL:https://upbarreview.com/event/wheel-hike-together-crivitz/2024-09-27/
LOCATION:MI
CATEGORIES:Menominee
END:VEVENT
BEGIN:VEVENT
DTSTART;TZID=UTC:20240927T100000
DTEND;TZID=UTC:20240927T130000
DTSTAMP:20260420T175712
CREATED:20240626T153751Z
LAST-MODIFIED:20240626T153751Z
UID:10000654-1727431200-1727442000@upbarreview.com
SUMMARY:Farmers Market - Wausaukee
DESCRIPTION:Weekly Farmers Market! Free vendor spots! Garden produce\, honey & jams\, flowers\, homemade crafts\, breads & pies!
URL:https://upbarreview.com/event/farmers-market-wausaukee/2024-09-27/
LOCATION:Wausaukee Farmers Market\, 536 Kenny Dr\, Wausaukee\, WI\, 54177
CATEGORIES:Menominee
END:VEVENT
BEGIN:VEVENT
DTSTART;TZID=UTC:20240927T160000
DTEND;TZID=UTC:20240927T220000
DTSTAMP:20260420T175712
CREATED:20240827T032626Z
LAST-MODIFIED:20240827T032626Z
UID:10001636-1727452800-1727474400@upbarreview.com
SUMMARY:Marinette Fall Fest - Featuring the GLAM BAND at Stephenson Island
DESCRIPTION:Marinette Fall Festival and Free Concert w/ the Glam Band!\nAppleton Axe Toss Trailer will be there from 4pm – 9pm\, and all guests will be able to toss some Axes\, two people at a time.\nKid’s Face & Pumpkin Painting Starting At 4pm.\nThe Glam Band Starts At 6pm\, Goes Until 10pm.\nBeer Tent and Food Vendors from 4pm – 10pm.\nMain Sponsors:Edgewater Sports Bar – MarinetteApplejacks Bar and Grill – MarinetteCozzys Polaris – MarinetteTriple C Riders – Marinette
URL:https://upbarreview.com/event/marinette-fall-fest-featuring-the-glam-band-at-stephenson-island/
LOCATION:Stephenson Island\, Marinette\, WI\, 54143
CATEGORIES:Menominee
END:VEVENT
BEGIN:VEVENT
DTSTART;TZID=UTC:20240927T173000
DTEND;TZID=UTC:20240927T203000
DTSTAMP:20260420T175712
CREATED:20240827T012633Z
LAST-MODIFIED:20240827T012633Z
UID:10001517-1727458200-1727469000@upbarreview.com
SUMMARY:NSRCC BINGO - Pembine
DESCRIPTION:Join us for a fun-filled evening of bingo!Doors open at 5:30pmGames start at 6:00pm\nFood\, drinks\, and daubers will be available for purchase.This event is fun for the whole family! – We look forward to seeing you soon!\nTHIS EVENT HAS FREE WIFI
URL:https://upbarreview.com/event/nsrcc-bingo-pembine/2024-09-27/
LOCATION:NSRCC\, 17112 US-141\, Pembine\, WI\, 54156
CATEGORIES:Menominee
END:VEVENT
BEGIN:VEVENT
DTSTART;TZID=UTC:20240927T183000
DTEND;TZID=UTC:20240927T213000
DTSTAMP:20260420T175712
CREATED:20240827T015451Z
LAST-MODIFIED:20240827T015451Z
UID:10001571-1727461800-1727472600@upbarreview.com
SUMMARY:Amvets Club Live Performance - Escanaba
DESCRIPTION:We are performing for you all\, Friday\, September 27th at the Amvets Club in Escanaba. Come and join us with Family and Friends and be ready to be entertained. We will be playing all your Favorites from Country to 50 and 60’s Classics. Its going to be a Fun evening.
URL:https://upbarreview.com/event/amvets-club-live-performance-escanaba/
LOCATION:Amvets Club\, 1315 N Lincoln Rd\, Escanaba\, MI
CATEGORIES:Menominee
END:VEVENT
BEGIN:VEVENT
DTSTART;TZID=UTC:20240927T190000
DTEND;TZID=UTC:20240927T213000
DTSTAMP:20260420T175712
CREATED:20240530T185538Z
LAST-MODIFIED:20240530T185538Z
UID:10000310-1727463600-1727472600@upbarreview.com
SUMMARY:Marinette Moose Lodge Haunted House
DESCRIPTION:The Marinette Moose Lodge #2327 will be holding their 20th annual Haunted House and Haunted Trail. A Four Night event conducted the last weekend (Friday/Saturday) of September (27 & 28) and the first weekend (Friday/Saturday) of October (4 & 5) with the first victims allowed to enter at 7:00 PM and the last going through at 9:15 PM. Victims that survive the Haunted House and Haunted Trail normally take about 90 minutes to complete both the Haunted House and Haunted trail. There is a No Scare “Behind the Scenes” tour on the two Saturdays 9/28 & 10/5) from 5:30 PM to 6:30 PM. The Behind the Scenes Tour is guided\, and only $5.00 for families. During the No Scare\, Behind the Scenes Tour no actors will be scaring during this time\, which allows for scene maintenance. You will still get to see the Haunted House scenes without all the sounds and scaring! Proceeds of the 2024 event will be going to the Marinette/Menominee YMCA and the Machickanee Players. The Haunted House is a guided walk through with up to 32 different themed rooms. This is followed by an unguided Haunted Trail that is over 1500 feet with over 30 haunted scenes. The cost is $15.00\, which includes an R.I.P. pass. This pass allows for $5.00 off all future Moose Lodge Haunted House admissions.
URL:https://upbarreview.com/event/marinette-moose-lodge-haunted-house/2024-09-27/
LOCATION:Marinette Moose Lodge\, N5233 E. Nettleton Road\, Marinette\, WI\, 54143
CATEGORIES:Menominee
END:VEVENT
END:VCALENDAR