BEGIN:VCALENDAR
VERSION:2.0
PRODID:-//UP BAR REVIEW - ECPv6.14.2//NONSGML v1.0//EN
CALSCALE:GREGORIAN
METHOD:PUBLISH
X-WR-CALNAME:UP BAR REVIEW
X-ORIGINAL-URL:https://upbarreview.com
X-WR-CALDESC:Events for UP BAR REVIEW
REFRESH-INTERVAL;VALUE=DURATION:PT1H
X-Robots-Tag:noindex
X-PUBLISHED-TTL:PT1H
BEGIN:VTIMEZONE
TZID:UTC
BEGIN:STANDARD
TZOFFSETFROM:+0000
TZOFFSETTO:+0000
TZNAME:UTC
DTSTART:20240101T000000
END:STANDARD
END:VTIMEZONE
BEGIN:VEVENT
DTSTART;TZID=UTC:20240924T093000
DTEND;TZID=UTC:20240924T160000
DTSTAMP:20260420T175050
CREATED:20240827T031004Z
LAST-MODIFIED:20240827T031004Z
UID:10001628-1727170200-1727193600@upbarreview.com
SUMMARY:Wheel Hike Together - Crivitz
DESCRIPTION:Wheel Hike Together is an adaptive hiking event where individuals with limited mobility can use an all-terrain track chair to explore almost 3 miles of trails and scenic overlooks at Thunder Mountain.  In place of wheels\, the motorized chairs operate on a track system and offer a placement option for a companion to control the chair. \nIndividuals who are not able to hike due to temporary or permanent physical limitations\, including shortness of breath\, may reserve chairs in one-hour increments and explore the park’s autumn scenery with friends and family.  There is no cost to reserve a chair\, however reservations must be made in advance.  Regular park entry fees apply. \nParticipants with care needs must be accompanied by a companion.  No residency requirements apply.  Registration opens August 1\, 2024.  Limited quantities of select supportive gear are available\, however participants are encouraged to bring required care equipment\, including transfer equipment.  All transfers must be conducted by companions; event staff will not be available to assist. \nEvent Information:\nSeptember 24-29\, 2024\n9:30am-5:00pm (1 hour time slots available – must pre-register)\nW14000 Thunder Mountain Rd\, Crivitz\, WI\n(715) 732-7473\nRegister Here \nThunder Mountain is located approximately 20 miles northwest of Crivitz\, WI\, and will remain open to other park visitors throughout the duration of Wheel Hike Together. Thunder Mountain is one of the stops on Marinette County’s Fall Colors Tour. \nA Marinette County Park day pass is $5 per vehicle and is available at self-service stations located at park entrances or can be purchased here. Visit www.marinettecounty.gov/parks for information about our other nearby county parks & campgrounds\, lodges\, and annual permits. \nSponsored by: Marinette County Parks\, Explore Marinette County\, Marinette County ADRC and Options for Independent Living
URL:https://upbarreview.com/event/wheel-hike-together-crivitz/2024-09-24/
LOCATION:MI
CATEGORIES:Menominee
END:VEVENT
BEGIN:VEVENT
DTSTART;TZID=UTC:20240924T160000
DTEND;TZID=UTC:20240924T190000
DTSTAMP:20260420T175050
CREATED:20240827T012157Z
LAST-MODIFIED:20240827T012157Z
UID:10001512-1727193600-1727204400@upbarreview.com
SUMMARY:Pembine Farmer & Vendor Market
DESCRIPTION:Our markets will run every Tuesday\, starting June 4th and concluding September 24th. Each market will be open from 4:00pm-7:00pm.\nAdditional information and vendor applications can be found by clicking the “Vendor Application” button on our website: www.nsrccwi.com\nIf you have any questions or concerns\, please do not hesitate to reach out to us.\nWe look forward to seeing you soon!
URL:https://upbarreview.com/event/pembine-farmer-vendor-market/2024-09-24/
LOCATION:NSRCC\, 17112 US-141\, Pembine\, WI\, 54156
CATEGORIES:Menominee
END:VEVENT
END:VCALENDAR