BEGIN:VCALENDAR
VERSION:2.0
PRODID:-//UP BAR REVIEW - ECPv6.14.2//NONSGML v1.0//EN
CALSCALE:GREGORIAN
METHOD:PUBLISH
X-WR-CALNAME:UP BAR REVIEW
X-ORIGINAL-URL:https://upbarreview.com
X-WR-CALDESC:Events for UP BAR REVIEW
REFRESH-INTERVAL;VALUE=DURATION:PT1H
X-Robots-Tag:noindex
X-PUBLISHED-TTL:PT1H
BEGIN:VTIMEZONE
TZID:UTC
BEGIN:STANDARD
TZOFFSETFROM:+0000
TZOFFSETTO:+0000
TZNAME:UTC
DTSTART:20240101T000000
END:STANDARD
END:VTIMEZONE
BEGIN:VEVENT
DTSTART;TZID=UTC:20240920T140000
DTEND;TZID=UTC:20240922T130000
DTSTAMP:20260420T175140
CREATED:20240827T020022Z
LAST-MODIFIED:20240827T020022Z
UID:10001574-1726840800-1727010000@upbarreview.com
SUMMARY:3rd Annual UP Ice Fishing and Hunting Expo - Escanaba
DESCRIPTION:3 day event that has something for everyone! If you love hunting\, fishing\, trapping or anything to do with the outdoors this event is for you! This event is free to the public\, but we are asking for a canned good donation to be given to a local food pantry or a donation that would help the Delta County Animal Shelter. Vendors on hand with custom tackle\, ice shacks\, hunting blinds\, guns\, knives\, arts and crafts and so much more. Kids games and prizes awarded!
URL:https://upbarreview.com/event/3rd-annual-up-ice-fishing-and-hunting-expo-escanaba/
LOCATION:UP State Fairgrounds\, 2401 12th Avenue North\, Escanaba
CATEGORIES:Menominee
END:VEVENT
BEGIN:VEVENT
DTSTART;TZID=UTC:20240922T080000
DTEND;TZID=UTC:20240922T170000
DTSTAMP:20260420T175140
CREATED:20240628T212447Z
LAST-MODIFIED:20240628T212447Z
UID:10001002-1726992000-1727024400@upbarreview.com
SUMMARY:Ironworks - Sunday Funday Live Music - Marinette
DESCRIPTION:Check it out! Live Music this Sunday at IRONWORKS! We have music every Sunday!
URL:https://upbarreview.com/event/ironworks-sunday-funday-live-music-marinette/2024-09-22/
LOCATION:Ironworks\, 1333 Main St.\, Marinette\, WI\, 54143\, United States
CATEGORIES:Menominee
END:VEVENT
BEGIN:VEVENT
DTSTART;TZID=UTC:20240922T080000
DTEND;TZID=UTC:20240922T170000
DTSTAMP:20260420T175140
CREATED:20240728T211616Z
LAST-MODIFIED:20240728T211616Z
UID:10001303-1726992000-1727024400@upbarreview.com
SUMMARY:Shawano Flea Market
DESCRIPTION:54th YEAR!!! Every Sunday April 28 thru October 6\, 2024. Except Labor Day weekend.\nSpecial Holiday Markets:Saturday May 25 & Sunday May 26+ Saturday July 6 and Sunday July 7\nShawano Flea Market car show Sunday October 6\, 2024!\nAntiques\, Collectibles\, Crafts\, Vintage\, Mid Century Modern\, Gardening\, New & Old\, Advertising\, Old Toys\, & More\n7am to 4pm / $2 admission. Kids 12 and under free with adult.Early buyer admission before 7am: $10Tickets available at the event. Free parkingOpen-Air Market. Weather permitting.\nNew vendors welcome! Call for details.\nShawano County Fairgrounds990 E Green Bay St\, Shawano\, WI 54166Information: 715-526-9769Zurko Promotions
URL:https://upbarreview.com/event/shawano-flea-market/2024-09-22/
LOCATION:Shawano County Fairgrounds\, 990 E Green Bay St\, Shawano\, WI\, 54166
CATEGORIES:Menominee
END:VEVENT
BEGIN:VEVENT
DTSTART;TZID=UTC:20240922T130000
DTEND;TZID=UTC:20240922T150000
DTSTAMP:20260420T175140
CREATED:20240826T234710Z
LAST-MODIFIED:20240826T234710Z
UID:10001466-1727010000-1727017200@upbarreview.com
SUMMARY:McCrafties - Epoxy Harvest Pumpkin Woodform - Menominee
DESCRIPTION:Join us to make the Harvest Epoxy Pumpkin at McCraftie’s.\nWe only have 5 spots available for this class. Don’t wait to sign up.\nGrab friends and spend the afternoon designing your own one of a kind fall piece. You will be able to 100% customize the pumpkin to match your decor. The design options are endless!\nCall the studio with pre-payment to reserve your spot today:)715-440-5959\n\n\nAll skill levels are welcome.\nWe provide all the necessary supplies.\nWe look forward to designing with you.\nCLASS REFUND POLICY\n-full in studio credit if cancellation is 1 week prior to the class-50% in studio credit up to 24 hours prior to class.-less than 24 hours notice\, no credit-NO SHOW/ NO CALL/NO CREDIT
URL:https://upbarreview.com/event/mccrafties-epoxy-harvest-pumpkin-woodform-menominee/
LOCATION:McCrafties\, 625 1st St\, Menominee\, MI\, 49858\, United States
CATEGORIES:Menominee
END:VEVENT
BEGIN:VEVENT
DTSTART;TZID=UTC:20240922T140000
DTEND;TZID=UTC:20240922T180000
DTSTAMP:20260420T175140
CREATED:20240719T180709Z
LAST-MODIFIED:20240728T213207Z
UID:10001045-1727013600-1727028000@upbarreview.com
SUMMARY:Loopy's in Loomis - Sunday Funday
DESCRIPTION:Live music\, drink deals\, and specials for sunday funday at loopys!!
URL:https://upbarreview.com/event/loopys-in-loomis-sunday-funday/2024-09-22/
LOCATION:Loopy’s Bar & Grill\, Loomis Rd\, Porterfield\, WI\, 54159
CATEGORIES:Menominee
END:VEVENT
BEGIN:VEVENT
DTSTART;TZID=UTC:20240922T140000
DTEND;TZID=UTC:20240922T190000
DTSTAMP:20260420T175140
CREATED:20240827T015324Z
LAST-MODIFIED:20240827T015324Z
UID:10001570-1727013600-1727031600@upbarreview.com
SUMMARY:2024 GLEA Show - Escanaba
DESCRIPTION:Friday: SpeedSaturday: Halter & EnglishSunday: Western classes\nOne Overall High Point Saddle will be given away along with over $5000 in prizes!! High points for every age division\, Grand and Reserve classes and jackpot classes!Judges: Kirstin Mellenburger & Rick Barnes
URL:https://upbarreview.com/event/2024-glea-show-escanaba/2024-09-22/
LOCATION:MI
CATEGORIES:Menominee
END:VEVENT
BEGIN:VEVENT
DTSTART;TZID=UTC:20240922T190000
DTEND;TZID=UTC:20240922T210000
DTSTAMP:20260420T175140
CREATED:20240626T182350Z
LAST-MODIFIED:20240626T182350Z
UID:10000755-1727031600-1727038800@upbarreview.com
SUMMARY:Loopy's Bar & Grill - Smoke Road - Crivitz
DESCRIPTION:Enjoy some great music!!
URL:https://upbarreview.com/event/loopys-bar-grill-smoke-road-crivitz/2024-09-22/
LOCATION:Loopy’s Bar & Grill\, Loomis Rd\, Porterfield\, WI\, 54159
CATEGORIES:Menominee
END:VEVENT
END:VCALENDAR