BEGIN:VCALENDAR
VERSION:2.0
PRODID:-//UP BAR REVIEW - ECPv6.14.2//NONSGML v1.0//EN
CALSCALE:GREGORIAN
METHOD:PUBLISH
X-WR-CALNAME:UP BAR REVIEW
X-ORIGINAL-URL:https://upbarreview.com
X-WR-CALDESC:Events for UP BAR REVIEW
REFRESH-INTERVAL;VALUE=DURATION:PT1H
X-Robots-Tag:noindex
X-PUBLISHED-TTL:PT1H
BEGIN:VTIMEZONE
TZID:UTC
BEGIN:STANDARD
TZOFFSETFROM:+0000
TZOFFSETTO:+0000
TZNAME:UTC
DTSTART:20240101T000000
END:STANDARD
END:VTIMEZONE
BEGIN:VEVENT
DTSTART;TZID=UTC:20240912T160000
DTEND;TZID=UTC:20240912T190000
DTSTAMP:20260420T175143
CREATED:20240728T210315Z
LAST-MODIFIED:20240728T212459Z
UID:10001240-1726156800-1726167600@upbarreview.com
SUMMARY:Pound Community Farmers Market
DESCRIPTION:Come support our local entrepreneurs as they share their homemade jams\, breads\, cookies\, produce\, crafts\, and more.\nThis event will be held on Thursdays from now through September 26th (except August 8th due to an Ace convention) outside Gusick’s Ace Hardware.\nCheck out the page for updates on the lineup of vendors and food tents/trucks.
URL:https://upbarreview.com/event/pound-community-farmers-market/2024-09-12/
LOCATION:Pound Farmers Market\, 508 Alma St\, Pound\, WI\, 54161-9702
CATEGORIES:Menominee
END:VEVENT
BEGIN:VEVENT
DTSTART;TZID=UTC:20240912T180000
DTEND;TZID=UTC:20240912T193000
DTSTAMP:20260420T175143
CREATED:20240827T011410Z
LAST-MODIFIED:20240827T011410Z
UID:10001505-1726164000-1726169400@upbarreview.com
SUMMARY:Barely About Books Club - Meetup - Crivitz
DESCRIPTION:Meet up for August books @ The Checkerboard735 Dyer Street\, Crivitz\, WI 54114\nPlease respond going if you plan to attend so we can plan accordingly. Hope to see you all there!
URL:https://upbarreview.com/event/barely-about-books-club-meetup-crivitz/
LOCATION:The Checkerboard\, 735 Dyer St\, Crivitz\, WI\, 54114
CATEGORIES:Menominee
END:VEVENT
BEGIN:VEVENT
DTSTART;TZID=UTC:20240912T190000
DTEND;TZID=UTC:20240912T210000
DTSTAMP:20260420T175143
CREATED:20240827T020238Z
LAST-MODIFIED:20240827T020238Z
UID:10001577-1726167600-1726174800@upbarreview.com
SUMMARY:Mos Pub - Family Feud Night - Escanaba
DESCRIPTION: From the (so-called) brains behind Quizmaster Trivia\, Feudmaster is the bar game where players are fighting the clock… and their friends. \n———–\nSPECIALS: $1.50 domestic pints $3 rail mixers $1-off Specialty Burgers $2-off Specialty Pizza\n———-\nPRIZES: $30 gift card $20 gift card $10 gift card\n———-\nGAME PLAY:\n Similar to Family Feud\, the goal is to guess the TOP answer to common survey questions…\n• “An athlete in what sport would be good at a game of Twister?”\n• “If you want to keep the romance ticking\, name something you should NOT have in your bedroom?”\n At the start of the game players are given a white board to write their answers on…\n Players can team up\, or play solo. Either way you’ll be fighting your friends for the top answer\, but you’ll only have 30 seconds to do so…\n———–\n Hold up your whiteboard after the time is up and the host will come around to mark your points.\n Players get 10 points for the top answer and 5 points for the second-top answer.\n———–\n The game is split into 3 rounds of five questions each\, with one Final Feud question at the end\, where players have to come up with five answers.\n Plus\, players will be given two pens for their white boards: a black one and a red one.\n ONCE per round\, teams can use their red pen to answer\, which will double their points for that question if they are correct.
URL:https://upbarreview.com/event/mos-pub-family-feud-night-escanaba/2024-09-12/
LOCATION:Mo’s Pub\, 2116 Ludington St\, Escanaba\, MI\, 49829
CATEGORIES:Menominee
END:VEVENT
BEGIN:VEVENT
DTSTART;TZID=UTC:20240912T210000
DTEND;TZID=UTC:20240912T223000
DTSTAMP:20260420T175143
CREATED:20240628T235314Z
LAST-MODIFIED:20240826T231212Z
UID:10001014-1726174800-1726180200@upbarreview.com
SUMMARY:Cusacks - Karaoke - Marinette
DESCRIPTION:Karaoke at Cusaks every thursday 9PM!
URL:https://upbarreview.com/event/cusacks-karaoke-marinette/2024-09-12/
LOCATION:Cusack’s Pub\, 2206 Hall Ave\, Marinette\, WI\, 54143\, United States
CATEGORIES:Menominee
END:VEVENT
END:VCALENDAR