BEGIN:VCALENDAR
VERSION:2.0
PRODID:-//UP BAR REVIEW - ECPv6.14.2//NONSGML v1.0//EN
CALSCALE:GREGORIAN
METHOD:PUBLISH
X-WR-CALNAME:UP BAR REVIEW
X-ORIGINAL-URL:https://upbarreview.com
X-WR-CALDESC:Events for UP BAR REVIEW
REFRESH-INTERVAL;VALUE=DURATION:PT1H
X-Robots-Tag:noindex
X-PUBLISHED-TTL:PT1H
BEGIN:VTIMEZONE
TZID:UTC
BEGIN:STANDARD
TZOFFSETFROM:+0000
TZOFFSETTO:+0000
TZNAME:UTC
DTSTART:20240101T000000
END:STANDARD
END:VTIMEZONE
BEGIN:VEVENT
DTSTART;TZID=UTC:20240911T130000
DTEND;TZID=UTC:20240911T160000
DTSTAMP:20260420T193527
CREATED:20240827T010305Z
LAST-MODIFIED:20240827T010305Z
UID:10001498-1726059600-1726070400@upbarreview.com
SUMMARY:Judy Bloom Studios - Beginner Watercolor Painting - Crivitz
DESCRIPTION:Have you ever wanted to learn watercolor painting? Come join artist Judy Bloom at Crivitz Village Hall as she guides you with step by step instructions to create your own work of art. This class is for beginners and all skill levels. You will leave class with a finished 8×10 ready to frame painting. Price is $40. and includes all materials. Payment is cash or check due at class event. Call Judy Bloom 931-787-6559 to register and reserve your spot.
URL:https://upbarreview.com/event/judy-bloom-studios-beginner-watercolor-painting-crivitz/
LOCATION:Judy Bloom Studio\, 800 Henriette Ave\, Peshtigo\, WI
CATEGORIES:Menominee
END:VEVENT
BEGIN:VEVENT
DTSTART;TZID=UTC:20240911T150000
DTEND;TZID=UTC:20240911T180000
DTSTAMP:20260420T193527
CREATED:20240626T145913Z
LAST-MODIFIED:20240728T212922Z
UID:10000563-1726066800-1726077600@upbarreview.com
SUMMARY:Escanaba Farmers Market
DESCRIPTION:The Escanaba Farmers Market runs from 3 to 6 p.m. at the Marketplace on Wednesdays. Catch music from 11:30am-1:30pm beforehand. Come check it out!
URL:https://upbarreview.com/event/escanaba-farmers-market/2024-09-11/
LOCATION:Escanaba Marketplace\, 1501 Ludington St\, Escanaba\, MI\, 49829
CATEGORIES:Menominee
END:VEVENT
BEGIN:VEVENT
DTSTART;TZID=UTC:20240911T160000
DTEND;TZID=UTC:20240911T173000
DTSTAMP:20260420T193527
CREATED:20240827T025828Z
LAST-MODIFIED:20240827T025828Z
UID:10001622-1726070400-1726075800@upbarreview.com
SUMMARY:Farnsworth Public Library - 1903 Book Club - Oconto
DESCRIPTION:The 1903 Book Club (named for the year the Library was founded) will meet on the 2nd Wednesday of the month. The book will discuss this month is The BookWoman of Troublesome Creek by Kim Michelle Richardson Copies of the book are available at the check-out desk at the Library. Join us (even if you didn’t read the book)!
URL:https://upbarreview.com/event/farnsworth-public-library-1903-book-club-oconto/
LOCATION:Farnsworth Public Library\, 715 Main St\, Oconto\, WI
CATEGORIES:Menominee
END:VEVENT
BEGIN:VEVENT
DTSTART;TZID=UTC:20240911T173000
DTEND;TZID=UTC:20240911T190000
DTSTAMP:20260420T193527
CREATED:20240827T001231Z
LAST-MODIFIED:20240827T001231Z
UID:10001478-1726075800-1726081200@upbarreview.com
SUMMARY:The Craft Cave - Holiday Broomstick - Marinette
DESCRIPTION:Come make your holiday broomstick decor. You choose Halloween or fall theme\, one or the other. Stand approx. 21 inches tall. Paint and decorate your very own. Adult class\, BYOB\, cost 20$.Call to pre pay and sign up at 715-587-4643.
URL:https://upbarreview.com/event/the-craft-cave-holiday-broomstick-marinette/
LOCATION:The Craft Cave\, 605 Main St.\, Marinette\, WI\, 54143\, United States
CATEGORIES:Menominee
END:VEVENT
BEGIN:VEVENT
DTSTART;TZID=UTC:20240911T180000
DTEND;TZID=UTC:20240911T200000
DTSTAMP:20260420T193527
CREATED:20240827T013502Z
LAST-MODIFIED:20240827T013516Z
UID:10001536-1726077600-1726084800@upbarreview.com
SUMMARY:NSRCC - Card Making Class- Pembine
DESCRIPTION:EVENT DETAILS COMING SOON!
URL:https://upbarreview.com/event/nsrcc-card-making-cladd-pembine/2024-09-11/
LOCATION:NSRCC\, 17112 US-141\, Pembine\, WI\, 54156
CATEGORIES:Menominee
END:VEVENT
BEGIN:VEVENT
DTSTART;TZID=UTC:20240911T180000
DTEND;TZID=UTC:20240911T200000
DTSTAMP:20260420T193527
CREATED:20240827T022126Z
LAST-MODIFIED:20240827T022126Z
UID:10001601-1726077600-1726084800@upbarreview.com
SUMMARY:Badger Park - Adult Only Bingo - Peshtigo
DESCRIPTION:REMINDER!!!\nADULT ONLY BINGO\n6-8 pm!\n50/50 raffles\n$1 a card\, limit 4 cards per round!!!\nLarge pavilion Badger Park
URL:https://upbarreview.com/event/badger-park-adult-only-bingo-peshtigo/
LOCATION:Badger Park\, 300 E Park Dr\, Peshtigo\, WI\, 54147
CATEGORIES:Menominee
END:VEVENT
BEGIN:VEVENT
DTSTART;TZID=UTC:20240911T200000
DTEND;TZID=UTC:20240911T220000
DTSTAMP:20260420T193527
CREATED:20240802T135941Z
LAST-MODIFIED:20240802T135941Z
UID:10001430-1726084800-1726092000@upbarreview.com
SUMMARY:House of Ludington - House Band - Escanaba
DESCRIPTION:hear some live music from the House Band at the House of Ludington! Every Wednesday 8-10pm!
URL:https://upbarreview.com/event/house-of-ludington-house-band-escanaba/2024-09-11/
LOCATION:House of Ludington\, 223 Ludington St\, Escanaba\, MI\, 49829
CATEGORIES:Menominee
END:VEVENT
END:VCALENDAR