BEGIN:VCALENDAR
VERSION:2.0
PRODID:-//UP BAR REVIEW - ECPv6.14.2//NONSGML v1.0//EN
CALSCALE:GREGORIAN
METHOD:PUBLISH
X-WR-CALNAME:UP BAR REVIEW
X-ORIGINAL-URL:https://upbarreview.com
X-WR-CALDESC:Events for UP BAR REVIEW
REFRESH-INTERVAL;VALUE=DURATION:PT1H
X-Robots-Tag:noindex
X-PUBLISHED-TTL:PT1H
BEGIN:VTIMEZONE
TZID:UTC
BEGIN:STANDARD
TZOFFSETFROM:+0000
TZOFFSETTO:+0000
TZNAME:UTC
DTSTART:20240101T000000
END:STANDARD
END:VTIMEZONE
BEGIN:VEVENT
DTSTART;TZID=UTC:20240909T083000
DTEND;TZID=UTC:20240909T093000
DTSTAMP:20260420T180657
CREATED:20240827T014121Z
LAST-MODIFIED:20240827T014121Z
UID:10001545-1725870600-1725874200@upbarreview.com
SUMMARY:NSRCC - Open Workout & Meet the Instructor - Pembine
DESCRIPTION:Meet our fitness class instructor\, Brenda Rosenstiel. There will be information about all of our fitness classes as well as a place for open workout. Contact Brenda for more details: (920) 327-9981 or brosenstiel@nsrccwi.com
URL:https://upbarreview.com/event/nsrcc-open-workout-meet-the-instructor-pembine/2024-09-09/
LOCATION:NSRCC\, 17112 US-141\, Pembine\, WI\, 54156
CATEGORIES:Menominee
END:VEVENT
BEGIN:VEVENT
DTSTART;TZID=UTC:20240909T140000
DTEND;TZID=UTC:20240909T150000
DTSTAMP:20260420T180657
CREATED:20240827T022919Z
LAST-MODIFIED:20240827T022919Z
UID:10001606-1725890400-1725894000@upbarreview.com
SUMMARY:Peshtigo Pub & Grill - Bingo at the Pub - Peshtigo
DESCRIPTION:Test your dobber skills on a variety of Bingo games!
URL:https://upbarreview.com/event/peshtigo-pub-grill-bingo-at-the-pub-peshtigo/
LOCATION:Peshtigo Pub & Grill\, 350 Oconto Ave\, Peshtigo\, WI\, 54157
CATEGORIES:Menominee
END:VEVENT
END:VCALENDAR