BEGIN:VCALENDAR
VERSION:2.0
PRODID:-//UP BAR REVIEW - ECPv6.14.2//NONSGML v1.0//EN
CALSCALE:GREGORIAN
METHOD:PUBLISH
X-WR-CALNAME:UP BAR REVIEW
X-ORIGINAL-URL:https://upbarreview.com
X-WR-CALDESC:Events for UP BAR REVIEW
REFRESH-INTERVAL;VALUE=DURATION:PT1H
X-Robots-Tag:noindex
X-PUBLISHED-TTL:PT1H
BEGIN:VTIMEZONE
TZID:UTC
BEGIN:STANDARD
TZOFFSETFROM:+0000
TZOFFSETTO:+0000
TZNAME:UTC
DTSTART:20240101T000000
END:STANDARD
END:VTIMEZONE
BEGIN:VEVENT
DTSTART;TZID=UTC:20240908T080000
DTEND;TZID=UTC:20240908T170000
DTSTAMP:20260420T175046
CREATED:20240628T212447Z
LAST-MODIFIED:20240628T212447Z
UID:10001000-1725782400-1725814800@upbarreview.com
SUMMARY:Ironworks - Sunday Funday Live Music - Marinette
DESCRIPTION:Check it out! Live Music this Sunday at IRONWORKS! We have music every Sunday!
URL:https://upbarreview.com/event/ironworks-sunday-funday-live-music-marinette/2024-09-08/
LOCATION:Ironworks\, 1333 Main St.\, Marinette\, WI\, 54143\, United States
CATEGORIES:Menominee
END:VEVENT
BEGIN:VEVENT
DTSTART;TZID=UTC:20240908T080000
DTEND;TZID=UTC:20240908T170000
DTSTAMP:20260420T175046
CREATED:20240728T211616Z
LAST-MODIFIED:20240728T211616Z
UID:10001301-1725782400-1725814800@upbarreview.com
SUMMARY:Shawano Flea Market
DESCRIPTION:54th YEAR!!! Every Sunday April 28 thru October 6\, 2024. Except Labor Day weekend.\nSpecial Holiday Markets:Saturday May 25 & Sunday May 26+ Saturday July 6 and Sunday July 7\nShawano Flea Market car show Sunday October 6\, 2024!\nAntiques\, Collectibles\, Crafts\, Vintage\, Mid Century Modern\, Gardening\, New & Old\, Advertising\, Old Toys\, & More\n7am to 4pm / $2 admission. Kids 12 and under free with adult.Early buyer admission before 7am: $10Tickets available at the event. Free parkingOpen-Air Market. Weather permitting.\nNew vendors welcome! Call for details.\nShawano County Fairgrounds990 E Green Bay St\, Shawano\, WI 54166Information: 715-526-9769Zurko Promotions
URL:https://upbarreview.com/event/shawano-flea-market/2024-09-08/
LOCATION:Shawano County Fairgrounds\, 990 E Green Bay St\, Shawano\, WI\, 54166
CATEGORIES:Menominee
END:VEVENT
BEGIN:VEVENT
DTSTART;TZID=UTC:20240908T110000
DTEND;TZID=UTC:20240908T130000
DTSTAMP:20260420T175046
CREATED:20240827T010022Z
LAST-MODIFIED:20240827T010022Z
UID:10001496-1725793200-1725800400@upbarreview.com
SUMMARY:KOINONIA Potluck/Cookout - Crivitz
DESCRIPTION:Celebrate the Koinonia community with this potluck cookout at John Shaffer Pavilion\, 515 Park Place in Crivitz. Hamburgers\, brats\, buns\, condiments and paper products will be provided\, donated by fellow Koinonia members and the Koinonia Board\, and attendees are asked to bring a dish to pass.\nRSVP either here\, to the Koinonia page\, or Jeane Blunck by August 20 so we can have an accurate count for hamburgers and brats!\nBring your own chair\, and if you are a musician please bring your instrument! There is a playground for the kids and after/later in the day there will be a Board Meeting/update on Koinonia news.
URL:https://upbarreview.com/event/koinonia-potluck-cookout-crivitz/
LOCATION:John Shaffer Pavilion\, 503 6th Aly\, Crivitz\, WI\, 54114
CATEGORIES:Menominee
END:VEVENT
BEGIN:VEVENT
DTSTART;TZID=UTC:20240908T140000
DTEND;TZID=UTC:20240908T160000
DTSTAMP:20260420T175046
CREATED:20240827T015850Z
LAST-MODIFIED:20240827T015850Z
UID:10001573-1725804000-1725811200@upbarreview.com
SUMMARY:Mushroom Walk - Escanaba
DESCRIPTION:Mushroom Walk: Sunday\, September 8 @ 3:00pm\nThe Central U.P. Chapter of Wild Ones will be holding its annual “Mushroom Walk” on Sunday\, Sept. 8th @ 3:00 pm at the West Side Recreation Area in Escanaba. Meet at the parking lot off of 19th Ave.\, North behind the Great Lakes Sports club. Laurie Johnson and Jim Gehling will guide participants through the ins and outs of fungus foraging\, identification and appreciation. We will go for an easy hike to look for and identify mushrooms and fungi of all types. This is a family friendly event. Bring along any interesting fungi you have found; it’s great to have a variety of specimens to look at! (Please harvest responsibly.)\nAll are welcome. RSVPs are appreciated but not required\, through this Facebook page or email wildonescentralup@gmail.com. Please share with your friends!
URL:https://upbarreview.com/event/mushroom-walk-escanaba/
LOCATION:West Side Recreation Area\, 4375 19th Ave N\, Escanaba\, MI\, 49829
CATEGORIES:Menominee
END:VEVENT
BEGIN:VEVENT
DTSTART;TZID=UTC:20240908T140000
DTEND;TZID=UTC:20240908T170000
DTSTAMP:20260420T175046
CREATED:20240827T023041Z
LAST-MODIFIED:20240827T023041Z
UID:10001607-1725804000-1725814800@upbarreview.com
SUMMARY:The Outback - Pink Violin - Peshtigo
DESCRIPTION:Sunday Funday Pink Violin 2-5
URL:https://upbarreview.com/event/the-outback-pink-violin-peshtigo/
LOCATION:The Outback\, 1997 Old Peshtigo Rd\, Marinette\, WI\, 54143\, United States
CATEGORIES:Menominee
END:VEVENT
BEGIN:VEVENT
DTSTART;TZID=UTC:20240908T140000
DTEND;TZID=UTC:20240908T180000
DTSTAMP:20260420T175046
CREATED:20240719T180709Z
LAST-MODIFIED:20240728T213207Z
UID:10001043-1725804000-1725818400@upbarreview.com
SUMMARY:Loopy's in Loomis - Sunday Funday
DESCRIPTION:Live music\, drink deals\, and specials for sunday funday at loopys!!
URL:https://upbarreview.com/event/loopys-in-loomis-sunday-funday/2024-09-08/
LOCATION:Loopy’s Bar & Grill\, Loomis Rd\, Porterfield\, WI\, 54159
CATEGORIES:Menominee
END:VEVENT
BEGIN:VEVENT
DTSTART;TZID=UTC:20240908T140000
DTEND;TZID=UTC:20240908T180000
DTSTAMP:20260420T175046
CREATED:20240827T022432Z
LAST-MODIFIED:20240827T022432Z
UID:10001603-1725804000-1725818400@upbarreview.com
SUMMARY:Peshtigo Pub & Grill - The Stehlman - Peshtigo
DESCRIPTION:Always a fun time with The Stehlmans
URL:https://upbarreview.com/event/peshtigo-pub-grill-the-stehlman-peshtigo/
LOCATION:Peshtigo Pub & Grill\, 350 Oconto Ave\, Peshtigo\, WI\, 54157
CATEGORIES:Menominee
END:VEVENT
END:VCALENDAR