BEGIN:VCALENDAR
VERSION:2.0
PRODID:-//UP BAR REVIEW - ECPv6.14.2//NONSGML v1.0//EN
CALSCALE:GREGORIAN
METHOD:PUBLISH
X-ORIGINAL-URL:https://upbarreview.com
X-WR-CALDESC:Events for UP BAR REVIEW
REFRESH-INTERVAL;VALUE=DURATION:PT1H
X-Robots-Tag:noindex
X-PUBLISHED-TTL:PT1H
BEGIN:VTIMEZONE
TZID:UTC
BEGIN:STANDARD
TZOFFSETFROM:+0000
TZOFFSETTO:+0000
TZNAME:UTC
DTSTART:20240101T000000
END:STANDARD
END:VTIMEZONE
BEGIN:VEVENT
DTSTART;TZID=UTC:20240907T080000
DTEND;TZID=UTC:20240907T120000
DTSTAMP:20260420T175511
CREATED:20240827T024101Z
LAST-MODIFIED:20240827T024101Z
UID:10001613-1725696000-1725710400@upbarreview.com
SUMMARY:Stephenson Flea Market & Crafts
DESCRIPTION:The LAST MARKET of the 2024 season. Find us along the green space near the railroad tracks in Downtown Stephenson.
URL:https://upbarreview.com/event/stephenson-flea-market-crafts/
LOCATION:Railroad Street\, 101 Railroad St.\, Stephenson\, MI\, 49887
CATEGORIES:Menominee
END:VEVENT
BEGIN:VEVENT
DTSTART;TZID=UTC:20240907T080000
DTEND;TZID=UTC:20240907T150000
DTSTAMP:20260420T175511
CREATED:20240626T162313Z
LAST-MODIFIED:20240626T162313Z
UID:10000729-1725696000-1725721200@upbarreview.com
SUMMARY:Shop Local Support Local Market - Peshtigo
DESCRIPTION:The first Saturday of each month June thru October we are opening our doors with other local farmers\, crafters\, & vendors for the a special Shop Local Support Local Market from 8 til 3. We are excited for everyone to join us for this special event. Don’t forget to stop & visit all of us at Schwittay Harmony Market\, W4497 State Hwy 64\, Peshtigo (corner of County Rd DD & Hwy 64).\nIf you are interested in being a vendor for our first Saturday of the month event for July\, August\, September\, or October\, feel free to message our Facebook page\, email us at schwittayfarms@yahoo.com\, or call or text 920.980.5722.
URL:https://upbarreview.com/event/shop-local-support-local-market-peshtigo/2024-09-07/
LOCATION:Schwittay Harmony Market LLC\, W4497 WI-64\, Peshtigo\, WI\, 54157
CATEGORIES:Menominee
END:VEVENT
BEGIN:VEVENT
DTSTART;TZID=UTC:20240907T090000
DTEND;TZID=UTC:20240907T120000
DTSTAMP:20260420T175511
CREATED:20240530T023124Z
LAST-MODIFIED:20240826T230940Z
UID:10000222-1725699600-1725710400@upbarreview.com
SUMMARY:Menominee Historic Downtown Farmers' Market
DESCRIPTION:“The Menominee Historic Downtown Farmers’ Market will be held on Saturday mornings from 9am-12pm. \nThe Market will be located at 940 1st Street (Spies Public Library Parking Lot)”
URL:https://upbarreview.com/event/menominee-historic-downtown-farmers-market-4/2024-09-07/
LOCATION:Spies Public Library\, 940 1st St.\, Menominee\, MI\, 49858
CATEGORIES:Menominee
END:VEVENT
BEGIN:VEVENT
DTSTART;TZID=UTC:20240907T090000
DTEND;TZID=UTC:20240907T120000
DTSTAMP:20260420T175511
CREATED:20240626T150940Z
LAST-MODIFIED:20240728T212955Z
UID:10001306-1725699600-1725710400@upbarreview.com
SUMMARY:Escanaba Farmers Market
DESCRIPTION:The Escanaba Farmers Market runs on Wednesdays from 3 to 6 p.m. and Saturdays from 9 a.m. to noon.
URL:https://upbarreview.com/event/escanaba-farmers-market-2/2024-09-07/
LOCATION:Escanaba Marketplace\, 1501 Ludington St\, Escanaba\, MI\, 49829
CATEGORIES:Menominee
END:VEVENT
BEGIN:VEVENT
DTSTART;TZID=UTC:20240907T090000
DTEND;TZID=UTC:20240907T210000
DTSTAMP:20260420T175511
CREATED:20240827T014957Z
LAST-MODIFIED:20240827T014957Z
UID:10001566-1725699600-1725742800@upbarreview.com
SUMMARY:Northwoods Motor Mayhem - Escanaba
DESCRIPTION:Northwoods Motor Mayhem is an event that looks to provide entertainment to the large car enthusiast community in our area. It will be a car show extraordinaire\, with all classes of vehicles welcome.\nThis year we will feature rat rods and traditional hot rods located throughout the antique village on the U.P. State fairgrounds. While featuring these vehicles\, classic cars\, muscle cars\, sports cars\, tuners\, and other special interest vehicles\, as well as vintage motorcycles are welcome.\nWe will have 2 days of live music\, food and drink vendors\, events to include burnout competition\, lawn tractor pulling\, raffles and silent auctions\, mini bike races\, a kids corral to display decorated bicycles\, and a classy\, not trashy pinup contest.\nWe will also have a vintage camping area. Regular camping is also available for this 2 day event at the fairgrounds. We encourage period matching dress\, get those duck tails greased up\, and dig out that poodle skirt! This event will be held rain or shine.
URL:https://upbarreview.com/event/northwoods-motor-mayhem-escanaba/2024-09-07/
LOCATION:UP State Fairgrounds\, 2401 12th Avenue North\, Escanaba
CATEGORIES:Menominee
END:VEVENT
BEGIN:VEVENT
DTSTART;TZID=UTC:20240907T093000
DTEND;TZID=UTC:20240907T110000
DTSTAMP:20260420T175511
CREATED:20240827T021110Z
LAST-MODIFIED:20240827T021110Z
UID:10001597-1725701400-1725706800@upbarreview.com
SUMMARY:Ink Society - Local Writers Group - Escanaba
DESCRIPTION:Ink Society is an informal group of local writers that connect at the library monthly to discuss their current work\, seek feedback\, and share ideas. Bring your work and prepare to be inspired!\nThe Ink Society meets the first Saturday of each month at 10:30 a.m.
URL:https://upbarreview.com/event/ink-society-local-writers-group-escanaba/2024-09-07/
LOCATION:Escanaba Public Library\, 400 Ludington St\, Escanaba\, WI\, 49829
CATEGORIES:Menominee
END:VEVENT
BEGIN:VEVENT
DTSTART;TZID=UTC:20240907T110000
DTEND;TZID=UTC:20240907T130000
DTSTAMP:20260420T175511
CREATED:20240827T002606Z
LAST-MODIFIED:20240830T020449Z
UID:10001483-1725706800-1725714000@upbarreview.com
SUMMARY:Elks Lodge - 5th Annual Cornhole Tournament - Marinette
DESCRIPTION:It’s our cornhole tournament time again!! We look forward to this every year!11am starts sign in\, 12 noon bags flyThe Elks Lodge is hosting the event this year.$40 per teamOpen to the publicFood & beverages available.50/50’s & bucket raffles too!!Sign up at the lodge or contact Susan for more information- 715-587-5065 \n \n \n \n 
URL:https://upbarreview.com/event/elks-lodge-5th-annual-cornhole-tournament-marinette/
LOCATION:Elks Lodge #1313\, 430 Bridge St\, Marinette\, WI\, 54143
CATEGORIES:Menominee
ATTACH;FMTTYPE=image/jpeg:https://upbarreview.com/wp-content/uploads/2024/08/elks6.jpg
END:VEVENT
BEGIN:VEVENT
DTSTART;TZID=UTC:20240907T110000
DTEND;TZID=UTC:20240907T160000
DTSTAMP:20260420T175511
CREATED:20240814T211321Z
LAST-MODIFIED:20240814T211321Z
UID:10001443-1725706800-1725724800@upbarreview.com
SUMMARY:Four Seasons Island Resort - Berry Fest - Pembine
DESCRIPTION:The Miscauno Island Berry Fest is returning to the Four Seasons on September 7! Mark your calendars;11am-4pm get ready for fun family activates\, live entertainment\, crafters and venders\, and of course… BERRYS!\n\n\nInterested venders should contact: kayla.myers@pyramidglobal.com
URL:https://upbarreview.com/event/four-seasons-island-resort-berry-fest-pembine/
LOCATION:Four Seasons Island Resort\, 16800 Shoreline Dr\, Pembine\, WI\, 54156\, United States
CATEGORIES:Menominee
END:VEVENT
BEGIN:VEVENT
DTSTART;TZID=UTC:20240907T130000
DTEND;TZID=UTC:20240907T150000
DTSTAMP:20260420T175511
CREATED:20240826T234510Z
LAST-MODIFIED:20240826T234510Z
UID:10001465-1725714000-1725721200@upbarreview.com
SUMMARY:McCrafties - 3D Pumpkin Puzzle Art - Menominee
DESCRIPTION:Looking for something inexpensive to do?\nJoin us for a fun and creative afternoon crafting a 3D pumpkin puzzle on canvas at McCraftie’s! Gather your friends and family for a unique experience as you piece together this intricate puzzle\, transforming a blank canvas into a festive masterpiece. No artistic experience required! All materials will be provided.\nPRE-REGISTRATION IS REQUIRED. Stop in or call the studio to save a spot.\n\nCLASS REFUND POLICY\n-full in studio credit if cancellation is 1 week prior to the class-50% in studio credit up to 24 hours prior to class.-less than 24 hours notice\, no credit-NO SHOW/ NO CALL/NO CREDIT
URL:https://upbarreview.com/event/mccrafties-3d-pumpkin-puzzle-art-menominee/
LOCATION:McCrafties\, 625 1st St\, Menominee\, MI\, 49858\, United States
CATEGORIES:Menominee
END:VEVENT
BEGIN:VEVENT
DTSTART;TZID=UTC:20240907T130000
DTEND;TZID=UTC:20240907T163000
DTSTAMP:20260420T175511
CREATED:20240827T000240Z
LAST-MODIFIED:20240827T000240Z
UID:10001472-1725714000-1725726600@upbarreview.com
SUMMARY:CJs Glass - Driftwood Sculpture w/ Glass - Marinette
DESCRIPTION:$65Call or msg 608-354-2303 to registerYou will choose a prepared driftwood base with a clear glass circle removable insert. A simple sunset/landscape design will be given\, along with glass mosaic nipping techniques\, to help you build and glue your glass mosaic on the clear glass circle. The prepared driftwood base can also be uniquely decorated with available beach glass\, shells\, feathers\, keys\, or other found objects!Class size 6Ages 12+\nAll driftwood collected on private lands or in tree lines
URL:https://upbarreview.com/event/cjs-glass-driftwood-sculpture-w-glass-marinette/
LOCATION:CJ’s Glass\, 802 Main St\, Marinette\, WI\, 54143
CATEGORIES:Menominee
END:VEVENT
BEGIN:VEVENT
DTSTART;TZID=UTC:20240907T140000
DTEND;TZID=UTC:20240907T170000
DTSTAMP:20260420T175511
CREATED:20240827T024310Z
LAST-MODIFIED:20240827T024310Z
UID:10001614-1725717600-1725728400@upbarreview.com
SUMMARY:The Heritage Inn - Brats for Buddy - Wausaukee
DESCRIPTION:Let’s show our support for Buddy
URL:https://upbarreview.com/event/the-heritage-inn-brats-for-buddy-wausaukee/
LOCATION:The Heritage Inn\, W2505 Co Rd JJ\, Wausaukee\, WI\, 54177
CATEGORIES:Menominee
END:VEVENT
BEGIN:VEVENT
DTSTART;TZID=UTC:20240907T160000
DTEND;TZID=UTC:20240907T180000
DTSTAMP:20260420T175511
CREATED:20240827T004903Z
LAST-MODIFIED:20240827T004903Z
UID:10001492-1725724800-1725732000@upbarreview.com
SUMMARY:Gateway Bar & Grill - Sunny & the Heat - Crivitz
DESCRIPTION:Come enjoy some delicious food and beverages while listening and dancing to some great tunes.
URL:https://upbarreview.com/event/gateway-bar-grill-sunny-the-heat-crivitz/
LOCATION:Gateway Bar & Grill\, 706 N U.S. Hwy 141\, Crivitz\, WI\, 54114
CATEGORIES:Menominee
END:VEVENT
BEGIN:VEVENT
DTSTART;TZID=UTC:20240907T173000
DTEND;TZID=UTC:20240907T193000
DTSTAMP:20260420T175511
CREATED:20240826T234206Z
LAST-MODIFIED:20240826T234206Z
UID:10001463-1725730200-1725737400@upbarreview.com
SUMMARY:Heritage Museum - Night at the Museum - Menominee
DESCRIPTION:Step back into time in this interactive event with historical figures from Menominee’s history! Join us on Saturday\, Sep 7\, from 5:30-7:30 for this interactive event.With help from actors from Theatre on the Bay in Marinette\, WI and the historical society volunteers\, you will learn about the community’s rich history and some of those who lived it themselves while strolling through the museum’s exhibits. If you find all of our historical figures who have come to life\, you can be entered to win a special gift basket.This event is free\, but goodwill donations will be accepted. Raffle tickets will available for purchase for other available baskets. Come join the fun and learn about Menominee’s history! Attendees are encouraged to dress in your historical best!
URL:https://upbarreview.com/event/heritage-museum-night-at-the-museum-menominee/
LOCATION:Menominee Heritage Museum\, 904 11th Ave\, Menominee\, MI\, 49858
CATEGORIES:Menominee
END:VEVENT
BEGIN:VEVENT
DTSTART;TZID=UTC:20240907T180000
DTEND;TZID=UTC:20240907T200000
DTSTAMP:20260420T175511
CREATED:20240827T022723Z
LAST-MODIFIED:20240827T022723Z
UID:10001605-1725732000-1725739200@upbarreview.com
SUMMARY:Badger Park - Go and Glow Scavenger Hunt - Peshtigo
DESCRIPTION:Join us for an evening of glow in the dark fun at the Glow & Go Scavenger Hunt! Bring your friends and family to explore Badger Park while hunting for landmarks\, nature items\, and glow in the dark treasures! There’s a little something for everyone with fun kid’s races\, music\, treats\, and even glow in the dark tattoos! Prizes awarded by age group for hunt completion and race winners. Participants are encouraged to wear glow in the dark or neon-colored clothing to add to the glowing atmosphere. Goodie bags with glow sticks per registrant.\n$10 donation per child.Age groups for races/hunts5 and under6-9 years10-13 yearsRegistration opens at the pavilion at 5:45pmRaces start promptly at 6:30pmScavenger hunt starts at 7:00pm
URL:https://upbarreview.com/event/badger-park-go-and-glow-scavenger-hunt-peshtigo/
LOCATION:Badger Park\, 300 E Park Dr\, Peshtigo\, WI\, 54147
CATEGORIES:Menominee
END:VEVENT
BEGIN:VEVENT
DTSTART;TZID=UTC:20240907T203000
DTEND;TZID=UTC:20240907T223000
DTSTAMP:20260420T175511
CREATED:20240626T183118Z
LAST-MODIFIED:20240728T213120Z
UID:10000768-1725741000-1725748200@upbarreview.com
SUMMARY:The Ruins Adventure Mini Golf - Glow Golf - Oconto
DESCRIPTION:Every Saturday Night @ Dusk! Night golf with colorful lights\, music\, laughter! Get outside with friends and family – or date night! We have premium ice cream\, floats\, beer\, wine and selzers. Great places to sit\, relax and converse after your round. Starts at sunset (changes slightly over time. Ask Siri or Alexa when sunset it). Last game must start one hour before closing. Glow Gear to first 100 golfers! $8.75 includes tax! Do something different with a great vibe! See you Saturday! WEATHER PENDING – UPDATES ON FACEBOOK
URL:https://upbarreview.com/event/the-ruins-adventure-mini-golf-glow-golf-oconto/2024-09-07/
LOCATION:The Ruins Adventure Mini Golf\, 150 Howard Ln\, Oconto\, WI\, 54153
CATEGORIES:Menominee
END:VEVENT
BEGIN:VEVENT
DTSTART;TZID=UTC:20240907T210000
DTEND;TZID=UTC:20240907T233000
DTSTAMP:20260420T175511
CREATED:20240826T231803Z
LAST-MODIFIED:20240826T231803Z
UID:10001454-1725742800-1725751800@upbarreview.com
SUMMARY:Dexters - Mane Event Karaoke - Menominee
DESCRIPTION:Mane Event karaoke!
URL:https://upbarreview.com/event/dexters-mane-event-karaoke-menominee/
LOCATION:Dexters\, 736 10th Ave\, Menominee\, MI\, 49858
CATEGORIES:Menominee
END:VEVENT
BEGIN:VEVENT
DTSTART;TZID=UTC:20240907T210000
DTEND;TZID=UTC:20240907T233000
DTSTAMP:20260420T175511
CREATED:20240827T012904Z
LAST-MODIFIED:20240827T012904Z
UID:10001528-1725742800-1725751800@upbarreview.com
SUMMARY:Four Seasons Island Resort - Govern - Pembine
DESCRIPTION:Join us in Boundary Waters Sports Bar & Grill for the live performance of Govern!\nReforming after 17 years\, Govern plays the classic rock of the 90’s and 2000’s. Bands like Nirvana\, Lit\, Green Day\, Goo Goo Dolls\, Smashing pumpkins\, and more. As well as tributes to local acts of the past 25 years. They are the ideal band to have in the background of your social gatherings
URL:https://upbarreview.com/event/four-seasons-island-resort-govern-pembine-2/2024-09-07/
LOCATION:Four Seasons Island Resort\, 16800 Shoreline Dr\, Pembine\, WI\, 54156\, United States
CATEGORIES:Menominee
END:VEVENT
END:VCALENDAR