BEGIN:VCALENDAR
VERSION:2.0
PRODID:-//UP BAR REVIEW - ECPv6.14.2//NONSGML v1.0//EN
CALSCALE:GREGORIAN
METHOD:PUBLISH
X-WR-CALNAME:UP BAR REVIEW
X-ORIGINAL-URL:https://upbarreview.com
X-WR-CALDESC:Events for UP BAR REVIEW
REFRESH-INTERVAL;VALUE=DURATION:PT1H
X-Robots-Tag:noindex
X-PUBLISHED-TTL:PT1H
BEGIN:VTIMEZONE
TZID:UTC
BEGIN:STANDARD
TZOFFSETFROM:+0000
TZOFFSETTO:+0000
TZNAME:UTC
DTSTART:20240101T000000
END:STANDARD
END:VTIMEZONE
BEGIN:VEVENT
DTSTART;TZID=UTC:20240905T160000
DTEND;TZID=UTC:20240905T190000
DTSTAMP:20260420T175053
CREATED:20240728T210315Z
LAST-MODIFIED:20240728T212459Z
UID:10001239-1725552000-1725562800@upbarreview.com
SUMMARY:Pound Community Farmers Market
DESCRIPTION:Come support our local entrepreneurs as they share their homemade jams\, breads\, cookies\, produce\, crafts\, and more.\nThis event will be held on Thursdays from now through September 26th (except August 8th due to an Ace convention) outside Gusick’s Ace Hardware.\nCheck out the page for updates on the lineup of vendors and food tents/trucks.
URL:https://upbarreview.com/event/pound-community-farmers-market/2024-09-05/
LOCATION:Pound Farmers Market\, 508 Alma St\, Pound\, WI\, 54161-9702
CATEGORIES:Menominee
END:VEVENT
BEGIN:VEVENT
DTSTART;TZID=UTC:20240905T170000
DTEND;TZID=UTC:20240905T183000
DTSTAMP:20260420T175053
CREATED:20240827T023518Z
LAST-MODIFIED:20240827T023518Z
UID:10001610-1725555600-1725561000@upbarreview.com
SUMMARY:Free Epi Pen Training - Peshtigo
DESCRIPTION:Dillon’s Law allows ANY trained individual to carry and administer an epinephrine auto injector without fear of liability.\nAttendees will learn how to recognize a fatal allergic reaction\, locate the nearest Epi-Pen\, how to administer it\, and MUCH more!\nTraining is for Businesses\, Restaurants\, and Individuals.\nScan QR Code to register or call/text: 715-596-1184\nEvent Sponsors are Peshtigo Woman’s Club\, Peshtigo Historical Society\, City of Peshtigo Rec Department\, and Peshtigo Area Chamber of Commerce.
URL:https://upbarreview.com/event/free-epi-pen-training-peshtigo/
LOCATION:Henry Drees Community Center\, 600 Pine st\, Peshtigo\, WI
CATEGORIES:Menominee
END:VEVENT
BEGIN:VEVENT
DTSTART;TZID=UTC:20240905T183000
DTEND;TZID=UTC:20240905T200000
DTSTAMP:20260420T175053
CREATED:20240827T023401Z
LAST-MODIFIED:20240827T023401Z
UID:10001609-1725561000-1725566400@upbarreview.com
SUMMARY:Forgotten Fire Winery - Book Club Meeting - Peshtigo
DESCRIPTION:Fun and relaxing atmosphere with fellow book lovers!Meetings are the 1st Thursday of every month\, and the book to read is voted on during the previous meeting.\nSeptember’s genre selection is- BOOK INTO FILM/SHOW
URL:https://upbarreview.com/event/forgotten-fire-winery-book-club-meeting-peshtigo/
LOCATION:Forgotten Fire Winery\, N2393 Schacht Road\, Marinette\, WI\, 54143\, United States
CATEGORIES:Menominee
END:VEVENT
BEGIN:VEVENT
DTSTART;TZID=UTC:20240905T190000
DTEND;TZID=UTC:20240905T210000
DTSTAMP:20260420T175053
CREATED:20240827T020238Z
LAST-MODIFIED:20240827T020238Z
UID:10001576-1725562800-1725570000@upbarreview.com
SUMMARY:Mos Pub - Family Feud Night - Escanaba
DESCRIPTION: From the (so-called) brains behind Quizmaster Trivia\, Feudmaster is the bar game where players are fighting the clock… and their friends. \n———–\nSPECIALS: $1.50 domestic pints $3 rail mixers $1-off Specialty Burgers $2-off Specialty Pizza\n———-\nPRIZES: $30 gift card $20 gift card $10 gift card\n———-\nGAME PLAY:\n Similar to Family Feud\, the goal is to guess the TOP answer to common survey questions…\n• “An athlete in what sport would be good at a game of Twister?”\n• “If you want to keep the romance ticking\, name something you should NOT have in your bedroom?”\n At the start of the game players are given a white board to write their answers on…\n Players can team up\, or play solo. Either way you’ll be fighting your friends for the top answer\, but you’ll only have 30 seconds to do so…\n———–\n Hold up your whiteboard after the time is up and the host will come around to mark your points.\n Players get 10 points for the top answer and 5 points for the second-top answer.\n———–\n The game is split into 3 rounds of five questions each\, with one Final Feud question at the end\, where players have to come up with five answers.\n Plus\, players will be given two pens for their white boards: a black one and a red one.\n ONCE per round\, teams can use their red pen to answer\, which will double their points for that question if they are correct.
URL:https://upbarreview.com/event/mos-pub-family-feud-night-escanaba/2024-09-05/
LOCATION:Mo’s Pub\, 2116 Ludington St\, Escanaba\, MI\, 49829
CATEGORIES:Menominee
END:VEVENT
BEGIN:VEVENT
DTSTART;TZID=UTC:20240905T190000
DTEND;TZID=UTC:20240905T213000
DTSTAMP:20260420T175053
CREATED:20241001T033333Z
LAST-MODIFIED:20241001T033333Z
UID:10001840-1725562800-1725571800@upbarreview.com
SUMMARY:Moose Lodge - Haunted House - Marinette
DESCRIPTION:The Marinette Moose Lodge #2327 will be holding their 20th annual Haunted House and Haunted Trail. A Four Night event conducted the last weekend (Friday/Saturday) of September (27 & 28) and the first weekend (Friday/Saturday) of October (4 & 5) with the first victims allowed to enter at 7:00 PM and the last going through at 9:15 PM. Victims that survive the Haunted House and Haunted Trail normally take about 90 minutes to complete both the Haunted House and Haunted trail. There is a No Scare “Behind the Scenes” tour on the two Saturdays 9/28 & 10/5) from 5:30 PM to 6:30 PM. The Behind the Scenes Tour is guided\, and only $5.00 for families. During the No Scare\, Behind the Scenes Tour no actors will be scaring during this time\, which allows for scene maintenance. You will still get to see the Haunted House scenes without all the sounds and scaring! Proceeds of the 2024 event will be going to the Marinette/Menominee YMCA and the Machickanee Players. The Haunted House is a guided walk through with up to 32 different themed rooms. This is followed by an unguided Haunted Trail that is over 1500 feet with over 30 haunted scenes. The cost is $15.00\, which includes an R.I.P. pass. This pass allows for $5.00 off all future Moose Lodge Haunted House admissions.
URL:https://upbarreview.com/event/moose-lodge-haunted-house-marinette/2024-09-05/
LOCATION:Marinette Moose Lodge\, N5233 E. Nettleton Road\, Marinette\, WI\, 54143
CATEGORIES:Menominee
END:VEVENT
BEGIN:VEVENT
DTSTART;TZID=UTC:20240905T210000
DTEND;TZID=UTC:20240905T223000
DTSTAMP:20260420T175053
CREATED:20240628T235314Z
LAST-MODIFIED:20240826T231212Z
UID:10001013-1725570000-1725575400@upbarreview.com
SUMMARY:Cusacks - Karaoke - Marinette
DESCRIPTION:Karaoke at Cusaks every thursday 9PM!
URL:https://upbarreview.com/event/cusacks-karaoke-marinette/2024-09-05/
LOCATION:Cusack’s Pub\, 2206 Hall Ave\, Marinette\, WI\, 54143\, United States
CATEGORIES:Menominee
END:VEVENT
END:VCALENDAR