BEGIN:VCALENDAR
VERSION:2.0
PRODID:-//UP BAR REVIEW - ECPv6.14.2//NONSGML v1.0//EN
CALSCALE:GREGORIAN
METHOD:PUBLISH
X-ORIGINAL-URL:https://upbarreview.com
X-WR-CALDESC:Events for UP BAR REVIEW
REFRESH-INTERVAL;VALUE=DURATION:PT1H
X-Robots-Tag:noindex
X-PUBLISHED-TTL:PT1H
BEGIN:VTIMEZONE
TZID:UTC
BEGIN:STANDARD
TZOFFSETFROM:+0000
TZOFFSETTO:+0000
TZNAME:UTC
DTSTART:20240101T000000
END:STANDARD
END:VTIMEZONE
BEGIN:VEVENT
DTSTART;TZID=UTC:20240904T150000
DTEND;TZID=UTC:20240904T180000
DTSTAMP:20260420T175434
CREATED:20240626T145913Z
LAST-MODIFIED:20240728T212922Z
UID:10000562-1725462000-1725472800@upbarreview.com
SUMMARY:Escanaba Farmers Market
DESCRIPTION:The Escanaba Farmers Market runs from 3 to 6 p.m. at the Marketplace on Wednesdays. Catch music from 11:30am-1:30pm beforehand. Come check it out!
URL:https://upbarreview.com/event/escanaba-farmers-market/2024-09-04/
LOCATION:Escanaba Marketplace\, 1501 Ludington St\, Escanaba\, MI\, 49829
CATEGORIES:Menominee
END:VEVENT
BEGIN:VEVENT
DTSTART;TZID=UTC:20240904T180000
DTEND;TZID=UTC:20240904T200000
DTSTAMP:20260420T175434
CREATED:20240827T013654Z
LAST-MODIFIED:20240827T013654Z
UID:10001538-1725472800-1725480000@upbarreview.com
SUMMARY:NSRCC - Scrapbooking Class - Pembine
DESCRIPTION:EVENT DETAILS COMING SOON!
URL:https://upbarreview.com/event/nsrcc-scrapbooking-class-pembine/2024-09-04/
LOCATION:NSRCC\, 17112 US-141\, Pembine\, WI\, 54156
CATEGORIES:Menominee
END:VEVENT
BEGIN:VEVENT
DTSTART;TZID=UTC:20240904T200000
DTEND;TZID=UTC:20240904T220000
DTSTAMP:20260420T175434
CREATED:20240802T135941Z
LAST-MODIFIED:20240802T135941Z
UID:10001429-1725480000-1725487200@upbarreview.com
SUMMARY:House of Ludington - House Band - Escanaba
DESCRIPTION:hear some live music from the House Band at the House of Ludington! Every Wednesday 8-10pm!
URL:https://upbarreview.com/event/house-of-ludington-house-band-escanaba/2024-09-04/
LOCATION:House of Ludington\, 223 Ludington St\, Escanaba\, MI\, 49829
CATEGORIES:Menominee
END:VEVENT
END:VCALENDAR