BEGIN:VCALENDAR
VERSION:2.0
PRODID:-//UP BAR REVIEW - ECPv6.14.2//NONSGML v1.0//EN
CALSCALE:GREGORIAN
METHOD:PUBLISH
X-WR-CALNAME:UP BAR REVIEW
X-ORIGINAL-URL:https://upbarreview.com
X-WR-CALDESC:Events for UP BAR REVIEW
REFRESH-INTERVAL;VALUE=DURATION:PT1H
X-Robots-Tag:noindex
X-PUBLISHED-TTL:PT1H
BEGIN:VTIMEZONE
TZID:UTC
BEGIN:STANDARD
TZOFFSETFROM:+0000
TZOFFSETTO:+0000
TZNAME:UTC
DTSTART:20240101T000000
END:STANDARD
END:VTIMEZONE
BEGIN:VEVENT
DTSTART;TZID=UTC:20240829T060000
DTEND;TZID=UTC:20240829T080000
DTSTAMP:20260420T175012
CREATED:20240827T001704Z
LAST-MODIFIED:20240827T001704Z
UID:10001480-1724911200-1724918400@upbarreview.com
SUMMARY:Marinette Machine LLC - Highschool Brats for Breakfast
DESCRIPTION:Kick off your morning with something solid at our “Brats For Breakfast” Cookout at Marinette Machine. This is more than just good food—it’s a chance to back the Menominee High School Career and Technical Education Program. Every brat you enjoy helps push our local students toward a stronger future in the trades. Stop by\, grab a brat\, and see what we’re building here at Marinette Machine. It’s straightforward: good food\, good cause\, and a good time. ​\nLet’s get to work!​
URL:https://upbarreview.com/event/marinette-machine-llc-highschool-brats-for-breakfast/
LOCATION:Marinette Machine LLC\, 3210 Hall Ave\, Marinette\, WI\, 54143
CATEGORIES:Menominee
END:VEVENT
BEGIN:VEVENT
DTSTART;TZID=UTC:20240829T160000
DTEND;TZID=UTC:20240829T190000
DTSTAMP:20260420T175012
CREATED:20240728T210315Z
LAST-MODIFIED:20240728T212459Z
UID:10001238-1724947200-1724958000@upbarreview.com
SUMMARY:Pound Community Farmers Market
DESCRIPTION:Come support our local entrepreneurs as they share their homemade jams\, breads\, cookies\, produce\, crafts\, and more.\nThis event will be held on Thursdays from now through September 26th (except August 8th due to an Ace convention) outside Gusick’s Ace Hardware.\nCheck out the page for updates on the lineup of vendors and food tents/trucks.
URL:https://upbarreview.com/event/pound-community-farmers-market/2024-08-29/
LOCATION:Pound Farmers Market\, 508 Alma St\, Pound\, WI\, 54161-9702
CATEGORIES:Menominee
END:VEVENT
BEGIN:VEVENT
DTSTART;TZID=UTC:20240829T180000
DTEND;TZID=UTC:20240829T193000
DTSTAMP:20260420T175012
CREATED:20240530T182648Z
LAST-MODIFIED:20240530T182648Z
UID:10000306-1724954400-1724959800@upbarreview.com
SUMMARY:Goodman - Music In The Square
DESCRIPTION:Music in the Square\nOn the lawn in front of the Goodman Historical Society Building\nThursday Evenings June-August
URL:https://upbarreview.com/event/goodman-music-in-the-square-3/
LOCATION:Goodman Historical Society\, W1604 Twin Lake Rd\, Goodman\, WI\, 54125
CATEGORIES:Menominee
END:VEVENT
BEGIN:VEVENT
DTSTART;TZID=UTC:20240829T180000
DTEND;TZID=UTC:20240829T200000
DTSTAMP:20260420T175012
CREATED:20240530T175051Z
LAST-MODIFIED:20240530T175051Z
UID:10000206-1724954400-1724961600@upbarreview.com
SUMMARY:Spirit House - Trivia Night!
DESCRIPTION:Join us for some trivia fun at Spirit House Thursdays 6pm – 8pm.\n\n\nFood: Bring your own OR Food Trucks are always on site!\n\n\nShow up and register your team before 6pm\, it’s free to play! We fill fast so arrive early to reserve your spot!\nNo phones or outside sources\, only those on your team can contribute.\nIncrease your collective brainpower by adding up to 6 team members (must be 21+)\nPrizes available for \n\n\nStruggling to find a team? Show up anyway and we’ll help connect you with others.\n\n\nIt’s free\, it’s fun…why not try something new?\n\n\n#trivianight #marinettemenominee #distillery
URL:https://upbarreview.com/event/spirit-house-trivia-night-14/
LOCATION:Spirit House\, 533 10th Ave\, Menominee\, MI 49858\, Menominee\, MI\, 49858\, United States
CATEGORIES:Menominee
END:VEVENT
BEGIN:VEVENT
DTSTART;TZID=UTC:20240829T190000
DTEND;TZID=UTC:20240829T210000
DTSTAMP:20260420T175012
CREATED:20240827T000346Z
LAST-MODIFIED:20240827T000346Z
UID:10001473-1724958000-1724965200@upbarreview.com
SUMMARY:R&S Saloon - Throwback Thursday - Marinette
DESCRIPTION:Join us Thursday!!! $15 all you can drink Busch Light and Bud Light on tap\, $5 Rail Rum Doubles\, $5 Saddle Punch and $4 Smores Shots.DJ AJ in the house playing all your favorite music.
URL:https://upbarreview.com/event/rs-saloon-throwback-thursday-marinette/
LOCATION:R&S Saddle Saloon\, 1719 Main St.\, Marinette\, MI\, 54143\, United States
CATEGORIES:Menominee
END:VEVENT
BEGIN:VEVENT
DTSTART;TZID=UTC:20240829T190000
DTEND;TZID=UTC:20240829T210000
DTSTAMP:20260420T175012
CREATED:20240827T020238Z
LAST-MODIFIED:20240827T020238Z
UID:10001575-1724958000-1724965200@upbarreview.com
SUMMARY:Mos Pub - Family Feud Night - Escanaba
DESCRIPTION: From the (so-called) brains behind Quizmaster Trivia\, Feudmaster is the bar game where players are fighting the clock… and their friends. \n———–\nSPECIALS: $1.50 domestic pints $3 rail mixers $1-off Specialty Burgers $2-off Specialty Pizza\n———-\nPRIZES: $30 gift card $20 gift card $10 gift card\n———-\nGAME PLAY:\n Similar to Family Feud\, the goal is to guess the TOP answer to common survey questions…\n• “An athlete in what sport would be good at a game of Twister?”\n• “If you want to keep the romance ticking\, name something you should NOT have in your bedroom?”\n At the start of the game players are given a white board to write their answers on…\n Players can team up\, or play solo. Either way you’ll be fighting your friends for the top answer\, but you’ll only have 30 seconds to do so…\n———–\n Hold up your whiteboard after the time is up and the host will come around to mark your points.\n Players get 10 points for the top answer and 5 points for the second-top answer.\n———–\n The game is split into 3 rounds of five questions each\, with one Final Feud question at the end\, where players have to come up with five answers.\n Plus\, players will be given two pens for their white boards: a black one and a red one.\n ONCE per round\, teams can use their red pen to answer\, which will double their points for that question if they are correct.
URL:https://upbarreview.com/event/mos-pub-family-feud-night-escanaba/2024-08-29/
LOCATION:Mo’s Pub\, 2116 Ludington St\, Escanaba\, MI\, 49829
CATEGORIES:Menominee
END:VEVENT
BEGIN:VEVENT
DTSTART;TZID=UTC:20240829T210000
DTEND;TZID=UTC:20240829T223000
DTSTAMP:20260420T175012
CREATED:20240628T235314Z
LAST-MODIFIED:20240826T231212Z
UID:10001012-1724965200-1724970600@upbarreview.com
SUMMARY:Cusacks - Karaoke - Marinette
DESCRIPTION:Karaoke at Cusaks every thursday 9PM!
URL:https://upbarreview.com/event/cusacks-karaoke-marinette/2024-08-29/
LOCATION:Cusack’s Pub\, 2206 Hall Ave\, Marinette\, WI\, 54143\, United States
CATEGORIES:Menominee
END:VEVENT
END:VCALENDAR