BEGIN:VCALENDAR
VERSION:2.0
PRODID:-//UP BAR REVIEW - ECPv6.14.2//NONSGML v1.0//EN
CALSCALE:GREGORIAN
METHOD:PUBLISH
X-WR-CALNAME:UP BAR REVIEW
X-ORIGINAL-URL:https://upbarreview.com
X-WR-CALDESC:Events for UP BAR REVIEW
REFRESH-INTERVAL;VALUE=DURATION:PT1H
X-Robots-Tag:noindex
X-PUBLISHED-TTL:PT1H
BEGIN:VTIMEZONE
TZID:UTC
BEGIN:STANDARD
TZOFFSETFROM:+0000
TZOFFSETTO:+0000
TZNAME:UTC
DTSTART:20240101T000000
END:STANDARD
END:VTIMEZONE
BEGIN:VEVENT
DTSTART;TZID=UTC:20240828T150000
DTEND;TZID=UTC:20240828T180000
DTSTAMP:20260420T175010
CREATED:20240626T145913Z
LAST-MODIFIED:20240728T212922Z
UID:10000561-1724857200-1724868000@upbarreview.com
SUMMARY:Escanaba Farmers Market
DESCRIPTION:The Escanaba Farmers Market runs from 3 to 6 p.m. at the Marketplace on Wednesdays. Catch music from 11:30am-1:30pm beforehand. Come check it out!
URL:https://upbarreview.com/event/escanaba-farmers-market/2024-08-28/
LOCATION:Escanaba Marketplace\, 1501 Ludington St\, Escanaba\, MI\, 49829
CATEGORIES:Menominee
END:VEVENT
BEGIN:VEVENT
DTSTART;TZID=UTC:20240828T160000
DTEND;TZID=UTC:20240828T190000
DTSTAMP:20260420T175010
CREATED:20240827T020836Z
LAST-MODIFIED:20240827T020836Z
UID:10001596-1724860800-1724871600@upbarreview.com
SUMMARY:Club Cruise > Ford River Pub - Escanaba
DESCRIPTION:** If you’re planning to attend but possibly running later than the scheduled time just let an attending member know so we can save space and adjust accordingly. **
URL:https://upbarreview.com/event/club-cruise-ford-river-pub-escanaba/
LOCATION:Ford River Pub & Grill\, E4560 M35\, Escanaba\, MI
CATEGORIES:Menominee
END:VEVENT
BEGIN:VEVENT
DTSTART;TZID=UTC:20240828T170000
DTEND;TZID=UTC:20240828T200000
DTSTAMP:20260420T175010
CREATED:20240827T003105Z
LAST-MODIFIED:20240827T003105Z
UID:10001485-1724864400-1724875200@upbarreview.com
SUMMARY:On a Whim - Wine Down Wednesday - Crivitz
DESCRIPTION:With the fall weather upon us\, we will feature a soup and wine sampling event. Samples of 4 different soups (1 new cold soup) and 2 samples of wine. Each soup sample will be 4 oz. One Italian Red and one French White wine will be poured once again from our friends at On A Whim (always a blast). There is no advance sign up for this event. We will begin serving at 5pm and go until supplies run out or 8PM. The cost for the combo is $22. Soup only will be $10. Additional servings may be available for purchase. A raffle ticket will be given with each sample of soups or 2 tickets for the combo soup/wine. Come and lets give summer a kick in the pants and get this soup season started.
URL:https://upbarreview.com/event/on-a-whim-wine-down-wednesday-crivitz/
LOCATION:On a Whim\, 907 N U.S. Hwy 141\, Crivitz\, WI\, 54114
CATEGORIES:Menominee
END:VEVENT
BEGIN:VEVENT
DTSTART;TZID=UTC:20240828T173000
DTEND;TZID=UTC:20240828T190000
DTSTAMP:20260420T175010
CREATED:20240826T234011Z
LAST-MODIFIED:20240826T234011Z
UID:10001462-1724866200-1724871600@upbarreview.com
SUMMARY:McCrafties - Free Crochet Club - Menominee
DESCRIPTION:Unleash your inner crafter and join our free crochet club! Learn new stitches\, share tips\, and create beautiful handmade items in a friendly and supportive environment. Whether you’re a seasoned pro or just starting out\, everyone is welcome. Grab your hook and yarn\, and let’s stitch together!\nWe don’t offer formal instruction\, but you’ll find plenty of opportunities to learn from others\, exchange tips\, and work on your projects together. It’s a chance to socialize\, get inspired\, and make new friends while indulging in your love for crochet.\nPlease let us know if you are coming as space is limited.715-540-5959
URL:https://upbarreview.com/event/mccrafties-free-crochet-club-menominee/
LOCATION:McCrafties\, 625 1st St\, Menominee\, MI\, 49858\, United States
CATEGORIES:Menominee
END:VEVENT
BEGIN:VEVENT
DTSTART;TZID=UTC:20240828T180000
DTEND;TZID=UTC:20240828T200000
DTSTAMP:20260420T175010
CREATED:20240827T022246Z
LAST-MODIFIED:20240827T022246Z
UID:10001602-1724868000-1724875200@upbarreview.com
SUMMARY:Badger Park - Neon Detour - Peshtigo
DESCRIPTION:We’ve added one more performance to complete our summer concert series!
URL:https://upbarreview.com/event/badger-park-neon-detour-peshtigo/
LOCATION:Badger Park\, 300 E Park Dr\, Peshtigo\, WI\, 54147
CATEGORIES:Menominee
END:VEVENT
BEGIN:VEVENT
DTSTART;TZID=UTC:20240828T190000
DTEND;TZID=UTC:20240828T210000
DTSTAMP:20260420T175010
CREATED:20240728T190934Z
LAST-MODIFIED:20240728T190934Z
UID:10001130-1724871600-1724878800@upbarreview.com
SUMMARY:Stephenson Township - The Silver Cream Band - Stephenson
DESCRIPTION:More details coming soon! 7pm – 8:30pm show
URL:https://upbarreview.com/event/stephenson-township-the-silver-cream-band-stephenson/
LOCATION:Stephenson Township\, 4382 Eli Rd\, Stephenson\, MI\, 49887
CATEGORIES:Menominee
END:VEVENT
BEGIN:VEVENT
DTSTART;TZID=UTC:20240828T200000
DTEND;TZID=UTC:20240828T220000
DTSTAMP:20260420T175010
CREATED:20240802T135941Z
LAST-MODIFIED:20240802T135941Z
UID:10001428-1724875200-1724882400@upbarreview.com
SUMMARY:House of Ludington - House Band - Escanaba
DESCRIPTION:hear some live music from the House Band at the House of Ludington! Every Wednesday 8-10pm!
URL:https://upbarreview.com/event/house-of-ludington-house-band-escanaba/2024-08-28/
LOCATION:House of Ludington\, 223 Ludington St\, Escanaba\, MI\, 49829
CATEGORIES:Menominee
END:VEVENT
END:VCALENDAR