BEGIN:VCALENDAR
VERSION:2.0
PRODID:-//UP BAR REVIEW - ECPv6.14.2//NONSGML v1.0//EN
CALSCALE:GREGORIAN
METHOD:PUBLISH
X-ORIGINAL-URL:https://upbarreview.com
X-WR-CALDESC:Events for UP BAR REVIEW
REFRESH-INTERVAL;VALUE=DURATION:PT1H
X-Robots-Tag:noindex
X-PUBLISHED-TTL:PT1H
BEGIN:VTIMEZONE
TZID:UTC
BEGIN:STANDARD
TZOFFSETFROM:+0000
TZOFFSETTO:+0000
TZNAME:UTC
DTSTART:20240101T000000
END:STANDARD
END:VTIMEZONE
BEGIN:VEVENT
DTSTART;TZID=UTC:20240825T080000
DTEND;TZID=UTC:20240825T170000
DTSTAMP:20260420T192859
CREATED:20240628T212447Z
LAST-MODIFIED:20240628T212447Z
UID:10000998-1724572800-1724605200@upbarreview.com
SUMMARY:Ironworks - Sunday Funday Live Music - Marinette
DESCRIPTION:Check it out! Live Music this Sunday at IRONWORKS! We have music every Sunday!
URL:https://upbarreview.com/event/ironworks-sunday-funday-live-music-marinette/2024-08-25/
LOCATION:Ironworks\, 1333 Main St.\, Marinette\, WI\, 54143\, United States
CATEGORIES:Menominee
END:VEVENT
BEGIN:VEVENT
DTSTART;TZID=UTC:20240825T080000
DTEND;TZID=UTC:20240825T170000
DTSTAMP:20260420T192859
CREATED:20240728T211616Z
LAST-MODIFIED:20240728T211616Z
UID:10001299-1724572800-1724605200@upbarreview.com
SUMMARY:Shawano Flea Market
DESCRIPTION:54th YEAR!!! Every Sunday April 28 thru October 6\, 2024. Except Labor Day weekend.\nSpecial Holiday Markets:Saturday May 25 & Sunday May 26+ Saturday July 6 and Sunday July 7\nShawano Flea Market car show Sunday October 6\, 2024!\nAntiques\, Collectibles\, Crafts\, Vintage\, Mid Century Modern\, Gardening\, New & Old\, Advertising\, Old Toys\, & More\n7am to 4pm / $2 admission. Kids 12 and under free with adult.Early buyer admission before 7am: $10Tickets available at the event. Free parkingOpen-Air Market. Weather permitting.\nNew vendors welcome! Call for details.\nShawano County Fairgrounds990 E Green Bay St\, Shawano\, WI 54166Information: 715-526-9769Zurko Promotions
URL:https://upbarreview.com/event/shawano-flea-market/2024-08-25/
LOCATION:Shawano County Fairgrounds\, 990 E Green Bay St\, Shawano\, WI\, 54166
CATEGORIES:Menominee
END:VEVENT
BEGIN:VEVENT
DTSTART;TZID=UTC:20240825T120000
DTEND;TZID=UTC:20240825T150000
DTSTAMP:20260420T192859
CREATED:20240814T205235Z
LAST-MODIFIED:20240814T205335Z
UID:10001440-1724587200-1724598000@upbarreview.com
SUMMARY:Embers 1871 - BINGO - Peshtigo
DESCRIPTION:Bingo with Signature Homestyles at Embers 1871! Sunday August 25th at 12:00-?? Cost is $15.00. That $15.00 includes pizza and 2 bingo cards.-When you place an order -You can EARN AN EXTRA BINGO CARD FOR EVERY $20 YOU ORDER\, INCLUDING OUTSIDE ORDERS THAT YOU BRING WITH YOU. A hostess who shows up with orders of her friends who couldn’t attend will earn quite a few BINGO cards.– Purchase extra bingo cards for $5 each.-The bar will be open for guests. Drinks aren’t included in admission.-$50 drawing to anyone who brings 3 ADULT guests who weren’t originally invited.– We will have cash and carry items.-A drawing for everyone who books a HOME party.-Free shipping on the kit for any new rep who joins our team.– Mail or Venmo Tara your $15 before the event to get an extra card for free at Bingo. Must have 25 people paid to hold the event.Location W-3529 County Rd B Peshtigo\, WILook here to see the merchandise they offer.  https://signaturehomestyles.biz/parties/548216
URL:https://upbarreview.com/event/embers-1871-bingo-pehstigo/
LOCATION:MI
CATEGORIES:Menominee
END:VEVENT
BEGIN:VEVENT
DTSTART;TZID=UTC:20240825T140000
DTEND;TZID=UTC:20240825T180000
DTSTAMP:20260420T192859
CREATED:20240719T180709Z
LAST-MODIFIED:20240728T213207Z
UID:10001041-1724594400-1724608800@upbarreview.com
SUMMARY:Loopy's in Loomis - Sunday Funday
DESCRIPTION:Live music\, drink deals\, and specials for sunday funday at loopys!!
URL:https://upbarreview.com/event/loopys-in-loomis-sunday-funday/2024-08-25/
LOCATION:Loopy’s Bar & Grill\, Loomis Rd\, Porterfield\, WI\, 54159
CATEGORIES:Menominee
END:VEVENT
BEGIN:VEVENT
DTSTART;TZID=UTC:20240825T170000
DTEND;TZID=UTC:20240825T210000
DTSTAMP:20260420T192859
CREATED:20240729T160114Z
LAST-MODIFIED:20240729T160114Z
UID:10001401-1724605200-1724619600@upbarreview.com
SUMMARY:Upper Hand Brewery - Live Music - Escanaba
DESCRIPTION:
URL:https://upbarreview.com/event/upper-hand-brewery-live-music-escanaba/2024-08-25/
LOCATION:Upper Hand Brewery\, 3525 Airport Rd\, Escanaba\, WI\, 49829
CATEGORIES:Menominee
END:VEVENT
BEGIN:VEVENT
DTSTART;TZID=UTC:20240825T180000
DTEND;TZID=UTC:20240825T200000
DTSTAMP:20260420T192859
CREATED:20240827T013502Z
LAST-MODIFIED:20240827T013516Z
UID:10001534-1724608800-1724616000@upbarreview.com
SUMMARY:NSRCC - Card Making Class- Pembine
DESCRIPTION:EVENT DETAILS COMING SOON!
URL:https://upbarreview.com/event/nsrcc-card-making-cladd-pembine/2024-08-25/
LOCATION:NSRCC\, 17112 US-141\, Pembine\, WI\, 54156
CATEGORIES:Menominee
END:VEVENT
BEGIN:VEVENT
DTSTART;TZID=UTC:20240825T190000
DTEND;TZID=UTC:20240825T210000
DTSTAMP:20260420T192859
CREATED:20240626T182350Z
LAST-MODIFIED:20240626T182350Z
UID:10000754-1724612400-1724619600@upbarreview.com
SUMMARY:Loopy's Bar & Grill - Smoke Road - Crivitz
DESCRIPTION:Enjoy some great music!!
URL:https://upbarreview.com/event/loopys-bar-grill-smoke-road-crivitz/2024-08-25/
LOCATION:Loopy’s Bar & Grill\, Loomis Rd\, Porterfield\, WI\, 54159
CATEGORIES:Menominee
END:VEVENT
END:VCALENDAR