BEGIN:VCALENDAR
VERSION:2.0
PRODID:-//UP BAR REVIEW - ECPv6.14.2//NONSGML v1.0//EN
CALSCALE:GREGORIAN
METHOD:PUBLISH
X-ORIGINAL-URL:https://upbarreview.com
X-WR-CALDESC:Events for UP BAR REVIEW
REFRESH-INTERVAL;VALUE=DURATION:PT1H
X-Robots-Tag:noindex
X-PUBLISHED-TTL:PT1H
BEGIN:VTIMEZONE
TZID:UTC
BEGIN:STANDARD
TZOFFSETFROM:+0000
TZOFFSETTO:+0000
TZNAME:UTC
DTSTART:20240101T000000
END:STANDARD
END:VTIMEZONE
BEGIN:VEVENT
DTSTART;VALUE=DATE:20240822
DTEND;VALUE=DATE:20240825
DTSTAMP:20260420T192859
CREATED:20240729T163349Z
LAST-MODIFIED:20240729T163534Z
UID:10001420-1724284800-1724543999@upbarreview.com
SUMMARY:Marinette County Fair
DESCRIPTION:PDF with event schedule on link below: \nhttps://www.exploremarinettecounty.com/events/events-calendar/2024-08/marinette-county-fair-2024-08-22/?view=c
URL:https://upbarreview.com/event/marinette-county-fair/
LOCATION:Marinette County Fairgrounds\, 100 Fairgrounds Road\, Wausaukee\, WI\, 54177
CATEGORIES:Menominee
END:VEVENT
BEGIN:VEVENT
DTSTART;TZID=UTC:20240823T100000
DTEND;TZID=UTC:20240823T130000
DTSTAMP:20260420T192859
CREATED:20240626T153751Z
LAST-MODIFIED:20240626T153751Z
UID:10000649-1724407200-1724418000@upbarreview.com
SUMMARY:Farmers Market - Wausaukee
DESCRIPTION:Weekly Farmers Market! Free vendor spots! Garden produce\, honey & jams\, flowers\, homemade crafts\, breads & pies!
URL:https://upbarreview.com/event/farmers-market-wausaukee/2024-08-23/
LOCATION:Wausaukee Farmers Market\, 536 Kenny Dr\, Wausaukee\, WI\, 54177
CATEGORIES:Menominee
END:VEVENT
BEGIN:VEVENT
DTSTART;TZID=UTC:20240823T110000
DTEND;TZID=UTC:20240823T160000
DTSTAMP:20260420T192859
CREATED:20240626T150822Z
LAST-MODIFIED:20240626T150822Z
UID:10000622-1724410800-1724428800@upbarreview.com
SUMMARY:Escanaba Pop-Up Market
DESCRIPTION:The Escanaba Pop-UP Market will begin a new season on Friday\, June 14 at the Escanaba Marketplace. It’s an opportunity for vendors to sell their products and shoppers to enjoy a unique open-air market.\nSeveral vendors will be at the Pop-UP Market from 11 a.m. to 4 p.m.\nPop-up markets are temporary retail space typically used to introduce a new product\, gauge consumer interest or generate awareness for a product or cause.\nThe Escanaba Marketplace is located at 1501 Ludington Street. The Pop-UP Market is in addition to the Escanaba Farmers Market that is already underway this season. The Escanaba Farmers Market runs on Wednesdays from 3 to 6 p.m. and Saturdays from 9 a.m. to noon.
URL:https://upbarreview.com/event/escanaba-pop-up-market/2024-08-23/
LOCATION:Escanaba Marketplace\, 1501 Ludington St\, Escanaba\, MI\, 49829
CATEGORIES:Menominee
END:VEVENT
BEGIN:VEVENT
DTSTART;TZID=UTC:20240823T180000
DTEND;TZID=UTC:20240823T210000
DTSTAMP:20260420T192859
CREATED:20240728T175435Z
LAST-MODIFIED:20240728T175435Z
UID:10001117-1724436000-1724446800@upbarreview.com
SUMMARY:Four Seasons Island Resort - Safe Sax - Pembine
DESCRIPTION:Safe Sax in the Lounge Bar from 6:00 PM – 9:00 PM!\nMichael Prusinsky is a celebrated vocalist and saxophone player with a career in live music and music education spanning 30+ years. Michael’s soulful energy reaches his audience with a positive and warm vibe. Despite having performed with such seasoned artists over the years as Kostia Efimov\, Lyle Mays\, Seals & Croft\, Charlie Daniels\, Gabriel Sanchez and the Prince Experience\, Project Pink\, just to name a few…Michael remains true to his rural roots and claims that his 25 years teaching music to young people brings him the most joy of his career.
URL:https://upbarreview.com/event/four-seasons-island-resort-safe-sax-pembine/2024-08-23/
LOCATION:Four Seasons Island Resort\, 16800 Shoreline Dr\, Pembine\, WI\, 54156\, United States
CATEGORIES:Menominee
END:VEVENT
BEGIN:VEVENT
DTSTART;TZID=UTC:20240823T190000
DTEND;TZID=UTC:20240823T210000
DTSTAMP:20260420T192859
CREATED:20240729T164049Z
LAST-MODIFIED:20240729T164049Z
UID:10001423-1724439600-1724446800@upbarreview.com
SUMMARY:Wild Rice Concets - Celtic & World Music & Dance Concert - Marinette
DESCRIPTION:Four Shillings Short are joined by Anindita Neogy Anaam for a wonderful collaboration of Celtic and World Music & Dance.\nFour Shillings Short play Traditional & Original music from the Celtic Lands\, Medieval & Renaissance Europe\, India and the Americas on a fantastic collection of world instruments: Hammered & Mountain dulcimer\, Mandolins\, Renaissance Woodwinds\, North Indian Sitar\, Recorders & Tinwhistles\, Banjo\, Guitar\, Charango\, Psaltery\, percussion\, vocals & even a Krumhorn. \nAnindita Neogy Anaam is an Internationally Acclaimed dancer\, teacher and leading exponent of the Kathak dance from India. Her dance is a blend of both the schools of Kathak and is a powerful combination of grace and charm\, focusing more on movement and geometry aspect of Kathak dance. Anindita is a disciple of doyens of Jaipur and Lucknow schools of Kathak\, Pandit Rajendra Gangani and Pandit Jai Kishan Maharaj. In addition\, she is the artistic director of SARGAM School of Music and Dance based in Delhi NCR India. Presently\, she is running dance coaching operations from the state of Wisconsin USA and is the first Indian Classical Dancer to be chosen as Secretary\, Wisconsin Dance Council Board
URL:https://upbarreview.com/event/wild-rice-concets-celtic-world-music-dance-concert-marinette/
LOCATION:Wild Rice Concets\, 2411 Riverside Ave\, Marinette\, WI\, 54143
CATEGORIES:Menominee
END:VEVENT
END:VCALENDAR