BEGIN:VCALENDAR
VERSION:2.0
PRODID:-//UP BAR REVIEW - ECPv6.14.2//NONSGML v1.0//EN
CALSCALE:GREGORIAN
METHOD:PUBLISH
X-ORIGINAL-URL:https://upbarreview.com
X-WR-CALDESC:Events for UP BAR REVIEW
REFRESH-INTERVAL;VALUE=DURATION:PT1H
X-Robots-Tag:noindex
X-PUBLISHED-TTL:PT1H
BEGIN:VTIMEZONE
TZID:UTC
BEGIN:STANDARD
TZOFFSETFROM:+0000
TZOFFSETTO:+0000
TZNAME:UTC
DTSTART:20240101T000000
END:STANDARD
END:VTIMEZONE
BEGIN:VEVENT
DTSTART;TZID=UTC:20240820T113000
DTEND;TZID=UTC:20240820T180000
DTSTAMP:20260420T193554
CREATED:20240729T163045Z
LAST-MODIFIED:20240729T163045Z
UID:10001419-1724153400-1724176800@upbarreview.com
SUMMARY:Little River Country Club - 19th Annual Pure Fun Golf Outing - Marinette
DESCRIPTION:Tuesday\, August 20\, 2024\nAnnual Chamber “Pure Fun” Golf Outing\nat Little River Country Club
URL:https://upbarreview.com/event/little-river-country-club-19th-annual-pure-fun-golf-outing-marinette/
LOCATION:Little River Country Club\, N2235 Shore Dr\, Marinette\, WI\, 54143
CATEGORIES:Menominee
END:VEVENT
BEGIN:VEVENT
DTSTART;TZID=UTC:20240820T170000
DTEND;TZID=UTC:20240820T200000
DTSTAMP:20260420T193554
CREATED:20240729T160114Z
LAST-MODIFIED:20240729T160114Z
UID:10001400-1724173200-1724184000@upbarreview.com
SUMMARY:Upper Hand Brewery - Live Music - Escanaba
DESCRIPTION:
URL:https://upbarreview.com/event/upper-hand-brewery-live-music-escanaba/2024-08-20/
LOCATION:Upper Hand Brewery\, 3525 Airport Rd\, Escanaba\, WI\, 49829
CATEGORIES:Menominee
END:VEVENT
END:VCALENDAR