BEGIN:VCALENDAR
VERSION:2.0
PRODID:-//UP BAR REVIEW - ECPv6.14.2//NONSGML v1.0//EN
CALSCALE:GREGORIAN
METHOD:PUBLISH
X-ORIGINAL-URL:https://upbarreview.com
X-WR-CALDESC:Events for UP BAR REVIEW
REFRESH-INTERVAL;VALUE=DURATION:PT1H
X-Robots-Tag:noindex
X-PUBLISHED-TTL:PT1H
BEGIN:VTIMEZONE
TZID:UTC
BEGIN:STANDARD
TZOFFSETFROM:+0000
TZOFFSETTO:+0000
TZNAME:UTC
DTSTART:20240101T000000
END:STANDARD
END:VTIMEZONE
BEGIN:VEVENT
DTSTART;TZID=UTC:20240812T090000
DTEND;TZID=UTC:20240818T223000
DTSTAMP:20260420T192913
CREATED:20240814T210354Z
LAST-MODIFIED:20240814T210354Z
UID:10001442-1723453200-1724020200@upbarreview.com
SUMMARY:UP STATE FAIR
DESCRIPTION:This fair is held annually in August. Since 2010\, the UP State Fair has been operating independently of State funding and our emergence as Michigan’s only State Fair. \nThe fair is now governed by the Upper Peninsula State Fair Authority with representatives from all fifteen counties in the Upper Peninsula and the Hannahville Indian Community. \nSince 1928\, the Upper Peninsula State Fair has provided a place for folks from across the nation to experience and celebrate the unique culture and heritage of Michigan’s Upper Peninsula. The “Fair” remains as unique and wonderful as the people and places found across this marvelous peninsula. \nNowhere is the slogan “Pure Michigan” more suitable than in Escanaba during the annual Upper Peninsula State Fair. Come experience “Pure Fun\, Pure Goodness\, and Pure Michigan” at the Upper Peninsula State Fair – this year and every year! \n  \nSCHEDULE IS IN WEBSITE LINK
URL:https://upbarreview.com/event/up-state-fair/
LOCATION:Upper Peninsula State Fairgrounds\, 2401 12th Avenue North\, Escanaba\, MI\, 49829
CATEGORIES:Menominee
END:VEVENT
BEGIN:VEVENT
DTSTART;TZID=UTC:20240812T160000
DTEND;TZID=UTC:20240812T180000
DTSTAMP:20260420T192913
CREATED:20240728T193417Z
LAST-MODIFIED:20240728T193417Z
UID:10001137-1723478400-1723485600@upbarreview.com
SUMMARY:McCrafties - Let it Glow Lightning Bug - Menominee
DESCRIPTION:Lets glow\, as summer begins to wane lets keep the spirit alive with this glow in the dark painting. Backyards\, bonfires\, and memories all in one. Let’s Glow – Lightning Bug is a fun beginner friendly class. This glowing painting is a fun class meant for people 10 years and older.\nThis class is 10 and over.\n*We will provide the stencil for the lightning bug or free hand it!*\nPAYMENT IN ADVANCE OF $25 IS REQUIRED. Please call 715-440-5959 or stop in to pay.\nAll skill levels are welcome.\nThe canvas is 12” x 12″ and we provide all the necessary supplies.\nWe look forward to painting with you.\nCLASS REFUND POLICY:\n-full in studio credit if cancellation is 1 week prior to the class-50% in studio credit up to 24 hours prior to class.-less than 24 hours notice\, no credit-NO SHOW/ NO CALL/NO CREDIT
URL:https://upbarreview.com/event/mccrafties-let-it-glow-lightning-bug-menominee/
LOCATION:McCrafties\, 625 1st St\, Menominee\, MI\, 49858\, United States
CATEGORIES:Menominee
END:VEVENT
BEGIN:VEVENT
DTSTART;TZID=UTC:20240812T170000
DTEND;TZID=UTC:20240812T200000
DTSTAMP:20260420T192913
CREATED:20240728T173420Z
LAST-MODIFIED:20240728T173420Z
UID:10001100-1723482000-1723492800@upbarreview.com
SUMMARY:Spirit House - Free Mac Monday - Menominee
DESCRIPTION:Our first Free Mac Monday was a huge hit so we asked The Windjammer Marinette if they’d partner with us EVERY Monday!\nPurchase any 2 regular priced cocktails or mocktails and receive a delicious bowl of Windjammer Mac ‘N Cheese for FREE.\n\n\nNote: Offer cannot be combined with other discounts or tokens. Please order 2 drinks together for Mac. $14 minimum purchase required.
URL:https://upbarreview.com/event/spirit-house-free-mac-monday-menominee/2024-08-12/
LOCATION:Spirit House\, 533 10th Ave\, Menominee\, MI 49858\, Menominee\, MI\, 49858\, United States
CATEGORIES:Menominee
END:VEVENT
BEGIN:VEVENT
DTSTART;TZID=UTC:20240812T170000
DTEND;TZID=UTC:20240812T200000
DTSTAMP:20260420T192913
CREATED:20240728T205228Z
LAST-MODIFIED:20240728T205228Z
UID:10001167-1723482000-1723492800@upbarreview.com
SUMMARY:Judy Bloom Studio - Beginner Acrylic Painting - Crivitz
DESCRIPTION:Have you ever wanted to learn acrylic painting? Come join artist Judy Bloom at Crivitz Village Hall as she guides you with step by step instructions to create your own work of art. This class is for beginners and all skill levels. You will leave class with a finished 11×14″ canvas\, ready for framing. Price is $40. and includes all materials. Payment is cash or check due at class event. Call Judy Bloom 931-787-6559 to register and reserve your spot. Drinks and snacks welcome.
URL:https://upbarreview.com/event/judy-bloom-studio-beginner-acrylic-painting-crivitz/
LOCATION:Judy Bloom Studio\, 800 Henriette Ave\, Peshtigo\, WI
CATEGORIES:Menominee
END:VEVENT
END:VCALENDAR