BEGIN:VCALENDAR
VERSION:2.0
PRODID:-//UP BAR REVIEW - ECPv6.14.2//NONSGML v1.0//EN
CALSCALE:GREGORIAN
METHOD:PUBLISH
X-WR-CALNAME:UP BAR REVIEW
X-ORIGINAL-URL:https://upbarreview.com
X-WR-CALDESC:Events for UP BAR REVIEW
REFRESH-INTERVAL;VALUE=DURATION:PT1H
X-Robots-Tag:noindex
X-PUBLISHED-TTL:PT1H
BEGIN:VTIMEZONE
TZID:UTC
BEGIN:STANDARD
TZOFFSETFROM:+0000
TZOFFSETTO:+0000
TZNAME:UTC
DTSTART:20240101T000000
END:STANDARD
END:VTIMEZONE
BEGIN:VEVENT
DTSTART;TZID=UTC:20240809T080000
DTEND;TZID=UTC:20240809T140000
DTSTAMP:20260420T192719
CREATED:20240728T204109Z
LAST-MODIFIED:20240728T204109Z
UID:10001161-1723190400-1723212000@upbarreview.com
SUMMARY:Community Wide Rummage Sale - Marinette
DESCRIPTION:Community wide rummage sale at the villages on water st starts Friday Aug 9th at 8am until 2pm and Saturday Aug 10 from 8am until 2pm
URL:https://upbarreview.com/event/community-wide-rummage-sale-marinette/2024-08-09/
LOCATION:MI
CATEGORIES:Menominee
END:VEVENT
BEGIN:VEVENT
DTSTART;TZID=UTC:20240809T100000
DTEND;TZID=UTC:20240809T130000
DTSTAMP:20260420T192719
CREATED:20240626T153751Z
LAST-MODIFIED:20240626T153751Z
UID:10000647-1723197600-1723208400@upbarreview.com
SUMMARY:Farmers Market - Wausaukee
DESCRIPTION:Weekly Farmers Market! Free vendor spots! Garden produce\, honey & jams\, flowers\, homemade crafts\, breads & pies!
URL:https://upbarreview.com/event/farmers-market-wausaukee/2024-08-09/
LOCATION:Wausaukee Farmers Market\, 536 Kenny Dr\, Wausaukee\, WI\, 54177
CATEGORIES:Menominee
END:VEVENT
BEGIN:VEVENT
DTSTART;TZID=UTC:20240809T100000
DTEND;TZID=UTC:20240809T170000
DTSTAMP:20260420T192719
CREATED:20240728T205651Z
LAST-MODIFIED:20240728T205651Z
UID:10001169-1723197600-1723222800@upbarreview.com
SUMMARY:Shawano Downtown Sidewalk Sale - Shawano
DESCRIPTION:Some of the best deals of the summer! Make plans to be in Shawano Downtown on Friday\, August 9 & Saturday\, August 10.\nSidewalk Sales throughout Shawano Downtown.**See individual stores for sidewalk sale details.\nAdditional activities in the downtown area:> Shawano Farmer’s Market on Saturday from 8 a.m. to Noon at Franklin Park.> Saturday evening enjoy live music featuring Finding North Band from 5:30 to 8 p.m. in The Naberhood.
URL:https://upbarreview.com/event/shawano-downtown-sidewalk-sale-shawano/2024-08-09/
LOCATION:Shawano
CATEGORIES:Menominee
END:VEVENT
BEGIN:VEVENT
DTSTART;TZID=UTC:20240809T110000
DTEND;TZID=UTC:20240809T160000
DTSTAMP:20260420T192719
CREATED:20240626T150822Z
LAST-MODIFIED:20240626T150822Z
UID:10000620-1723201200-1723219200@upbarreview.com
SUMMARY:Escanaba Pop-Up Market
DESCRIPTION:The Escanaba Pop-UP Market will begin a new season on Friday\, June 14 at the Escanaba Marketplace. It’s an opportunity for vendors to sell their products and shoppers to enjoy a unique open-air market.\nSeveral vendors will be at the Pop-UP Market from 11 a.m. to 4 p.m.\nPop-up markets are temporary retail space typically used to introduce a new product\, gauge consumer interest or generate awareness for a product or cause.\nThe Escanaba Marketplace is located at 1501 Ludington Street. The Pop-UP Market is in addition to the Escanaba Farmers Market that is already underway this season. The Escanaba Farmers Market runs on Wednesdays from 3 to 6 p.m. and Saturdays from 9 a.m. to noon.
URL:https://upbarreview.com/event/escanaba-pop-up-market/2024-08-09/
LOCATION:Escanaba Marketplace\, 1501 Ludington St\, Escanaba\, MI\, 49829
CATEGORIES:Menominee
END:VEVENT
BEGIN:VEVENT
DTSTART;TZID=UTC:20240809T160000
DTEND;TZID=UTC:20240810T180000
DTSTAMP:20260420T192719
CREATED:20240728T192119Z
LAST-MODIFIED:20240728T192119Z
UID:10001135-1723219200-1723312800@upbarreview.com
SUMMARY:Menominee Marina - Joey's Boat Race - Menominee
DESCRIPTION:JOEY’S RACE \nDinner 5-10pm Friday August 9\, 2024 \nRace 12-6pm Saturday August 10\, 2024 \nMenominee Marina and Yacht Club
URL:https://upbarreview.com/event/menominee-marina-joeys-boat-race-menominee/
LOCATION:Menominee Marina
CATEGORIES:Menominee
END:VEVENT
BEGIN:VEVENT
DTSTART;TZID=UTC:20240809T170000
DTEND;TZID=UTC:20240809T200000
DTSTAMP:20260420T192719
CREATED:20240729T160114Z
LAST-MODIFIED:20240729T160114Z
UID:10001397-1723222800-1723233600@upbarreview.com
SUMMARY:Upper Hand Brewery - Live Music - Escanaba
DESCRIPTION:
URL:https://upbarreview.com/event/upper-hand-brewery-live-music-escanaba/2024-08-09/
LOCATION:Upper Hand Brewery\, 3525 Airport Rd\, Escanaba\, WI\, 49829
CATEGORIES:Menominee
END:VEVENT
BEGIN:VEVENT
DTSTART;TZID=UTC:20240809T170000
DTEND;TZID=UTC:20240809T210000
DTSTAMP:20260420T192719
CREATED:20240728T184027Z
LAST-MODIFIED:20240728T184027Z
UID:10001126-1723222800-1723237200@upbarreview.com
SUMMARY:CJ's Glass - Dragonfly Stained Glass Workshop - Marinette
DESCRIPTION:Call or msg Cj to preregister!608-354-2303$60+tax includes everythingClass size 6 / Ages 12+\nIntroduce yourself to the process of copper foil stained glass with this cute project! You will prepare pattern\, score and break glass\, grind\, foil\, solder and finish your piece in this 4 to 4 1/2 hr workshop. There will be various glass colors to choose from and no experience necessary!Come learn something new today!
URL:https://upbarreview.com/event/cjs-glass-dragonfly-stained-glass-workshop-marinette/
LOCATION:CJ’s Glass\, 802 Main St\, Marinette\, WI\, 54143
CATEGORIES:Menominee
END:VEVENT
BEGIN:VEVENT
DTSTART;TZID=UTC:20240809T180000
DTEND;TZID=UTC:20240809T210000
DTSTAMP:20260420T192719
CREATED:20240728T193648Z
LAST-MODIFIED:20240728T193838Z
UID:10001138-1723226400-1723237200@upbarreview.com
SUMMARY:Four Seasons Island Resort - Melanie Rose in The Lounge Bar - Pembine
DESCRIPTION:Join us in The Lounge Bar from 6:00 PM – 9:00 PM with a live performance by Melanie Rose!\nMelanie Rose is a Singer/Songwriter out of the Upper Peninsula of Michigan. Her passion for music has encouraged her to perform Live cover shows\, as well as write and perform her own songs. Melanie has released one album “So Long” within the last 2 years\, and is currently recording her second!
URL:https://upbarreview.com/event/four-seasons-island-resort-melanie-rose-in-the-lounge-bar-pembine/2024-08-09/
LOCATION:Four Seasons Island Resort\, 16800 Shoreline Dr\, Pembine\, WI\, 54156\, United States
CATEGORIES:Menominee
END:VEVENT
END:VCALENDAR