BEGIN:VCALENDAR
VERSION:2.0
PRODID:-//UP BAR REVIEW - ECPv6.14.2//NONSGML v1.0//EN
CALSCALE:GREGORIAN
METHOD:PUBLISH
X-WR-CALNAME:UP BAR REVIEW
X-ORIGINAL-URL:https://upbarreview.com
X-WR-CALDESC:Events for UP BAR REVIEW
REFRESH-INTERVAL;VALUE=DURATION:PT1H
X-Robots-Tag:noindex
X-PUBLISHED-TTL:PT1H
BEGIN:VTIMEZONE
TZID:UTC
BEGIN:STANDARD
TZOFFSETFROM:+0000
TZOFFSETTO:+0000
TZNAME:UTC
DTSTART:20240101T000000
END:STANDARD
END:VTIMEZONE
BEGIN:VEVENT
DTSTART;TZID=UTC:20240806T130000
DTEND;TZID=UTC:20240806T150000
DTSTAMP:20260420T192428
CREATED:20240626T151602Z
LAST-MODIFIED:20240626T151602Z
UID:10000640-1722949200-1722956400@upbarreview.com
SUMMARY:Art @ The Marketplace - Escanaba
DESCRIPTION:Move freely between art stations set up with age-appropriate projects. Instructors and volunteers will be around to guide students through the projects and families are encouraged to assist and enjoy in the project as well.\nThis is a free event for those toddler to 13 years. Learn more at bonifasarts.org.\nStop in at the Escanaba Marketplace for one or as many dates as you can come to. Dates: June 11\, 18\, 25\, July 2\, 9\, 16\, 23\, 30\, & Aug. 6 from 1 to 3 p.m.\n\n**The Escanaba Marketplace Summer Program is funded in part by the Michigan Arts and Culture Council through the Upper Peninsula Arts and Culture Alliance in partnership with the Escanaba Downtown Development Authority
URL:https://upbarreview.com/event/art-the-marketplace-escanaba/2024-08-06/
LOCATION:Escanaba Marketplace\, 1501 Ludington St\, Escanaba\, MI\, 49829
CATEGORIES:Menominee
END:VEVENT
BEGIN:VEVENT
DTSTART;TZID=UTC:20240806T130000
DTEND;TZID=UTC:20240806T150000
DTSTAMP:20260420T192428
CREATED:20240708T202343Z
LAST-MODIFIED:20240708T202343Z
UID:10001020-1722949200-1722956400@upbarreview.com
SUMMARY:McCraftie - Owl Love Summer - Menominee
DESCRIPTION:Come create this adorable owl with us. On a 12×12 canvas. Choose colors of your liking. Ages 8 and up. $25Call us to reserve your spot 715.440.5959.CLASS REFUND POLICY\n-full in studio credit if cancellation is 1 week prior to the class-50% in studio credit up to 24 hours prior to class.-less than 24 hours notice\, no credit-NO SHOW/ NO CALL/NO CREDIT
URL:https://upbarreview.com/event/mccraftie-owl-love-summer-menominee/
LOCATION:McCrafties\, 625 1st St\, Menominee\, MI\, 49858\, United States
CATEGORIES:Menominee
END:VEVENT
BEGIN:VEVENT
DTSTART;TZID=UTC:20240806T160000
DTEND;TZID=UTC:20240806T200000
DTSTAMP:20260420T192428
CREATED:20240729T161756Z
LAST-MODIFIED:20240729T161756Z
UID:10001410-1722960000-1722974400@upbarreview.com
SUMMARY:Badger Park - National Night Out - Peshtigo
DESCRIPTION:
URL:https://upbarreview.com/event/badger-park-national-night-out-peshtigo/
LOCATION:Badger Park\, 300 E Park Dr\, Peshtigo\, WI\, 54147
CATEGORIES:Menominee
END:VEVENT
BEGIN:VEVENT
DTSTART;TZID=UTC:20240806T170000
DTEND;TZID=UTC:20240806T200000
DTSTAMP:20260420T192428
CREATED:20240729T160114Z
LAST-MODIFIED:20240729T160114Z
UID:10001396-1722963600-1722974400@upbarreview.com
SUMMARY:Upper Hand Brewery - Live Music - Escanaba
DESCRIPTION:
URL:https://upbarreview.com/event/upper-hand-brewery-live-music-escanaba/2024-08-06/
LOCATION:Upper Hand Brewery\, 3525 Airport Rd\, Escanaba\, WI\, 49829
CATEGORIES:Menominee
END:VEVENT
BEGIN:VEVENT
DTSTART;TZID=UTC:20240806T170000
DTEND;TZID=UTC:20240806T210000
DTSTAMP:20260420T192428
CREATED:20240728T174823Z
LAST-MODIFIED:20240728T174823Z
UID:10001112-1722963600-1722978000@upbarreview.com
SUMMARY:CJ's Glass - Stained Glass Feather Workshop - Marinette
DESCRIPTION:Call or msg Cj to preregister!608-354-2303$60+tax includes everythingClass size 6 / Ages 12+approx 7-9″Choose your feather design and colors!Learn the process of copper foil stained glass with this cute project! You will prepare pattern\, score and break\, grind\, foil\, solder and finish your piece in this 4hr workshop. There will be various glass colors to choose from and no experience necessary!Come learn something new today!
URL:https://upbarreview.com/event/cjs-glass-stained-glass-feather-workshop-marinette/
LOCATION:CJ’s Glass\, 802 Main St\, Marinette\, WI\, 54143
CATEGORIES:Menominee
END:VEVENT
END:VCALENDAR