BEGIN:VCALENDAR
VERSION:2.0
PRODID:-//UP BAR REVIEW - ECPv6.14.2//NONSGML v1.0//EN
CALSCALE:GREGORIAN
METHOD:PUBLISH
X-WR-CALNAME:UP BAR REVIEW
X-ORIGINAL-URL:https://upbarreview.com
X-WR-CALDESC:Events for UP BAR REVIEW
REFRESH-INTERVAL;VALUE=DURATION:PT1H
X-Robots-Tag:noindex
X-PUBLISHED-TTL:PT1H
BEGIN:VTIMEZONE
TZID:UTC
BEGIN:STANDARD
TZOFFSETFROM:+0000
TZOFFSETTO:+0000
TZNAME:UTC
DTSTART:20240101T000000
END:STANDARD
END:VTIMEZONE
BEGIN:VEVENT
DTSTART;TZID=UTC:20240804T080000
DTEND;TZID=UTC:20240804T170000
DTSTAMP:20260420T192350
CREATED:20240628T212447Z
LAST-MODIFIED:20240628T212447Z
UID:10000995-1722758400-1722790800@upbarreview.com
SUMMARY:Ironworks - Sunday Funday Live Music - Marinette
DESCRIPTION:Check it out! Live Music this Sunday at IRONWORKS! We have music every Sunday!
URL:https://upbarreview.com/event/ironworks-sunday-funday-live-music-marinette/2024-08-04/
LOCATION:Ironworks\, 1333 Main St.\, Marinette\, WI\, 54143\, United States
CATEGORIES:Menominee
END:VEVENT
BEGIN:VEVENT
DTSTART;TZID=UTC:20240804T080000
DTEND;TZID=UTC:20240804T170000
DTSTAMP:20260420T192350
CREATED:20240728T211616Z
LAST-MODIFIED:20240728T211616Z
UID:10001296-1722758400-1722790800@upbarreview.com
SUMMARY:Shawano Flea Market
DESCRIPTION:54th YEAR!!! Every Sunday April 28 thru October 6\, 2024. Except Labor Day weekend.\nSpecial Holiday Markets:Saturday May 25 & Sunday May 26+ Saturday July 6 and Sunday July 7\nShawano Flea Market car show Sunday October 6\, 2024!\nAntiques\, Collectibles\, Crafts\, Vintage\, Mid Century Modern\, Gardening\, New & Old\, Advertising\, Old Toys\, & More\n7am to 4pm / $2 admission. Kids 12 and under free with adult.Early buyer admission before 7am: $10Tickets available at the event. Free parkingOpen-Air Market. Weather permitting.\nNew vendors welcome! Call for details.\nShawano County Fairgrounds990 E Green Bay St\, Shawano\, WI 54166Information: 715-526-9769Zurko Promotions
URL:https://upbarreview.com/event/shawano-flea-market/2024-08-04/
LOCATION:Shawano County Fairgrounds\, 990 E Green Bay St\, Shawano\, WI\, 54166
CATEGORIES:Menominee
END:VEVENT
BEGIN:VEVENT
DTSTART;TZID=UTC:20240804T090000
DTEND;TZID=UTC:20240804T180000
DTSTAMP:20260420T192350
CREATED:20240802T205547Z
LAST-MODIFIED:20240802T205547Z
UID:10001435-1722762000-1722794400@upbarreview.com
SUMMARY:Sunflower Fest - Blasers Acres - Green Bay
DESCRIPTION:Sunflowers\, lookout towers\, photographers\, bounce house\, food truck\, face painting\, sunflower oil booth\, hay rides\, barrel rides\, and more! \n\n\n\n\n\n\n\n\n\n\n\n**Welcome to Suamico’s Original Sunflower Fest!**\nGet ready for a day full of excitement and fun. Our festival is a bright and joyful celebration where everyone can create amazing memories. \nLots of Fun Things to Do\nOur festival has activities for all ages\, making sure that everyone has a great time. Want something tasty to eat? Check out our variety of food trucks serving up delicious meals. \nFor the kids\, we have super-fun bounce houses ready for them to jump around in. They can also get their faces painted by our talented artists\, becoming their favorite superheroes or princesses for the day. \nFeeling adventurous? Why not take a spin on our barrel rides? And don’t miss out on our hay rides\, a chill and fun way to see the festival. \nFun Activities for Kids\nWe have loads of activities designed especially for kids. From face painting to barrel rides\, there’s so much to keep them entertained. So bring the little ones along and watch their faces light up with joy at Suamico’s Original Sunflower Fest!
URL:https://upbarreview.com/event/sunflower-fest-blasers-acres-green-bay/2024-08-04/
LOCATION:Blasers Acres\, 2556 School Ln\, Green Bay
CATEGORIES:Menominee
END:VEVENT
BEGIN:VEVENT
DTSTART;TZID=UTC:20240804T110000
DTEND;TZID=UTC:20240804T130000
DTSTAMP:20260420T192350
CREATED:20240626T175326Z
LAST-MODIFIED:20240626T175326Z
UID:10000743-1722769200-1722776400@upbarreview.com
SUMMARY:Dome Lanes - CCAC Cornhole Toss - Marinette
DESCRIPTION:11:00 registration and Noon Start. Only $15 per player. All ages and abilities welcome!
URL:https://upbarreview.com/event/dome-lanes-ccac-cornhole-toss-marinette/
LOCATION:Dome Lanes\, 801 University Dr\, Marinette\, WI\, 54143\, United States
CATEGORIES:Menominee
END:VEVENT
BEGIN:VEVENT
DTSTART;TZID=UTC:20240804T140000
DTEND;TZID=UTC:20240804T180000
DTSTAMP:20260420T192351
CREATED:20240719T180709Z
LAST-MODIFIED:20240728T213207Z
UID:10001038-1722780000-1722794400@upbarreview.com
SUMMARY:Loopy's in Loomis - Sunday Funday
DESCRIPTION:Live music\, drink deals\, and specials for sunday funday at loopys!!
URL:https://upbarreview.com/event/loopys-in-loomis-sunday-funday/2024-08-04/
LOCATION:Loopy’s Bar & Grill\, Loomis Rd\, Porterfield\, WI\, 54159
CATEGORIES:Menominee
END:VEVENT
BEGIN:VEVENT
DTSTART;TZID=UTC:20240804T170000
DTEND;TZID=UTC:20240804T210000
DTSTAMP:20260420T192351
CREATED:20240729T160114Z
LAST-MODIFIED:20240729T160114Z
UID:10001395-1722790800-1722805200@upbarreview.com
SUMMARY:Upper Hand Brewery - Live Music - Escanaba
DESCRIPTION:
URL:https://upbarreview.com/event/upper-hand-brewery-live-music-escanaba/2024-08-04/
LOCATION:Upper Hand Brewery\, 3525 Airport Rd\, Escanaba\, WI\, 49829
CATEGORIES:Menominee
END:VEVENT
END:VCALENDAR