BEGIN:VCALENDAR
VERSION:2.0
PRODID:-//UP BAR REVIEW - ECPv6.14.2//NONSGML v1.0//EN
CALSCALE:GREGORIAN
METHOD:PUBLISH
X-ORIGINAL-URL:https://upbarreview.com
X-WR-CALDESC:Events for UP BAR REVIEW
REFRESH-INTERVAL;VALUE=DURATION:PT1H
X-Robots-Tag:noindex
X-PUBLISHED-TTL:PT1H
BEGIN:VTIMEZONE
TZID:UTC
BEGIN:STANDARD
TZOFFSETFROM:+0000
TZOFFSETTO:+0000
TZNAME:UTC
DTSTART:20240101T000000
END:STANDARD
END:VTIMEZONE
BEGIN:VEVENT
DTSTART;TZID=UTC:20240731T110000
DTEND;TZID=UTC:20240731T130000
DTSTAMP:20260420T192911
CREATED:20240626T180601Z
LAST-MODIFIED:20240626T180601Z
UID:10000748-1722423600-1722430800@upbarreview.com
SUMMARY:Family Fun Day - Stephenson
DESCRIPTION:Join us for free family fun at Erickson Park in Stephenson\, MI. There will be a bounce house\, bubbles\, stream play\, activities\, free books and a light lunch! We will also be introducing our newly installed permanent BOOK WALK at the park! This event is for families with children aged 0-10 years old. We can’t wait to see everyone this year!
URL:https://upbarreview.com/event/family-fun-day-stephenson/
LOCATION:Erikson Park\, Stephenson\, MI\, 49887
CATEGORIES:Menominee
END:VEVENT
BEGIN:VEVENT
DTSTART;TZID=UTC:20240731T113000
DTEND;TZID=UTC:20240731T133000
DTSTAMP:20260420T192911
CREATED:20240626T145344Z
LAST-MODIFIED:20240626T145554Z
UID:10000551-1722425400-1722432600@upbarreview.com
SUMMARY:Lunch on Ludington Music Series - Escanaba
DESCRIPTION:Take time in the middle of your day with friends and co-workers for music at Lunch on Ludington at the Escanaba Marketplace.\nThe Seth Brown Duo is performing on Wednesday\, July 3. Seth is a songwriter\, a modern day Tom Petty. Food vendors include For the Love of Cupcakes.\nThe rest of the schedule includes:\nJuly 10 Wingin’ ItJuly 17 John RomanJuly 24 Cash O’RileyJuly 31 House Blues BandAug. 7 Troy Graham\nBring or get a lunch\, we’ll provide the music.\nEscanaba has the longest small town downtown in Michigan\, jammed packed with unique shops\, great restaurants and dedicated businesses ready to welcome you. Take time for lunch\, enjoy some music and stop by a downtown business.\nStarts at 11:30 a.m. and goes to 1:30 p.m. at the corner of 15th and Ludington Streets. Rain or shine under the pavilion. Plus\, the Escanaba Farmers Market runs from 3 to 6 p.m. at the Marketplace.\nDowntown Escanaba is the place to be for the Lunch on Ludington music series on Wednesdays.
URL:https://upbarreview.com/event/lunch-on-ludington-music-series-cash-oriley/2024-07-31/
LOCATION:Escanaba Marketplace\, 1501 Ludington St\, Escanaba\, MI\, 49829
CATEGORIES:Menominee
END:VEVENT
BEGIN:VEVENT
DTSTART;TZID=UTC:20240731T150000
DTEND;TZID=UTC:20240731T180000
DTSTAMP:20260420T192911
CREATED:20240626T145913Z
LAST-MODIFIED:20240728T212922Z
UID:10000557-1722438000-1722448800@upbarreview.com
SUMMARY:Escanaba Farmers Market
DESCRIPTION:The Escanaba Farmers Market runs from 3 to 6 p.m. at the Marketplace on Wednesdays. Catch music from 11:30am-1:30pm beforehand. Come check it out!
URL:https://upbarreview.com/event/escanaba-farmers-market/2024-07-31/
LOCATION:Escanaba Marketplace\, 1501 Ludington St\, Escanaba\, MI\, 49829
CATEGORIES:Menominee
END:VEVENT
BEGIN:VEVENT
DTSTART;TZID=UTC:20240731T163000
DTEND;TZID=UTC:20240731T193000
DTSTAMP:20260420T192911
CREATED:20240626T153933Z
LAST-MODIFIED:20240626T153933Z
UID:10000655-1722443400-1722454200@upbarreview.com
SUMMARY:Food Truck Rally - Peshtigo
DESCRIPTION:Food Trucks:Pit Bros. Tasty Traveler Los Magueyes Ti-ShepsMusic by Mark PetersonBAKE SALE: Proceeds for Peshtigo’s National Night OutBYO: Lawn Chairs Some Picnic Tables will be provided.
URL:https://upbarreview.com/event/food-truck-rally-peshtigo/
LOCATION:Badger Park\, 300 E Park Dr\, Peshtigo\, WI\, 54147
CATEGORIES:Menominee
END:VEVENT
END:VCALENDAR