BEGIN:VCALENDAR
VERSION:2.0
PRODID:-//UP BAR REVIEW - ECPv6.14.2//NONSGML v1.0//EN
CALSCALE:GREGORIAN
METHOD:PUBLISH
X-ORIGINAL-URL:https://upbarreview.com
X-WR-CALDESC:Events for UP BAR REVIEW
REFRESH-INTERVAL;VALUE=DURATION:PT1H
X-Robots-Tag:noindex
X-PUBLISHED-TTL:PT1H
BEGIN:VTIMEZONE
TZID:UTC
BEGIN:STANDARD
TZOFFSETFROM:+0000
TZOFFSETTO:+0000
TZNAME:UTC
DTSTART:20240101T000000
END:STANDARD
END:VTIMEZONE
BEGIN:VEVENT
DTSTART;TZID=UTC:20240728T080000
DTEND;TZID=UTC:20240728T170000
DTSTAMP:20260420T211138
CREATED:20240628T212447Z
LAST-MODIFIED:20240628T212447Z
UID:10000994-1722153600-1722186000@upbarreview.com
SUMMARY:Ironworks - Sunday Funday Live Music - Marinette
DESCRIPTION:Check it out! Live Music this Sunday at IRONWORKS! We have music every Sunday!
URL:https://upbarreview.com/event/ironworks-sunday-funday-live-music-marinette/2024-07-28/
LOCATION:Ironworks\, 1333 Main St.\, Marinette\, WI\, 54143\, United States
CATEGORIES:Menominee
END:VEVENT
BEGIN:VEVENT
DTSTART;TZID=UTC:20240728T080000
DTEND;TZID=UTC:20240728T170000
DTSTAMP:20260420T211138
CREATED:20240728T173043Z
LAST-MODIFIED:20240728T173106Z
UID:10001096-1722153600-1722186000@upbarreview.com
SUMMARY:Spirit House - Sunday Funday!
DESCRIPTION:12-4 PM $2 off bloody!!
URL:https://upbarreview.com/event/spirit-house-sunday-funday/2024-07-28/1/
LOCATION:Spirit House\, 533 10th Ave\, Menominee\, MI 49858\, Menominee\, MI\, 49858\, United States
CATEGORIES:Menominee
END:VEVENT
BEGIN:VEVENT
DTSTART;TZID=UTC:20240728T120000
DTEND;TZID=UTC:20240728T160000
DTSTAMP:20260420T211138
CREATED:20240728T173043Z
LAST-MODIFIED:20240728T173106Z
UID:10001097-1722168000-1722182400@upbarreview.com
SUMMARY:Spirit House - Sunday Funday!
DESCRIPTION:12-4 PM $2 off bloody!!
URL:https://upbarreview.com/event/spirit-house-sunday-funday/2024-07-28/2/
LOCATION:Spirit House\, 533 10th Ave\, Menominee\, MI 49858\, Menominee\, MI\, 49858\, United States
CATEGORIES:Menominee
END:VEVENT
BEGIN:VEVENT
DTSTART;TZID=UTC:20240728T130000
DTEND;TZID=UTC:20240728T170000
DTSTAMP:20260420T211138
CREATED:20240627T230752Z
LAST-MODIFIED:20240627T230820Z
UID:10000868-1722171600-1722186000@upbarreview.com
SUMMARY:Brown Trout Derby - Menominee/Marinette
DESCRIPTION:
URL:https://upbarreview.com/event/brown-trout-derby-menominee-marinette/2024-07-28/
LOCATION:MI
CATEGORIES:Menominee
END:VEVENT
BEGIN:VEVENT
DTSTART;TZID=UTC:20240728T140000
DTEND;TZID=UTC:20240728T180000
DTSTAMP:20260420T211138
CREATED:20240719T180709Z
LAST-MODIFIED:20240728T213207Z
UID:10001037-1722175200-1722189600@upbarreview.com
SUMMARY:Loopy's in Loomis - Sunday Funday
DESCRIPTION:Live music\, drink deals\, and specials for sunday funday at loopys!!
URL:https://upbarreview.com/event/loopys-in-loomis-sunday-funday/2024-07-28/
LOCATION:Loopy’s Bar & Grill\, Loomis Rd\, Porterfield\, WI\, 54159
CATEGORIES:Menominee
END:VEVENT
BEGIN:VEVENT
DTSTART;TZID=UTC:20240728T160000
DTEND;TZID=UTC:20240728T190000
DTSTAMP:20260420T211138
CREATED:20240708T203730Z
LAST-MODIFIED:20240708T203730Z
UID:10001034-1722182400-1722193200@upbarreview.com
SUMMARY:Upper Hand Brewery - Live Music & Food Truck - Escanaba
DESCRIPTION:Live Music and food trucks every Tuesday\, Friday\, & Sunday in July
URL:https://upbarreview.com/event/upper-hand-brewery-live-music-food-truck-escanaba/2024-07-28/
LOCATION:Upper Hand Brewery\, 3525 Airport Rd\, Escanaba\, WI\, 49829
CATEGORIES:Menominee
END:VEVENT
END:VCALENDAR