BEGIN:VCALENDAR
VERSION:2.0
PRODID:-//UP BAR REVIEW - ECPv6.14.2//NONSGML v1.0//EN
CALSCALE:GREGORIAN
METHOD:PUBLISH
X-WR-CALNAME:UP BAR REVIEW
X-ORIGINAL-URL:https://upbarreview.com
X-WR-CALDESC:Events for UP BAR REVIEW
REFRESH-INTERVAL;VALUE=DURATION:PT1H
X-Robots-Tag:noindex
X-PUBLISHED-TTL:PT1H
BEGIN:VTIMEZONE
TZID:UTC
BEGIN:STANDARD
TZOFFSETFROM:+0000
TZOFFSETTO:+0000
TZNAME:UTC
DTSTART:20240101T000000
END:STANDARD
END:VTIMEZONE
BEGIN:VEVENT
DTSTART;TZID=UTC:20240727T090000
DTEND;TZID=UTC:20240727T120000
DTSTAMP:20260420T224219
CREATED:20240530T023124Z
LAST-MODIFIED:20240826T230940Z
UID:10000216-1722070800-1722081600@upbarreview.com
SUMMARY:Menominee Historic Downtown Farmers' Market
DESCRIPTION:“The Menominee Historic Downtown Farmers’ Market will be held on Saturday mornings from 9am-12pm. \nThe Market will be located at 940 1st Street (Spies Public Library Parking Lot)”
URL:https://upbarreview.com/event/menominee-historic-downtown-farmers-market-4/2024-07-27/
LOCATION:Spies Public Library\, 940 1st St.\, Menominee\, MI\, 49858
CATEGORIES:Menominee
END:VEVENT
BEGIN:VEVENT
DTSTART;TZID=UTC:20240727T090000
DTEND;TZID=UTC:20240727T120000
DTSTAMP:20260420T224219
CREATED:20240626T150940Z
LAST-MODIFIED:20240728T212955Z
UID:10000628-1722070800-1722081600@upbarreview.com
SUMMARY:Escanaba Farmers Market
DESCRIPTION:The Escanaba Farmers Market runs on Wednesdays from 3 to 6 p.m. and Saturdays from 9 a.m. to noon.
URL:https://upbarreview.com/event/escanaba-farmers-market-2/2024-07-27/
LOCATION:Escanaba Marketplace\, 1501 Ludington St\, Escanaba\, MI\, 49829
CATEGORIES:Menominee
END:VEVENT
BEGIN:VEVENT
DTSTART;TZID=UTC:20240727T090000
DTEND;TZID=UTC:20240727T140000
DTSTAMP:20260420T224219
CREATED:20240627T230550Z
LAST-MODIFIED:20240627T230550Z
UID:10000864-1722070800-1722088800@upbarreview.com
SUMMARY:83rd annual 100 Miler Boat Race - Menominee
DESCRIPTION:83RD ANNUAL 100 MILER BOAT RACE \nSTARTS AT THE MENOMINEE MARINA  \nAT 9AM
URL:https://upbarreview.com/event/83rd-annual-100-miler-boat-race-menominee/
LOCATION:Menominee Marina
CATEGORIES:Menominee
END:VEVENT
BEGIN:VEVENT
DTSTART;TZID=UTC:20240727T090000
DTEND;TZID=UTC:20240727T150000
DTSTAMP:20260420T224219
CREATED:20240626T175552Z
LAST-MODIFIED:20240626T175552Z
UID:10000744-1722070800-1722092400@upbarreview.com
SUMMARY:Woody's Bar & Grill - Winnebegoland Meet Up - Crivitz
DESCRIPTION:Join us at Woody’s in Crivitz to support the Crooked Trails ATV Club. We will be headed to Crooked Lake for their cookout. The day should be an 80 or so mile day of riding.\nRide your UTV to Woody’s as we will be making that our home base. Be sure to park at either the gas station north on Parkway or at the Park N Ride on W as there are no vehicles/trailers allowed in the lot for the day. Get there at 9:00 so you have plenty of time to get situated\, register\, and be ready for the pre-ride meeting. We hope to be on the gas at 9:30.\nDon’t forget trailside drinks and snacks as we will stop a few times on the journey.
URL:https://upbarreview.com/event/woodys-bar-grill-winnebegoland-meet-up-crivitz/
LOCATION:Woody’s Bar & Grill\, N7625 Parkway Rd\, Crivitz\, WI\, 54114
CATEGORIES:Menominee
END:VEVENT
BEGIN:VEVENT
DTSTART;TZID=UTC:20240727T100000
DTEND;TZID=UTC:20240727T160000
DTSTAMP:20260420T224219
CREATED:20240626T153049Z
LAST-MODIFIED:20240626T153049Z
UID:10000642-1722074400-1722096000@upbarreview.com
SUMMARY:Community Flea Market & Garden Gathering - Marinette
DESCRIPTION:Ready to turn your Saturday into a spectacular adventure? Join us at our first ever Community Flea Market & Garden Gathering! On July 27th\, from 10am to 4pm\, our parking lot will transform into a treasure trove of local goodies while our garden becomes a haven of live music and mouthwatering treats! Whether you’re browsing for bargains or soaking in the sunshine\, this event has something for everyone! Apply now to be a vendor by calling Susan Krueger at 715-587-5065 or simply save the date and join the fun. See you at the Elks!!
URL:https://upbarreview.com/event/community-flea-market-garden-gathering-marinette/
LOCATION:Elks Lodge #1313\, 430 Bridge St\, Marinette\, WI\, 54143
CATEGORIES:Menominee
END:VEVENT
BEGIN:VEVENT
DTSTART;TZID=UTC:20240727T120000
DTEND;TZID=UTC:20240727T160000
DTSTAMP:20260420T224219
CREATED:20240608T024854Z
LAST-MODIFIED:20240608T024854Z
UID:10000534-1722081600-1722096000@upbarreview.com
SUMMARY:The Forgotten Fire Winery - Live Music Charlie Scoggins
DESCRIPTION:Live music on the outdoor stage with Charlie Scoggins!\nFood vendor: Southern Marinette County ATV/UTV Club \nWe have picnic table space is available for seating\, but we recommended grabbing your lawn chairs just in case! \n** Reminder! Alcoholic carry-ins are not permitted per state law. Dogs are welcome as long as they are on a leash and well behaved. **
URL:https://upbarreview.com/event/the-forgotten-fire-winery-live-music-charlie-scoggins-2/
LOCATION:Forgotten Fire Winery\, N2393 Schacht Road\, Marinette\, WI\, 54143\, United States
CATEGORIES:Menominee
END:VEVENT
BEGIN:VEVENT
DTSTART;TZID=UTC:20240727T120000
DTEND;TZID=UTC:20240727T160000
DTSTAMP:20260420T224219
CREATED:20240626T174712Z
LAST-MODIFIED:20240626T174712Z
UID:10000740-1722081600-1722096000@upbarreview.com
SUMMARY:Center Bowl - 50th Anniversary Party - Peshtigo
DESCRIPTION:Come celebrate Center Bowls 50th Anniversary party! We will be having food from Tasty Traveler and music from Bad Mother Truckers! Cornhole tournament\, drinks specials and buckets raffles
URL:https://upbarreview.com/event/center-bowl-50th-anniversary-party-peshtigo/
LOCATION:Center Bowl\, 290 French St\, Peshtigo\, WI\, 54157\, United States
CATEGORIES:Menominee
END:VEVENT
BEGIN:VEVENT
DTSTART;TZID=UTC:20240727T120000
DTEND;TZID=UTC:20240727T170000
DTSTAMP:20260420T224219
CREATED:20240627T230752Z
LAST-MODIFIED:20240627T230820Z
UID:10000867-1722081600-1722099600@upbarreview.com
SUMMARY:Brown Trout Derby - Menominee/Marinette
DESCRIPTION:
URL:https://upbarreview.com/event/brown-trout-derby-menominee-marinette/2024-07-27/
LOCATION:MI
CATEGORIES:Menominee
END:VEVENT
BEGIN:VEVENT
DTSTART;TZID=UTC:20240727T120000
DTEND;TZID=UTC:20240727T220000
DTSTAMP:20260420T224219
CREATED:20240626T152640Z
LAST-MODIFIED:20240626T152640Z
UID:10000641-1722081600-1722117600@upbarreview.com
SUMMARY:Marina Fest - Escanaba
DESCRIPTION:Six bands are headlining Marina Fest in 2024. Bring a chair and enjoy local music at Escanaba’s harbor in Ludington Park.\n12 pm — Failte1 pm — Marrier Orchestra Revival2:30 pm — Mardi Rouge Jazz Brigade4:15 pm — House Band with Pete Ammel6 pm — The Lark Brothers8 pm — Delta Players\nEnjoy the beautiful setting among the boats along Little Bay de Noc. Food vendors are available. It will be a great day of free music at the harbor.
URL:https://upbarreview.com/event/marina-fest-escanaba/
LOCATION:City of Escanaba\, Water Plant Rd\, Escanaba\, MI\, 49829
CATEGORIES:Menominee
END:VEVENT
BEGIN:VEVENT
DTSTART;TZID=UTC:20240727T130000
DTEND;TZID=UTC:20240727T150000
DTSTAMP:20260420T224219
CREATED:20240626T183700Z
LAST-MODIFIED:20240626T183700Z
UID:10000830-1722085200-1722092400@upbarreview.com
SUMMARY:Boxing For a Cause - Menominee
DESCRIPTION:Fightclub2k21 presents backyard boxing with a cookout! Free admission\, free food\, free water\, free entertainment.Donations accepted. All donations going to help a local family.
URL:https://upbarreview.com/event/boxing-for-a-cause-menominee/
LOCATION:1721 13th Ave\, Menominee\, MI\, 49858
CATEGORIES:Menominee
END:VEVENT
BEGIN:VEVENT
DTSTART;TZID=UTC:20240727T143000
DTEND;TZID=UTC:20240727T163000
DTSTAMP:20260420T224219
CREATED:20240626T173401Z
LAST-MODIFIED:20240626T173401Z
UID:10000735-1722090600-1722097800@upbarreview.com
SUMMARY:Spirit House - Sourdough Workshop - Menominee
DESCRIPTION:Here is the next class date! July 27th @ Spirit House- 2:30pm- Class takes about 1 1/2 – 2 hours. We will go through the artisan loaf recipe step by step & answer questions along the way. You’ll get your very own sourdough starter so you can start baking right away! The class is $40.00 per person. Payment is needed ahead of time to keep a head count as there is limited space. Any questions please reach out to me!Venmo\, ApplePay & Paypal
URL:https://upbarreview.com/event/spirit-house-sourdough-workshop-menominee/
LOCATION:Spirit House\, 533 10th Ave\, Menominee\, MI 49858\, Menominee\, MI\, 49858\, United States
CATEGORIES:Menominee
END:VEVENT
BEGIN:VEVENT
DTSTART;TZID=UTC:20240727T183000
DTEND;TZID=UTC:20240727T200000
DTSTAMP:20260420T224219
CREATED:20240530T190522Z
LAST-MODIFIED:20240728T212249Z
UID:10000328-1722105000-1722110400@upbarreview.com
SUMMARY:Twin Bridge Waterski Team
DESCRIPTION:Pre-Shows Start at 6:30PM\n​Bring a lawn chair or a blanket for seating! \n​​Twin Bridge Ski Team Show Schedule  2024\nSat June 8th (rehearsal)\nThur June 13th (first Show)\nSat June 15th\nThur June 20st\nSat June 22th\nThur June 27th\nSat June 29th\nThur July 4th\nSat July 6th – Fireworks\nThur July 11th\nSat July 13th – Fireworks Rain date\nSun July 14th – Sponsor Show (Public Welcome)\nThur July 18th – No Show WI State\nSat July 20th – No Show WI State\nThur July 25th\nSat July 27th\nSun July 28th – Learn to Ski\nThur Aug 1st\nSat Aug 3rd – No Show\nThur Aug 8th\nSat Aug 10th – Last Show\nAug 17-18 Crandon Footstock
URL:https://upbarreview.com/event/twin-bridge-waterski-team/2024-07-27/
LOCATION:Boat Landing 3 Rd\, High Falls Flowage\, Stephenson\, WI\, 54114
CATEGORIES:Menominee
END:VEVENT
BEGIN:VEVENT
DTSTART;TZID=UTC:20240727T203000
DTEND;TZID=UTC:20240727T223000
DTSTAMP:20260420T224219
CREATED:20240626T183118Z
LAST-MODIFIED:20240728T213120Z
UID:10000762-1722112200-1722119400@upbarreview.com
SUMMARY:The Ruins Adventure Mini Golf - Glow Golf - Oconto
DESCRIPTION:Every Saturday Night @ Dusk! Night golf with colorful lights\, music\, laughter! Get outside with friends and family – or date night! We have premium ice cream\, floats\, beer\, wine and selzers. Great places to sit\, relax and converse after your round. Starts at sunset (changes slightly over time. Ask Siri or Alexa when sunset it). Last game must start one hour before closing. Glow Gear to first 100 golfers! $8.75 includes tax! Do something different with a great vibe! See you Saturday! WEATHER PENDING – UPDATES ON FACEBOOK
URL:https://upbarreview.com/event/the-ruins-adventure-mini-golf-glow-golf-oconto/2024-07-27/
LOCATION:The Ruins Adventure Mini Golf\, 150 Howard Ln\, Oconto\, WI\, 54153
CATEGORIES:Menominee
END:VEVENT
END:VCALENDAR