BEGIN:VCALENDAR
VERSION:2.0
PRODID:-//UP BAR REVIEW - ECPv6.14.2//NONSGML v1.0//EN
CALSCALE:GREGORIAN
METHOD:PUBLISH
X-ORIGINAL-URL:https://upbarreview.com
X-WR-CALDESC:Events for UP BAR REVIEW
REFRESH-INTERVAL;VALUE=DURATION:PT1H
X-Robots-Tag:noindex
X-PUBLISHED-TTL:PT1H
BEGIN:VTIMEZONE
TZID:UTC
BEGIN:STANDARD
TZOFFSETFROM:+0000
TZOFFSETTO:+0000
TZNAME:UTC
DTSTART:20240101T000000
END:STANDARD
END:VTIMEZONE
BEGIN:VEVENT
DTSTART;TZID=UTC:20240725T113000
DTEND;TZID=UTC:20240725T133000
DTSTAMP:20260420T211135
CREATED:20240626T155919Z
LAST-MODIFIED:20240626T155919Z
UID:10000660-1721907000-1721914200@upbarreview.com
SUMMARY:Seth Brown Duo Live on the Lawn at Lunch - Escanaba
DESCRIPTION:Seth and Desiree Brown are a country\, folk\, rock & roll duo who met in Nashville\, Tennessee. After marrying in 2015\, the couple took off for the wild unknown three years later. Leaving their corporate lives\, giving away nearly all they owned\, and selling their first home\, they hit the open road to sow vagabond seeds they’d dreamed of all their lives.\nThe duo traveled the USA for five years. While on the road they each put out their debut projects\, ‘Campfire Currency’ a complete twelve track album and ‘Desy’s Diaries – awakening to the alternative’ a full-length memoir novel.\nSinging\, laughing\, exploring\, sitting around campfires\, meeting new friends\, and embracing adventure amidst unknown\, they rumbled down the open road. Falling in love with the northern Midwest along their journey\, the couple now proudly calls Upper Michigan home. You’ll find them supplying stories and songs that open the imagination\, shine a silver lining on music\, life\, and love\, along their winding paths.\nVocals\, Guitar\, Songwriting / Seth BrownPercussion\, Vocals / Desiree Brown\nThe Grateful Cheese food truck will be on-site.\nThanks to the Friends of the Escanaba Public Library for sponsoring this event.
URL:https://upbarreview.com/event/seth-brown-duo-live-on-the-lawn-at-lunch-escanaba/
LOCATION:Escanaba Public Library\, 400 Ludington St\, Escanaba\, WI\, 49829
CATEGORIES:Menominee
END:VEVENT
BEGIN:VEVENT
DTSTART;TZID=UTC:20240725T150000
DTEND;TZID=UTC:20240725T190000
DTSTAMP:20260420T211135
CREATED:20240530T175337Z
LAST-MODIFIED:20240530T175424Z
UID:10000209-1721919600-1721934000@upbarreview.com
SUMMARY:The Waterfront Market - Menominee
DESCRIPTION:Stroll down Menominee’s Waterfront Market\, stretching from the Spies Public Library to Memorial Marina Park\, where vendors greet you with organic produce\, local art\, food trucks and live entertainment every Thursday from 3:00PM to 7:00PM. May 30. June 6\, 13\, 20\, 27. July 4\, 11\, 18\, 25. August 1\, 8\, 15. \n 
URL:https://upbarreview.com/event/the-waterfront-market-menominee-7/2024-07-25/
LOCATION:Spies Public Library\, 940 1st St.\, Menominee\, MI\, 49858
CATEGORIES:Menominee
END:VEVENT
BEGIN:VEVENT
DTSTART;TZID=UTC:20240725T160000
DTEND;TZID=UTC:20240725T190000
DTSTAMP:20260420T211135
CREATED:20240627T233052Z
LAST-MODIFIED:20240627T233052Z
UID:10000881-1721923200-1721934000@upbarreview.com
SUMMARY:Niagara Market & Music
DESCRIPTION:Niagara Community Vendor & Farmer Market 4:00-7:00pm\nfollowed by Music in the Park at 7:00 pm\nThursday Evenings July 11-August 22nd\nHeights Park/Grant Street (Behind City Hall at 1029 Roosevelt Road)\nProduce~Bakery~Crafts~Vendors
URL:https://upbarreview.com/event/niagara-market-music/2024-07-25/
LOCATION:Grant Street along Heights Park behind City Hall
CATEGORIES:Menominee
END:VEVENT
BEGIN:VEVENT
DTSTART;TZID=UTC:20240725T173000
DTEND;TZID=UTC:20240725T200000
DTSTAMP:20260420T211135
CREATED:20240608T023951Z
LAST-MODIFIED:20240728T212639Z
UID:10000472-1721928600-1721937600@upbarreview.com
SUMMARY:Norway - Open Air Market
DESCRIPTION:Thursdays on Main street in downtown Norway
URL:https://upbarreview.com/event/norway-open-air-market/2024-07-25/
LOCATION:Norway\, MI
CATEGORIES:Menominee
END:VEVENT
BEGIN:VEVENT
DTSTART;TZID=UTC:20240725T180000
DTEND;TZID=UTC:20240725T200000
DTSTAMP:20260420T211135
CREATED:20240530T174313Z
LAST-MODIFIED:20240530T174313Z
UID:10000201-1721930400-1721937600@upbarreview.com
SUMMARY:Spirit House - Trivia Night!
DESCRIPTION:Join us for some trivia fun at Spirit House Thursdays 6pm – 8pm.\n\n\nFood: Bring your own OR Food Trucks are always on site!\n\n\nShow up and register your team before 6pm\, it’s free to play! We fill fast so arrive early to reserve your spot!\nNo phones or outside sources\, only those on your team can contribute.\nIncrease your collective brainpower by adding up to 6 team members (must be 21+)\nPrizes available for \n\n\nStruggling to find a team? Show up anyway and we’ll help connect you with others.\n\n\nIt’s free\, it’s fun…why not try something new?\n\n\n#trivianight #marinettemenominee #distillery
URL:https://upbarreview.com/event/spirit-house-trivia-night-9/
LOCATION:Spirit House\, 533 10th Ave\, Menominee\, MI 49858\, Menominee\, MI\, 49858\, United States
CATEGORIES:Menominee
END:VEVENT
BEGIN:VEVENT
DTSTART;TZID=UTC:20240725T183000
DTEND;TZID=UTC:20240725T200000
DTSTAMP:20260420T211135
CREATED:20240530T190522Z
LAST-MODIFIED:20240728T212249Z
UID:10000327-1721932200-1721937600@upbarreview.com
SUMMARY:Twin Bridge Waterski Team
DESCRIPTION:Pre-Shows Start at 6:30PM\n​Bring a lawn chair or a blanket for seating! \n​​Twin Bridge Ski Team Show Schedule  2024\nSat June 8th (rehearsal)\nThur June 13th (first Show)\nSat June 15th\nThur June 20st\nSat June 22th\nThur June 27th\nSat June 29th\nThur July 4th\nSat July 6th – Fireworks\nThur July 11th\nSat July 13th – Fireworks Rain date\nSun July 14th – Sponsor Show (Public Welcome)\nThur July 18th – No Show WI State\nSat July 20th – No Show WI State\nThur July 25th\nSat July 27th\nSun July 28th – Learn to Ski\nThur Aug 1st\nSat Aug 3rd – No Show\nThur Aug 8th\nSat Aug 10th – Last Show\nAug 17-18 Crandon Footstock
URL:https://upbarreview.com/event/twin-bridge-waterski-team/2024-07-25/
LOCATION:Boat Landing 3 Rd\, High Falls Flowage\, Stephenson\, WI\, 54114
CATEGORIES:Menominee
END:VEVENT
BEGIN:VEVENT
DTSTART;TZID=UTC:20240725T210000
DTEND;TZID=UTC:20240725T223000
DTSTAMP:20260420T211135
CREATED:20240628T235314Z
LAST-MODIFIED:20240826T231212Z
UID:10001007-1721941200-1721946600@upbarreview.com
SUMMARY:Cusacks - Karaoke - Marinette
DESCRIPTION:Karaoke at Cusaks every thursday 9PM!
URL:https://upbarreview.com/event/cusacks-karaoke-marinette/2024-07-25/
LOCATION:Cusack’s Pub\, 2206 Hall Ave\, Marinette\, WI\, 54143\, United States
CATEGORIES:Menominee
END:VEVENT
END:VCALENDAR