BEGIN:VCALENDAR
VERSION:2.0
PRODID:-//UP BAR REVIEW - ECPv6.14.2//NONSGML v1.0//EN
CALSCALE:GREGORIAN
METHOD:PUBLISH
X-ORIGINAL-URL:https://upbarreview.com
X-WR-CALDESC:Events for UP BAR REVIEW
REFRESH-INTERVAL;VALUE=DURATION:PT1H
X-Robots-Tag:noindex
X-PUBLISHED-TTL:PT1H
BEGIN:VTIMEZONE
TZID:UTC
BEGIN:STANDARD
TZOFFSETFROM:+0000
TZOFFSETTO:+0000
TZNAME:UTC
DTSTART:20240101T000000
END:STANDARD
END:VTIMEZONE
BEGIN:VEVENT
DTSTART;TZID=UTC:20240724T100000
DTEND;TZID=UTC:20240724T180000
DTSTAMP:20260420T224430
CREATED:20240626T174134Z
LAST-MODIFIED:20240626T174134Z
UID:10000738-1721815200-1721844000@upbarreview.com
SUMMARY:Tony's Dockside - Christmas in July Boat Parade - Crivitz
DESCRIPTION:Help Celebrate Christmas in July on our awesome boat ride. Meet at Dockside at 10am and leave at 11am. Bring a white elephant gift to exchange and a dish to pass for the after party. We will return at 4pm for dinner and entertainment!!
URL:https://upbarreview.com/event/tonys-dockside-christmas-in-july-boat-parade-crivitz/
LOCATION:Tony’s Dockside Bar & Grill\, W12327 Eagle Rd\, Crivitz\, WI\, 54114
CATEGORIES:Menominee
END:VEVENT
BEGIN:VEVENT
DTSTART;TZID=UTC:20240724T113000
DTEND;TZID=UTC:20240724T133000
DTSTAMP:20260420T224430
CREATED:20240626T145344Z
LAST-MODIFIED:20240626T145554Z
UID:10000547-1721820600-1721827800@upbarreview.com
SUMMARY:Lunch on Ludington Music Series - Escanaba
DESCRIPTION:Take time in the middle of your day with friends and co-workers for music at Lunch on Ludington at the Escanaba Marketplace.\nThe Seth Brown Duo is performing on Wednesday\, July 3. Seth is a songwriter\, a modern day Tom Petty. Food vendors include For the Love of Cupcakes.\nThe rest of the schedule includes:\nJuly 10 Wingin’ ItJuly 17 John RomanJuly 24 Cash O’RileyJuly 31 House Blues BandAug. 7 Troy Graham\nBring or get a lunch\, we’ll provide the music.\nEscanaba has the longest small town downtown in Michigan\, jammed packed with unique shops\, great restaurants and dedicated businesses ready to welcome you. Take time for lunch\, enjoy some music and stop by a downtown business.\nStarts at 11:30 a.m. and goes to 1:30 p.m. at the corner of 15th and Ludington Streets. Rain or shine under the pavilion. Plus\, the Escanaba Farmers Market runs from 3 to 6 p.m. at the Marketplace.\nDowntown Escanaba is the place to be for the Lunch on Ludington music series on Wednesdays.
URL:https://upbarreview.com/event/lunch-on-ludington-music-series-cash-oriley/2024-07-24/
LOCATION:Escanaba Marketplace\, 1501 Ludington St\, Escanaba\, MI\, 49829
CATEGORIES:Menominee
END:VEVENT
BEGIN:VEVENT
DTSTART;TZID=UTC:20240724T130000
DTEND;TZID=UTC:20240724T170000
DTSTAMP:20260420T224430
CREATED:20240626T194426Z
LAST-MODIFIED:20240626T194533Z
UID:10000855-1721826000-1721840400@upbarreview.com
SUMMARY:CJ's Glass - Hummingbird Stained Glass Workshop - Marinette
DESCRIPTION:Call or msg Cj to preregister!608-354-2303$60+tax includes everythingClass size 6 / Ages 12+\nIntroduce yourself to the process of copper foil stained glass with this cute project! You will prepare pattern\, score and break glass\, grind\, foil\, solder and finish your piece in this 4 to 4 1/2 hr workshop. There will be various glass colors to choose from and no experience necessary!Come learn something new today!
URL:https://upbarreview.com/event/cjs-glass-hummingbird-stained-glass-workshop-marinette/2024-07-24/
LOCATION:CJ’s Glass\, 802 Main St\, Marinette\, WI\, 54143
CATEGORIES:Menominee
END:VEVENT
BEGIN:VEVENT
DTSTART;TZID=UTC:20240724T150000
DTEND;TZID=UTC:20240724T180000
DTSTAMP:20260420T224430
CREATED:20240626T145913Z
LAST-MODIFIED:20240728T212922Z
UID:10000556-1721833200-1721844000@upbarreview.com
SUMMARY:Escanaba Farmers Market
DESCRIPTION:The Escanaba Farmers Market runs from 3 to 6 p.m. at the Marketplace on Wednesdays. Catch music from 11:30am-1:30pm beforehand. Come check it out!
URL:https://upbarreview.com/event/escanaba-farmers-market/2024-07-24/
LOCATION:Escanaba Marketplace\, 1501 Ludington St\, Escanaba\, MI\, 49829
CATEGORIES:Menominee
END:VEVENT
BEGIN:VEVENT
DTSTART;TZID=UTC:20240724T160000
DTEND;TZID=UTC:20240724T173000
DTSTAMP:20260420T224430
CREATED:20240626T195013Z
LAST-MODIFIED:20240626T195013Z
UID:10000862-1721836800-1721842200@upbarreview.com
SUMMARY:The Craft Cave - Pot Heads - Marinette
DESCRIPTION:Really cool Terra Cota heads! Start with a 10 inch pot and make an awesome character. Adult class. Cost 30$\, BYOB. Paint and decorate your own Pot Head ! Call to sign up and pre pay. 715-587-4643 \n  \nMonday:   https://www.facebook.com/events/727635079389669/ \nTuesday:  https://www.facebook.com/events/433733256150122/ \nWed:    https://www.facebook.com/events/1576032496588127/
URL:https://upbarreview.com/event/the-craft-cave-pot-heads-marinette/2024-07-24/
LOCATION:The Craft Cave\, 605 Main St.\, Marinette\, WI\, 54143\, United States
CATEGORIES:Menominee
END:VEVENT
BEGIN:VEVENT
DTSTART;TZID=UTC:20240724T160000
DTEND;TZID=UTC:20240724T200000
DTSTAMP:20260420T224430
CREATED:20240708T202239Z
LAST-MODIFIED:20240708T202239Z
UID:10001019-1721836800-1721851200@upbarreview.com
SUMMARY:Embers 1871 - July Summer Wine 5 Course Dinner
DESCRIPTION:July Summer Wine Dinner\nWednesday July 24\, 2024Cash Bar 5pmDinner 6pm$70 per personAdditional 20% Gratuity and 5.5% Sale Tax\nAll Courses Paired with Wine\nCourse 1- Berry Salad with Fresh Mozzarella Balls and Balsamic Vinaigrette\nCourse 2- Shrimp Flatbread\nCourse 3- Swordfish topped with Fresh Mango Salsa and Lime Cilantro Rice\nCourse 4-Grilled Tenderloin with Caprese Mushroom Cap Topper with Roasted Asparagus\nCourse 5- S’mores Crème Brulé
URL:https://upbarreview.com/event/embers-1871-july-summer-wine-5-course-dinner/
LOCATION:Embers 1871\, W3529 Co Rd B\, Peshtigo\, WI\, 54157\, United States
CATEGORIES:Menominee
END:VEVENT
END:VCALENDAR