BEGIN:VCALENDAR
VERSION:2.0
PRODID:-//UP BAR REVIEW - ECPv6.14.2//NONSGML v1.0//EN
CALSCALE:GREGORIAN
METHOD:PUBLISH
X-ORIGINAL-URL:https://upbarreview.com
X-WR-CALDESC:Events for UP BAR REVIEW
REFRESH-INTERVAL;VALUE=DURATION:PT1H
X-Robots-Tag:noindex
X-PUBLISHED-TTL:PT1H
BEGIN:VTIMEZONE
TZID:UTC
BEGIN:STANDARD
TZOFFSETFROM:+0000
TZOFFSETTO:+0000
TZNAME:UTC
DTSTART:20240101T000000
END:STANDARD
END:VTIMEZONE
BEGIN:VEVENT
DTSTART;TZID=UTC:20240723T130000
DTEND;TZID=UTC:20240723T150000
DTSTAMP:20260420T224430
CREATED:20240626T151602Z
LAST-MODIFIED:20240626T151602Z
UID:10000638-1721739600-1721746800@upbarreview.com
SUMMARY:Art @ The Marketplace - Escanaba
DESCRIPTION:Move freely between art stations set up with age-appropriate projects. Instructors and volunteers will be around to guide students through the projects and families are encouraged to assist and enjoy in the project as well.\nThis is a free event for those toddler to 13 years. Learn more at bonifasarts.org.\nStop in at the Escanaba Marketplace for one or as many dates as you can come to. Dates: June 11\, 18\, 25\, July 2\, 9\, 16\, 23\, 30\, & Aug. 6 from 1 to 3 p.m.\n\n**The Escanaba Marketplace Summer Program is funded in part by the Michigan Arts and Culture Council through the Upper Peninsula Arts and Culture Alliance in partnership with the Escanaba Downtown Development Authority
URL:https://upbarreview.com/event/art-the-marketplace-escanaba/2024-07-23/
LOCATION:Escanaba Marketplace\, 1501 Ludington St\, Escanaba\, MI\, 49829
CATEGORIES:Menominee
END:VEVENT
BEGIN:VEVENT
DTSTART;TZID=UTC:20240723T130000
DTEND;TZID=UTC:20240723T160000
DTSTAMP:20260420T224430
CREATED:20240626T194310Z
LAST-MODIFIED:20240626T194310Z
UID:10000854-1721739600-1721750400@upbarreview.com
SUMMARY:CJ's Glass - Beginner Watercolor Wildflower Bouquet - Marinette
DESCRIPTION:$40 cash or check to Judy BloomClass size: 12 Ages 12+Preregistration required by calling or messaging CJ’s Glass(608)354-2303Come try your hand at watercolor or refresh your skills in this watercolor class taught by Judy Bloom Studio! No previous experience needed. Judy offers step by step\, demonstrated lessons to help you create this adorable summer painting.
URL:https://upbarreview.com/event/cjs-glass-beginner-watercolor-wildflower-bouquet-marinette/
LOCATION:CJ’s Glass\, 802 Main St\, Marinette\, WI\, 54143
CATEGORIES:Menominee
END:VEVENT
BEGIN:VEVENT
DTSTART;TZID=UTC:20240723T160000
DTEND;TZID=UTC:20240723T190000
DTSTAMP:20260420T224430
CREATED:20240708T203730Z
LAST-MODIFIED:20240708T203730Z
UID:10001032-1721750400-1721761200@upbarreview.com
SUMMARY:Upper Hand Brewery - Live Music & Food Truck - Escanaba
DESCRIPTION:Live Music and food trucks every Tuesday\, Friday\, & Sunday in July
URL:https://upbarreview.com/event/upper-hand-brewery-live-music-food-truck-escanaba/2024-07-23/
LOCATION:Upper Hand Brewery\, 3525 Airport Rd\, Escanaba\, WI\, 49829
CATEGORIES:Menominee
END:VEVENT
BEGIN:VEVENT
DTSTART;TZID=UTC:20240723T170000
DTEND;TZID=UTC:20240723T183000
DTSTAMP:20260420T224430
CREATED:20240626T195013Z
LAST-MODIFIED:20240626T195013Z
UID:10000861-1721754000-1721759400@upbarreview.com
SUMMARY:The Craft Cave - Pot Heads - Marinette
DESCRIPTION:Really cool Terra Cota heads! Start with a 10 inch pot and make an awesome character. Adult class. Cost 30$\, BYOB. Paint and decorate your own Pot Head ! Call to sign up and pre pay. 715-587-4643 \n  \nMonday:   https://www.facebook.com/events/727635079389669/ \nTuesday:  https://www.facebook.com/events/433733256150122/ \nWed:    https://www.facebook.com/events/1576032496588127/
URL:https://upbarreview.com/event/the-craft-cave-pot-heads-marinette/2024-07-23/
LOCATION:The Craft Cave\, 605 Main St.\, Marinette\, WI\, 54143\, United States
CATEGORIES:Menominee
END:VEVENT
END:VCALENDAR