BEGIN:VCALENDAR
VERSION:2.0
PRODID:-//UP BAR REVIEW - ECPv6.14.2//NONSGML v1.0//EN
CALSCALE:GREGORIAN
METHOD:PUBLISH
X-ORIGINAL-URL:https://upbarreview.com
X-WR-CALDESC:Events for UP BAR REVIEW
REFRESH-INTERVAL;VALUE=DURATION:PT1H
X-Robots-Tag:noindex
X-PUBLISHED-TTL:PT1H
BEGIN:VTIMEZONE
TZID:UTC
BEGIN:STANDARD
TZOFFSETFROM:+0000
TZOFFSETTO:+0000
TZNAME:UTC
DTSTART:20240101T000000
END:STANDARD
END:VTIMEZONE
BEGIN:VEVENT
DTSTART;TZID=UTC:20240718T080000
DTEND;TZID=UTC:20240721T180000
DTSTAMP:20260422T104146
CREATED:20240319T002232Z
LAST-MODIFIED:20240319T002232Z
UID:10000048-1721289600-1721584800@upbarreview.com
SUMMARY:Menominee County Fair
DESCRIPTION:July 18-21st
URL:https://upbarreview.com/event/menominee-county-fair/
LOCATION:MI
CATEGORIES:Menominee
END:VEVENT
BEGIN:VEVENT
DTSTART;TZID=UTC:20240719T090000
DTEND;TZID=UTC:20240719T160000
DTSTAMP:20260422T104146
CREATED:20240626T162650Z
LAST-MODIFIED:20240626T162650Z
UID:10000731-1721379600-1721404800@upbarreview.com
SUMMARY:Art Fest Sno Haven Pottery - Marinette
DESCRIPTION:Sno-Haven Pottery’s Art Fest is an outside event with local artists selling their creations. Entrance is free to attend the event\, for the shoppers. If you are an artist and interested in having a booth at this event then e-mail marciadefnet@gmail.com\, for an application. Or call 715-587-2163 for details\, or stop by the shop to pick up an application. The booth spaces are $40.00\, it is a juried event.
URL:https://upbarreview.com/event/art-fest-sno-haven-pottery-marinette/
LOCATION:Sno Haven Pottery\, 1215 9th St\, Marinette\, WI\, 54143
CATEGORIES:Menominee
END:VEVENT
BEGIN:VEVENT
DTSTART;TZID=UTC:20240719T100000
DTEND;TZID=UTC:20240719T130000
DTSTAMP:20260422T104146
CREATED:20240626T153751Z
LAST-MODIFIED:20240626T153751Z
UID:10000644-1721383200-1721394000@upbarreview.com
SUMMARY:Farmers Market - Wausaukee
DESCRIPTION:Weekly Farmers Market! Free vendor spots! Garden produce\, honey & jams\, flowers\, homemade crafts\, breads & pies!
URL:https://upbarreview.com/event/farmers-market-wausaukee/2024-07-19/
LOCATION:Wausaukee Farmers Market\, 536 Kenny Dr\, Wausaukee\, WI\, 54177
CATEGORIES:Menominee
END:VEVENT
BEGIN:VEVENT
DTSTART;TZID=UTC:20240719T110000
DTEND;TZID=UTC:20240719T160000
DTSTAMP:20260422T104146
CREATED:20240626T150822Z
LAST-MODIFIED:20240626T150822Z
UID:10000617-1721386800-1721404800@upbarreview.com
SUMMARY:Escanaba Pop-Up Market
DESCRIPTION:The Escanaba Pop-UP Market will begin a new season on Friday\, June 14 at the Escanaba Marketplace. It’s an opportunity for vendors to sell their products and shoppers to enjoy a unique open-air market.\nSeveral vendors will be at the Pop-UP Market from 11 a.m. to 4 p.m.\nPop-up markets are temporary retail space typically used to introduce a new product\, gauge consumer interest or generate awareness for a product or cause.\nThe Escanaba Marketplace is located at 1501 Ludington Street. The Pop-UP Market is in addition to the Escanaba Farmers Market that is already underway this season. The Escanaba Farmers Market runs on Wednesdays from 3 to 6 p.m. and Saturdays from 9 a.m. to noon.
URL:https://upbarreview.com/event/escanaba-pop-up-market/2024-07-19/
LOCATION:Escanaba Marketplace\, 1501 Ludington St\, Escanaba\, MI\, 49829
CATEGORIES:Menominee
END:VEVENT
BEGIN:VEVENT
DTSTART;TZID=UTC:20240719T140000
DTEND;TZID=UTC:20240719T190000
DTSTAMP:20260422T104146
CREATED:20240708T203044Z
LAST-MODIFIED:20240708T203135Z
UID:10001022-1721397600-1721415600@upbarreview.com
SUMMARY:2nd Annual Wisconsin Sand Sculpting Fest - Menominee
DESCRIPTION:The Wisconsin Sand Sculpting Festival\, the only one of its kind in the entire state of Wisconsin\, returns for it’s second year. A three-day event at Manitowoc’s Red Arrow Park and Beach\, this unique festival kicks off on Friday\, July 19 with competitive semi-pro sand sculptors beginning to construct their sculptures. An award ceremony will conclude the weekend on Sunday\, July 21 in the afternoon. Throughout the weekend\, attendees can watch and chat with competing sculptors in action\, participate in hands-on amateur competitions\, and watch sand sculpting demonstrations and speed sculpting shows. In addition\, there will be an entertainment tent featuring a variety of live performances\, food trucks\, cold drinks\, and vendor booths. Cash only.\nTickets are $5 a day or $10 for a 3 day pass. Children 2 and under are free.\nEvent ScheduleFriday\, July 19 – 2:00 PM to 7:00 PMSaturday\, July 20 – 10:00 AM to 7:00 PMSunday\, July 21 – 10:00 AM to 5:00 PM\nThis event is brought to the community in partnership between the Manitowoc Sunrise Rotary\, Visit Manitowoc and The Sand Lovers.
URL:https://upbarreview.com/event/2nd-annual-wisconsin-sand-sculpting-fest-menominee/2024-07-19/
LOCATION:Red Arrow Park\, 318 E Bay Shore St\, Marinette\, WI\, 54143
CATEGORIES:Menominee
END:VEVENT
BEGIN:VEVENT
DTSTART;TZID=UTC:20240719T160000
DTEND;TZID=UTC:20240719T190000
DTSTAMP:20260422T104146
CREATED:20240708T203730Z
LAST-MODIFIED:20240708T203730Z
UID:10001030-1721404800-1721415600@upbarreview.com
SUMMARY:Upper Hand Brewery - Live Music & Food Truck - Escanaba
DESCRIPTION:Live Music and food trucks every Tuesday\, Friday\, & Sunday in July
URL:https://upbarreview.com/event/upper-hand-brewery-live-music-food-truck-escanaba/2024-07-19/
LOCATION:Upper Hand Brewery\, 3525 Airport Rd\, Escanaba\, WI\, 49829
CATEGORIES:Menominee
END:VEVENT
BEGIN:VEVENT
DTSTART;TZID=UTC:20240719T180000
DTEND;TZID=UTC:20240719T230000
DTSTAMP:20260422T104146
CREATED:20240627T231346Z
LAST-MODIFIED:20240627T231346Z
UID:10000869-1721412000-1721430000@upbarreview.com
SUMMARY:Firemans Picnic - Coleman
DESCRIPTION:Located at the Coleman Ball Park\nFriday\, July 19thYouth BaseballDj and Karaoke\nSaturday\, July 20th\nYouth BaseballVolleyball TournamentCornhole TournamentParade at 10:30amCraft and vendor ShowMusical Brass @ 1pm to 5pmTen Cases Later @ 7pm to 11 pmRafflesBike GiveawayKids BalloonsFireworks at Dusk
URL:https://upbarreview.com/event/firemans-picnic-coleman/
LOCATION:Coleman Ball Park\, Coleman\, WI
CATEGORIES:Menominee
END:VEVENT
BEGIN:VEVENT
DTSTART;TZID=UTC:20240719T190000
DTEND;TZID=UTC:20240719T213000
DTSTAMP:20260422T104146
CREATED:20240626T183318Z
LAST-MODIFIED:20240626T183318Z
UID:10000828-1721415600-1721424600@upbarreview.com
SUMMARY:Christ Centered Music Night & Bonfire - Wallace
DESCRIPTION:Join us for a Christ-Centered night of music & fellowship at our first Open Mic @ The Cabin! A bonfire & s’more potluck will follow music night. Pre-registration for performance is required\, text/call Emily 906-424-0326 by July 9th.
URL:https://upbarreview.com/event/christ-centered-music-night-bonfire-wallace/
LOCATION:Cedar Hill Ministries\, N5098 US Highway 41\, Wallace\, MI\, 49893
CATEGORIES:Menominee
END:VEVENT
BEGIN:VEVENT
DTSTART;TZID=UTC:20240719T190000
DTEND;TZID=UTC:20240719T220000
DTSTAMP:20260422T104146
CREATED:20240626T180845Z
LAST-MODIFIED:20240626T180845Z
UID:10000749-1721415600-1721426400@upbarreview.com
SUMMARY:Matilda: The Musical - Marinette
DESCRIPTION:Theatre on the Bay produces\, “Matilda: The Musical”\, this summer!\nInspired by the twisted genius of Roald Dahl\, the Tony Award-winning Roald Dahl’s Matilda The Musical is the captivating masterpiece from the Royal Shakespeare Company that revels in the anarchy of childhood\, the power of imagination and the inspiring story of a girl who dreams of a better life. With a book adaption by Dennis Kelly and original songs by Tim Minchin\, Matilda has won 47 international awards and continues to thrill sold-out audiences of all ages around the world.\nPacked with high-energy dance numbers\, catchy songs and an unforgettable star turn for a young actress\, Matilda is a joyous girl power romp. Children and adults alike will be thrilled and delighted by the story of the special little girl with an extraordinary imagination.\n\nTICKETS ON SALE NOW \nGet your tickets for Theatre on the Bay’s summer musical!July 19\, 20\, 21 and 26\, 27\, 28\n Buy online\, over the phone\, in person at the doors!\nBuy over the Phone:715-504-3351 (please leave a message if you get no answer. All messages will be returned)\nBuy at the Box Office:Box office opens 1-hour before show time (Please note that we are CASHLESS for all ticket sales)\nBuy online at the ticket link!
URL:https://upbarreview.com/event/matilda-the-musical-marinette/2024-07-19/
LOCATION:UW Marinette Campus\, 750 W Bay Shore St\, Marinette\, WI\, 54143
CATEGORIES:Menominee
END:VEVENT
BEGIN:VEVENT
DTSTART;TZID=UTC:20240719T193000
DTEND;TZID=UTC:20240719T220000
DTSTAMP:20260422T104146
CREATED:20240626T174501Z
LAST-MODIFIED:20240626T174806Z
UID:10000739-1721417400-1721426400@upbarreview.com
SUMMARY:Glow Paddle 2024- Shakey Lakes
DESCRIPTION:$15 (Cash/Check) advance tickets through July 18th at Wind Rose North Outfitters\, Menominee\, MI or $20 at the event. Kids 12 and under are FREE.Prizes for the Most Elaborate\, Best Theme\, Most SeaworthyTheme is GHOSTBUSTERS5 Prizes valued at $100 or more! Must be present to win.Grand Prize: Winners Choice:Wind Rose North “Mystery” KayakEno HammockYeti CoolerRunners Up:Paidl’s $100 Gift CardStephenson Marketing Co-op $100 Gift Card
URL:https://upbarreview.com/event/glow-paddle-2024-shakey-lakes/
LOCATION:Shakey Lakes County Park\, N-8390 County Park Road\, Stephenson\, MI\, 49887
CATEGORIES:Menominee
END:VEVENT
END:VCALENDAR