BEGIN:VCALENDAR
VERSION:2.0
PRODID:-//UP BAR REVIEW - ECPv6.14.2//NONSGML v1.0//EN
CALSCALE:GREGORIAN
METHOD:PUBLISH
X-ORIGINAL-URL:https://upbarreview.com
X-WR-CALDESC:Events for UP BAR REVIEW
REFRESH-INTERVAL;VALUE=DURATION:PT1H
X-Robots-Tag:noindex
X-PUBLISHED-TTL:PT1H
BEGIN:VTIMEZONE
TZID:UTC
BEGIN:STANDARD
TZOFFSETFROM:+0000
TZOFFSETTO:+0000
TZNAME:UTC
DTSTART:20240101T000000
END:STANDARD
END:VTIMEZONE
BEGIN:VEVENT
DTSTART;TZID=UTC:20240714T080000
DTEND;TZID=UTC:20240714T170000
DTSTAMP:20260420T210441
CREATED:20240628T212447Z
LAST-MODIFIED:20240628T212447Z
UID:10000992-1720944000-1720976400@upbarreview.com
SUMMARY:Ironworks - Sunday Funday Live Music - Marinette
DESCRIPTION:Check it out! Live Music this Sunday at IRONWORKS! We have music every Sunday!
URL:https://upbarreview.com/event/ironworks-sunday-funday-live-music-marinette/2024-07-14/
LOCATION:Ironworks\, 1333 Main St.\, Marinette\, WI\, 54143\, United States
CATEGORIES:Menominee
END:VEVENT
BEGIN:VEVENT
DTSTART;TZID=UTC:20240714T110000
DTEND;TZID=UTC:20240714T180000
DTSTAMP:20260420T210441
CREATED:20240707T164219Z
LAST-MODIFIED:20240707T164219Z
UID:10001017-1720954800-1720980000@upbarreview.com
SUMMARY:The Shipyard - One Year Anniversary Party - Marinette
DESCRIPTION:Come hang out and have some drinks for our one year anniversary party! Fun starts at 11AM
URL:https://upbarreview.com/event/the-shipyard-one-year-anniversary-party-marinette/
LOCATION:The Shipyard\, 739 Main St.\, Marinette\, WI\, 54143
CATEGORIES:Menominee
END:VEVENT
BEGIN:VEVENT
DTSTART;TZID=UTC:20240714T160000
DTEND;TZID=UTC:20240714T190000
DTSTAMP:20260420T210441
CREATED:20240708T203730Z
LAST-MODIFIED:20240708T203730Z
UID:10001028-1720972800-1720983600@upbarreview.com
SUMMARY:Upper Hand Brewery - Live Music & Food Truck - Escanaba
DESCRIPTION:Live Music and food trucks every Tuesday\, Friday\, & Sunday in July
URL:https://upbarreview.com/event/upper-hand-brewery-live-music-food-truck-escanaba/2024-07-14/
LOCATION:Upper Hand Brewery\, 3525 Airport Rd\, Escanaba\, WI\, 49829
CATEGORIES:Menominee
END:VEVENT
END:VCALENDAR