BEGIN:VCALENDAR
VERSION:2.0
PRODID:-//UP BAR REVIEW - ECPv6.14.2//NONSGML v1.0//EN
CALSCALE:GREGORIAN
METHOD:PUBLISH
X-ORIGINAL-URL:https://upbarreview.com
X-WR-CALDESC:Events for UP BAR REVIEW
REFRESH-INTERVAL;VALUE=DURATION:PT1H
X-Robots-Tag:noindex
X-PUBLISHED-TTL:PT1H
BEGIN:VTIMEZONE
TZID:UTC
BEGIN:STANDARD
TZOFFSETFROM:+0000
TZOFFSETTO:+0000
TZNAME:UTC
DTSTART:20240101T000000
END:STANDARD
END:VTIMEZONE
BEGIN:VEVENT
DTSTART;TZID=UTC:20240713T090000
DTEND;TZID=UTC:20240713T120000
DTSTAMP:20260420T211146
CREATED:20240530T023124Z
LAST-MODIFIED:20240826T230940Z
UID:10000214-1720861200-1720872000@upbarreview.com
SUMMARY:Menominee Historic Downtown Farmers' Market
DESCRIPTION:“The Menominee Historic Downtown Farmers’ Market will be held on Saturday mornings from 9am-12pm. \nThe Market will be located at 940 1st Street (Spies Public Library Parking Lot)”
URL:https://upbarreview.com/event/menominee-historic-downtown-farmers-market-4/2024-07-13/
LOCATION:Spies Public Library\, 940 1st St.\, Menominee\, MI\, 49858
CATEGORIES:Menominee
END:VEVENT
BEGIN:VEVENT
DTSTART;TZID=UTC:20240713T090000
DTEND;TZID=UTC:20240713T120000
DTSTAMP:20260420T211146
CREATED:20240626T150940Z
LAST-MODIFIED:20240728T212955Z
UID:10000626-1720861200-1720872000@upbarreview.com
SUMMARY:Escanaba Farmers Market
DESCRIPTION:The Escanaba Farmers Market runs on Wednesdays from 3 to 6 p.m. and Saturdays from 9 a.m. to noon.
URL:https://upbarreview.com/event/escanaba-farmers-market-2/2024-07-13/
LOCATION:Escanaba Marketplace\, 1501 Ludington St\, Escanaba\, MI\, 49829
CATEGORIES:Menominee
END:VEVENT
BEGIN:VEVENT
DTSTART;TZID=UTC:20240713T090000
DTEND;TZID=UTC:20240713T120000
DTSTAMP:20260420T211146
CREATED:20240627T232622Z
LAST-MODIFIED:20240627T232622Z
UID:10000877-1720861200-1720872000@upbarreview.com
SUMMARY:The River Pub - River Cities Charity Ride - Peshtigo
DESCRIPTION:Get ready for our 14th Annual River Cities Charity Ride! Registration starts at 9am-10:30am at the Rivers Pub in Peshtigo. $15 a driver or $20 with a passenger. You can also pre register on our website\, triplecriders.org All proceeds will go to the UP Foster Closet. We hope to see you all there
URL:https://upbarreview.com/event/the-river-pub-river-cities-charity-ride-peshtigo/
LOCATION:The River Pub\, 200 French St\, Peshtigo\, WI\, 54157
CATEGORIES:Menominee
END:VEVENT
BEGIN:VEVENT
DTSTART;TZID=UTC:20240713T090000
DTEND;TZID=UTC:20240713T140000
DTSTAMP:20260420T211146
CREATED:20240530T191142Z
LAST-MODIFIED:20240530T191142Z
UID:10000438-1720861200-1720879200@upbarreview.com
SUMMARY:Coleman - Front Porch Flea Market
DESCRIPTION:Front Porch Market Flea Market\n2nd Saturday of each Month May-Oct
URL:https://upbarreview.com/event/coleman-front-porch-flea-market/2024-07-13/
LOCATION:Front Porch Market\, W8897 County Road M\, Coleman\, WI\, 54112
CATEGORIES:Menominee
END:VEVENT
BEGIN:VEVENT
DTSTART;TZID=UTC:20240713T090000
DTEND;TZID=UTC:20240713T160000
DTSTAMP:20260420T211146
CREATED:20240627T232411Z
LAST-MODIFIED:20240627T232411Z
UID:10000876-1720861200-1720886400@upbarreview.com
SUMMARY:Garden Walk - Marinette/Peshtigo
DESCRIPTION:GARDEN WALK\nDate:  Saturday\, July 13\, 2024\nTime:  9:00 am – 4:00 pm \nThe 2024 Northern Lights Master Gardeners Association Inc. Garden Walk will be held on Saturday\, July 13 from 9:00am – 4:00pm (rain or shine). This self-guided walking tour features six all new beautiful private gardens in Marinette and Peshtigo as well as the Harmony Demonstration Gardens (the home of NLMGAI) in Peshtigo. Gardens can be visited in any order.  Host gardeners have made this event possible by allowing attendees access to view their beautiful properties. Their gardens will inspire you whether you have a small city lot or acres in which to garden. Several locations will have artwork or plants for sale. New this year is a drawing for a home visit by Master Gardeners.  This is your chance to win research-based advice specifically for your garden! \nPlease note that some gardens have stairways\, narrow walkways or uneven terrain. Visit at your own risk. Visitors should wear comfortable outdoor attire. The Garden Walk ticket includes a map to help you plan your itinerary.  Included with the ticket envelope is a list of participating restaurants that are in the area and will give a discount (for the day/evening of the Garden Walk only). \nTickets are $10.  Advance tickets are available beginning June 1 at Jack’s Fresh Market (Menominee or Marinette-Roosevelt Road)\, and Marinette Farm & Garden (Marinette) beginning June 1. Children 12 and under are free\, but must be accompanied by an adult. Tickets will also be available the day of the Garden Walk at any of the Garden Walk homes. The exact addresses will be posted on our Facebook page on July 7. Every Sunday\, check our Facebook page for a Garden Walk Sneak Peek of one of the gardens – pictures included! \nQuestions? Email us at: northernlightsgardenwalk@gmail.com or send us a private message via our Facebook page. \nFunds raised from the Garden Walk support Northern Lights Master Gardener Association Inc. (NLMGAI) educational programming and Harmony Arboretum. NLMGAI is a is a tax-exempt non-profit corporation under Chapter 501(c)(3) of the Internal Revenue Code. \nLocation: Six private gardens in Marinette and Peshtigo + Harmony Gardens in Peshtigo
URL:https://upbarreview.com/event/garden-walk-marinette-peshtigo/
LOCATION:Multiple Locations
CATEGORIES:Menominee
END:VEVENT
BEGIN:VEVENT
DTSTART;TZID=UTC:20240713T100000
DTEND;TZID=UTC:20240713T140000
DTSTAMP:20260420T211146
CREATED:20240626T163133Z
LAST-MODIFIED:20240626T163133Z
UID:10000733-1720864800-1720879200@upbarreview.com
SUMMARY:6th Year Anniversary Part - Grooming by Jackie - Menominee
DESCRIPTION:ITS ALMOST TIME TO PARTY!!\nSave the date!! Saturday July 13th\, from 10-2 is our annual open house!!! This is our 6th year anniversary party!! FREE NAIL TRIMS\, FREE HOTDOGS\, GIVEAWAYS AND DONATION JAR!!\nCome help us celebrate and have a great time!! Even just to pop in and say hi if you don’t have a furbaby!!! Share Share Share!! Let’s make this our biggest turnout yet!!!
URL:https://upbarreview.com/event/6th-year-anniversary-part-grooming-by-jackie-menominee/
LOCATION:Grooming by Jackie\, 921 US-41\, Menominee\, MI\, 49858
CATEGORIES:Menominee
END:VEVENT
BEGIN:VEVENT
DTSTART;TZID=UTC:20240713T120000
DTEND;TZID=UTC:20240713T160000
DTSTAMP:20260420T211146
CREATED:20240608T024650Z
LAST-MODIFIED:20240608T024650Z
UID:10000532-1720872000-1720886400@upbarreview.com
SUMMARY:The Forgotten Fire Winery - Live Music Campfire Kevin Murphy
DESCRIPTION:Live music on the outdoor stage with Campfire Kevin Murphy!\nFood vendor: A Place for Max \nWe have picnic table space is available for seating\, but we recommended grabbing your lawn chairs just in case! \n** Reminder! Alcoholic carry-ins are not permitted per state law. Dogs are welcome as long as they are on a leash and well behaved. **
URL:https://upbarreview.com/event/the-forgotten-fire-winery-live-music-campfire-kevin-murphy/
LOCATION:Forgotten Fire Winery\, N2393 Schacht Road\, Marinette\, WI\, 54143\, United States
CATEGORIES:Menominee
END:VEVENT
BEGIN:VEVENT
DTSTART;TZID=UTC:20240713T120000
DTEND;TZID=UTC:20240713T230000
DTSTAMP:20260420T211146
CREATED:20240626T144900Z
LAST-MODIFIED:20240626T144900Z
UID:10000546-1720872000-1720911600@upbarreview.com
SUMMARY:Logging & Heritage Festival - Stephenson Island
DESCRIPTION:BIGGER and BETTER than ever\, this year’s Logging and Heritage Festival features a rock climbing wall\, bungee jumpers\, live music\, food and art vendors\, and MORE!
URL:https://upbarreview.com/event/logging-heritage-festival-stephenson-island/
LOCATION:Stephenson Island\, Marinette\, WI\, 54143
CATEGORIES:Menominee
END:VEVENT
BEGIN:VEVENT
DTSTART;TZID=UTC:20240713T130000
DTEND;TZID=UTC:20240713T143000
DTSTAMP:20260420T211146
CREATED:20240626T194717Z
LAST-MODIFIED:20240628T184246Z
UID:10000859-1720875600-1720881000@upbarreview.com
SUMMARY:The Craft Cave - Mosaic Bird Bath - Marinette
DESCRIPTION:Mosaic bird bath/ tray 11 inches round. 2 part class\, design and glue at first class and come back for 2 nd class to grout. Class is 40$\, BYOB. Sign up is ONLY BY PHONE CALL. Call to sign up at 715-587-4643.
URL:https://upbarreview.com/event/the-craft-cave-mosaic-bird-bath-marinette/2024-07-13/
LOCATION:The Craft Cave\, 605 Main St.\, Marinette\, WI\, 54143\, United States
CATEGORIES:Menominee
END:VEVENT
BEGIN:VEVENT
DTSTART;TZID=UTC:20240713T183000
DTEND;TZID=UTC:20240713T200000
DTSTAMP:20260420T211146
CREATED:20240530T190522Z
LAST-MODIFIED:20240728T212249Z
UID:10000324-1720895400-1720900800@upbarreview.com
SUMMARY:Twin Bridge Waterski Team
DESCRIPTION:Pre-Shows Start at 6:30PM\n​Bring a lawn chair or a blanket for seating! \n​​Twin Bridge Ski Team Show Schedule  2024\nSat June 8th (rehearsal)\nThur June 13th (first Show)\nSat June 15th\nThur June 20st\nSat June 22th\nThur June 27th\nSat June 29th\nThur July 4th\nSat July 6th – Fireworks\nThur July 11th\nSat July 13th – Fireworks Rain date\nSun July 14th – Sponsor Show (Public Welcome)\nThur July 18th – No Show WI State\nSat July 20th – No Show WI State\nThur July 25th\nSat July 27th\nSun July 28th – Learn to Ski\nThur Aug 1st\nSat Aug 3rd – No Show\nThur Aug 8th\nSat Aug 10th – Last Show\nAug 17-18 Crandon Footstock
URL:https://upbarreview.com/event/twin-bridge-waterski-team/2024-07-13/
LOCATION:Boat Landing 3 Rd\, High Falls Flowage\, Stephenson\, WI\, 54114
CATEGORIES:Menominee
END:VEVENT
BEGIN:VEVENT
DTSTART;TZID=UTC:20240713T203000
DTEND;TZID=UTC:20240713T223000
DTSTAMP:20260420T211146
CREATED:20240626T183118Z
LAST-MODIFIED:20240728T213120Z
UID:10000760-1720902600-1720909800@upbarreview.com
SUMMARY:The Ruins Adventure Mini Golf - Glow Golf - Oconto
DESCRIPTION:Every Saturday Night @ Dusk! Night golf with colorful lights\, music\, laughter! Get outside with friends and family – or date night! We have premium ice cream\, floats\, beer\, wine and selzers. Great places to sit\, relax and converse after your round. Starts at sunset (changes slightly over time. Ask Siri or Alexa when sunset it). Last game must start one hour before closing. Glow Gear to first 100 golfers! $8.75 includes tax! Do something different with a great vibe! See you Saturday! WEATHER PENDING – UPDATES ON FACEBOOK
URL:https://upbarreview.com/event/the-ruins-adventure-mini-golf-glow-golf-oconto/2024-07-13/
LOCATION:The Ruins Adventure Mini Golf\, 150 Howard Ln\, Oconto\, WI\, 54153
CATEGORIES:Menominee
END:VEVENT
END:VCALENDAR