BEGIN:VCALENDAR
VERSION:2.0
PRODID:-//UP BAR REVIEW - ECPv6.14.2//NONSGML v1.0//EN
CALSCALE:GREGORIAN
METHOD:PUBLISH
X-WR-CALNAME:UP BAR REVIEW
X-ORIGINAL-URL:https://upbarreview.com
X-WR-CALDESC:Events for UP BAR REVIEW
REFRESH-INTERVAL;VALUE=DURATION:PT1H
X-Robots-Tag:noindex
X-PUBLISHED-TTL:PT1H
BEGIN:VTIMEZONE
TZID:UTC
BEGIN:STANDARD
TZOFFSETFROM:+0000
TZOFFSETTO:+0000
TZNAME:UTC
DTSTART:20240101T000000
END:STANDARD
END:VTIMEZONE
BEGIN:VEVENT
DTSTART;TZID=UTC:20240712T110000
DTEND;TZID=UTC:20240712T160000
DTSTAMP:20260420T210838
CREATED:20240626T150822Z
LAST-MODIFIED:20240626T150822Z
UID:10000616-1720782000-1720800000@upbarreview.com
SUMMARY:Escanaba Pop-Up Market
DESCRIPTION:The Escanaba Pop-UP Market will begin a new season on Friday\, June 14 at the Escanaba Marketplace. It’s an opportunity for vendors to sell their products and shoppers to enjoy a unique open-air market.\nSeveral vendors will be at the Pop-UP Market from 11 a.m. to 4 p.m.\nPop-up markets are temporary retail space typically used to introduce a new product\, gauge consumer interest or generate awareness for a product or cause.\nThe Escanaba Marketplace is located at 1501 Ludington Street. The Pop-UP Market is in addition to the Escanaba Farmers Market that is already underway this season. The Escanaba Farmers Market runs on Wednesdays from 3 to 6 p.m. and Saturdays from 9 a.m. to noon.
URL:https://upbarreview.com/event/escanaba-pop-up-market/2024-07-12/
LOCATION:Escanaba Marketplace\, 1501 Ludington St\, Escanaba\, MI\, 49829
CATEGORIES:Menominee
END:VEVENT
BEGIN:VEVENT
DTSTART;TZID=UTC:20240712T160000
DTEND;TZID=UTC:20240712T190000
DTSTAMP:20260420T210838
CREATED:20240708T203730Z
LAST-MODIFIED:20240708T203730Z
UID:10001027-1720800000-1720810800@upbarreview.com
SUMMARY:Upper Hand Brewery - Live Music & Food Truck - Escanaba
DESCRIPTION:Live Music and food trucks every Tuesday\, Friday\, & Sunday in July
URL:https://upbarreview.com/event/upper-hand-brewery-live-music-food-truck-escanaba/2024-07-12/
LOCATION:Upper Hand Brewery\, 3525 Airport Rd\, Escanaba\, WI\, 49829
CATEGORIES:Menominee
END:VEVENT
END:VCALENDAR